From mboxrd@z Thu Jan  1 00:00:00 1970
Return-Path: <test-report-bounces@dpdk.org>
Received: from mails.dpdk.org (mails.dpdk.org [217.70.189.124])
	by inbox.dpdk.org (Postfix) with ESMTP id C25E845769
	for <public@inbox.dpdk.org>; Thu,  8 Aug 2024 10:15:48 +0200 (CEST)
Received: from mails.dpdk.org (localhost [127.0.0.1])
	by mails.dpdk.org (Postfix) with ESMTP id BDDCA40A80;
	Thu,  8 Aug 2024 10:15:48 +0200 (CEST)
Received: from mail-yw1-f226.google.com (mail-yw1-f226.google.com
 [209.85.128.226])
 by mails.dpdk.org (Postfix) with ESMTP id 1FDF640696
 for <test-report@dpdk.org>; Thu,  8 Aug 2024 10:15:47 +0200 (CEST)
Received: by mail-yw1-f226.google.com with SMTP id
 00721157ae682-690e9001e01so7465567b3.3
 for <test-report@dpdk.org>; Thu, 08 Aug 2024 01:15:47 -0700 (PDT)
DKIM-Signature: v=1; a=rsa-sha256; c=relaxed/relaxed;
 d=iol.unh.edu; s=unh-iol; t=1723104946; x=1723709746; darn=dpdk.org;
 h=references:in-reply-to:cc:to:from:subject:message-id:date:from:to
 :cc:subject:date:message-id:reply-to;
 bh=/UxMsI2Tw09GIAN3Zk7fW99jJodYYhm3oY1kYbSsp7s=;
 b=F2pV46oDAxvrVRfR+mgh6fOJMzqsBjVUjvryrIN9+pHrkwSvypBSFMBldSSquygWfj
 XaApO+HuhihkjpUY6dm5uPzSRlst3hX7cP7KINBINaV9bPF89PJdQg1XESFar/X9PvKr
 ZkAC0yCdmNOgulhD09xFXcDt0i1P/8zXhVYYE=
X-Google-DKIM-Signature: v=1; a=rsa-sha256; c=relaxed/relaxed;
 d=1e100.net; s=20230601; t=1723104946; x=1723709746;
 h=references:in-reply-to:cc:to:from:subject:message-id:date
 :x-gm-message-state:from:to:cc:subject:date:message-id:reply-to;
 bh=/UxMsI2Tw09GIAN3Zk7fW99jJodYYhm3oY1kYbSsp7s=;
 b=Axp0/zS0cS7lAlKQUzIUF/9iVH2955bENYsjaBOg84EYQqScQkCi0f95E8/x1DSVmm
 RRoa+HhXczWIs37P0s1tVsXUjHZS+gx/7VEmtSSWpdhbmgQy9s0U80ZJTPM7oUlXXxZW
 gEHOsjtdyX78icgfKKqo/TZrdHE3buFFh8gVx4PCD5SeDqJpOT0zMc9eMLNnK7kPh7yy
 PhJZRP3Zk1VvVlPaNsCgIzCa3Uri228d2758J8OnSRTCYK8huUhUZIrzBfpPMWLgZ6cp
 F8KKkRIoFoxZPQhjGUcuyy1Vafae0SkaziHjrv7lx7CwZKqtxzNlN+KAQZ9VqqBUuFRr
 AuVg==
X-Gm-Message-State: AOJu0YyEafmZh/WV88av2N7fpAMRXTqufWKSqUPY1naModKh35cfMO86
 ZXMtsPJOCIxetdXcBl/hugf8aRED/Fj/6NVWGkMvXSUw4Llke0xR3TKDm0LkiFCkLnEdbBggEAz
 ELXlLV9deRCPSX5GcgKgQlusYcGtRqom4rcrf4oOW
X-Google-Smtp-Source: AGHT+IFr88AyaWkRw9ai1oSlL63iikYOUExTI2shBEo4UZZcS+2llvqf2TH0BEnfL/yUfSjQvh6+9flzQKlv
X-Received: by 2002:a05:690c:4b85:b0:64b:7e17:b347 with SMTP id
 00721157ae682-69bf7dfdd43mr10879307b3.15.1723104946480; 
 Thu, 08 Aug 2024 01:15:46 -0700 (PDT)
Received: from postal.iol.unh.edu (postal.iol.unh.edu. [132.177.123.84])
 by smtp-relay.gmail.com with ESMTPS id
 00721157ae682-68a12a2d5a8sm15313277b3.29.2024.08.08.01.15.46
 (version=TLS1_2 cipher=ECDHE-ECDSA-AES128-GCM-SHA256 bits=128/128);
 Thu, 08 Aug 2024 01:15:46 -0700 (PDT)
X-Relaying-Domain: iol.unh.edu
Date: Thu, 08 Aug 2024 01:15:46 -0700 (PDT)
Message-ID: <66b47eb2.0d0a0220.22f94c.69e4SMTPIN_ADDED_MISSING@mx.google.com>
Received: from [172.21.0.7] (unknown [172.18.0.240])
 by postal.iol.unh.edu (Postfix) with ESMTP id 1BCFB60524C8;
 Thu,  8 Aug 2024 04:15:46 -0400 (EDT)
Subject: |PENDING| pw143009-143010 [PATCH] [v3,2/2] common/mlx5: reduce HCA a
From: dpdklab@iol.unh.edu
To: Test Report <test-report@dpdk.org>
Cc: dpdk-test-reports@iol.unh.edu
In-Reply-To: <20240807204406.700332-3-igootorov@gmail.com>
References: <20240807204406.700332-3-igootorov@gmail.com>
Content-Type: text/plain
X-BeenThere: test-report@dpdk.org
X-Mailman-Version: 2.1.29
Precedence: list
List-Id: automatic DPDK test reports <test-report.dpdk.org>
List-Unsubscribe: <https://mails.dpdk.org/options/test-report>,
 <mailto:test-report-request@dpdk.org?subject=unsubscribe>
List-Archive: <http://mails.dpdk.org/archives/test-report/>
List-Post: <mailto:test-report@dpdk.org>
List-Help: <mailto:test-report-request@dpdk.org?subject=help>
List-Subscribe: <https://mails.dpdk.org/listinfo/test-report>,
 <mailto:test-report-request@dpdk.org?subject=subscribe>
Errors-To: test-report-bounces@dpdk.org

Test-Label: iol-unit-arm64-testing
Test-Status: PENDING
http://dpdk.org/patch/143010

_Testing pending_

Submitter: Igor Gutorov <igootorov@gmail.com>
Date: Wednesday, August 07 2024 20:44:06 
DPDK git baseline: Repo:dpdk
  Branch: master
  CommitID:82c47f005b9a0a1e3a649664b7713443d18abe43

143009-143010 --> testing pending

Upstream job id: Generic-Unit-Test-DPDK#249756

Test environment and result as below:

+-----------------------------+---------------------------+--------------+----------------+------------------------------+
|         Environment         | cryptodev_sw_zuc_autotest | lpm_autotest | dpdk_unit_test | cryptodev_sw_snow3g_autotest |
+=============================+===========================+==============+================+==============================+
| Debian 12 (arm)             | PASS                      | SKIPPED      | PASS           | PEND                         |
+-----------------------------+---------------------------+--------------+----------------+------------------------------+
| Ubuntu 20.04 ARM SVE        | SKIPPED                   | PEND         | SKIPPED        | SKIPPED                      |
+-----------------------------+---------------------------+--------------+----------------+------------------------------+
| CentOS Stream 9 (ARM)       | SKIPPED                   | SKIPPED      | PASS           | SKIPPED                      |
+-----------------------------+---------------------------+--------------+----------------+------------------------------+
| Debian 11 (Buster) (ARM)    | SKIPPED                   | SKIPPED      | PASS           | SKIPPED                      |
+-----------------------------+---------------------------+--------------+----------------+------------------------------+
| Fedora 37 (ARM)             | SKIPPED                   | SKIPPED      | PASS           | SKIPPED                      |
+-----------------------------+---------------------------+--------------+----------------+------------------------------+
| 32-bit Ubuntu 20.04.4 (ARM) | SKIPPED                   | SKIPPED      | PASS           | SKIPPED                      |
+-----------------------------+---------------------------+--------------+----------------+------------------------------+
| Fedora 38 (ARM)             | SKIPPED                   | SKIPPED      | PASS           | SKIPPED                      |
+-----------------------------+---------------------------+--------------+----------------+------------------------------+
| Fedora 38 (ARM Clang)       | SKIPPED                   | SKIPPED      | PASS           | SKIPPED                      |
+-----------------------------+---------------------------+--------------+----------------+------------------------------+
| Fedora 39 (ARM)             | SKIPPED                   | SKIPPED      | PASS           | SKIPPED                      |
+-----------------------------+---------------------------+--------------+----------------+------------------------------+
| Fedora 39 (ARM Clang)       | SKIPPED                   | SKIPPED      | PASS           | SKIPPED                      |
+-----------------------------+---------------------------+--------------+----------------+------------------------------+
| Fedora 40 (ARM)             | SKIPPED                   | SKIPPED      | PASS           | SKIPPED                      |
+-----------------------------+---------------------------+--------------+----------------+------------------------------+
| Fedora 40 (ARM Clang)       | SKIPPED                   | SKIPPED      | PASS           | SKIPPED                      |
+-----------------------------+---------------------------+--------------+----------------+------------------------------+
| RHEL9 (ARM)                 | SKIPPED                   | SKIPPED      | PASS           | SKIPPED                      |
+-----------------------------+---------------------------+--------------+----------------+------------------------------+
| Ubuntu 20.04 (ARM)          | SKIPPED                   | SKIPPED      | PASS           | SKIPPED                      |
+-----------------------------+---------------------------+--------------+----------------+------------------------------+
| Ubuntu 22.04 (ARM)          | SKIPPED                   | SKIPPED      | PEND           | SKIPPED                      |
+-----------------------------+---------------------------+--------------+----------------+------------------------------+
| Ubuntu 24.04 (ARM)          | SKIPPED                   | SKIPPED      | PEND           | SKIPPED                      |
+-----------------------------+---------------------------+--------------+----------------+------------------------------+


Debian 12 (arm)
	Kernel: Container Host Kernel
	Compiler: gcc 12.2.0

Ubuntu 20.04 ARM SVE
	Kernel: 5.4.0-167-generic
	Compiler: gcc (Ubuntu 10.5.0-1ubuntu1~20.04) 10.5.0

CentOS Stream 9 (ARM)
	Kernel: Container Host Kernel
	Compiler: gcc 11.4.1

Debian 11 (Buster) (ARM)
	Kernel: Container Host Kernel
	Compiler: gcc 10.2.1

Fedora 37 (ARM)
	Kernel: Depends on container host
	Compiler: gcc 12.3.1

32-bit Ubuntu 20.04.4 (ARM)
	Kernel: 5.4.0-155-generic aarch64
	Compiler: gcc 9.4

Fedora 38 (ARM)
	Kernel: Depends on container host
	Compiler: gcc 13.2.1

Fedora 38 (ARM Clang)
	Kernel: Depends on container host
	Compiler: clang 16.0.6

Fedora 39 (ARM)
	Kernel: Depends on container host
	Compiler: gcc 13.2.1

Fedora 39 (ARM Clang)
	Kernel: Depends on container host
	Compiler: clang 17.0.6

Fedora 40 (ARM)
	Kernel: Depends on container host
	Compiler: gcc 14.1.1

Fedora 40 (ARM Clang)
	Kernel: Depends on container host
	Compiler: clang 18.1.6

RHEL9 (ARM)
	Kernel: Depends on container host
	Compiler: gcc 11.4.1

Ubuntu 20.04 (ARM)
	Kernel: Container Host Kernel
	Compiler: gcc 9.4.0

Ubuntu 22.04 (ARM)
	Kernel: Container Host Kernel
	Compiler: gcc 11.4.0

Ubuntu 24.04 (ARM)
	Kernel: 5.4.0-167-generic
	Compiler: gcc 13.2.0

To view detailed results, visit:
https://lab.dpdk.org/results/dashboard/patchsets/30743/

UNH-IOL DPDK Community Lab

To manage your email subscriptions, visit: 
https://lab.dpdk.org/results/dashboard/preferences/subscriptions/