From mboxrd@z Thu Jan  1 00:00:00 1970
Return-Path: <test-report-bounces@dpdk.org>
Received: from mails.dpdk.org (mails.dpdk.org [217.70.189.124])
	by inbox.dpdk.org (Postfix) with ESMTP id D5EBE45769
	for <public@inbox.dpdk.org>; Thu,  8 Aug 2024 10:16:14 +0200 (CEST)
Received: from mails.dpdk.org (localhost [127.0.0.1])
	by mails.dpdk.org (Postfix) with ESMTP id D04B340A80;
	Thu,  8 Aug 2024 10:16:14 +0200 (CEST)
Received: from mail-qv1-f99.google.com (mail-qv1-f99.google.com
 [209.85.219.99]) by mails.dpdk.org (Postfix) with ESMTP id 34CD140696
 for <test-report@dpdk.org>; Thu,  8 Aug 2024 10:16:13 +0200 (CEST)
Received: by mail-qv1-f99.google.com with SMTP id
 6a1803df08f44-6bbc1cee9b7so4367706d6.3
 for <test-report@dpdk.org>; Thu, 08 Aug 2024 01:16:13 -0700 (PDT)
DKIM-Signature: v=1; a=rsa-sha256; c=relaxed/relaxed;
 d=iol.unh.edu; s=unh-iol; t=1723104972; x=1723709772; darn=dpdk.org;
 h=references:in-reply-to:cc:to:from:subject:message-id:date:from:to
 :cc:subject:date:message-id:reply-to;
 bh=dzndRDPcJ/d4bWA3XEPERF0dATsYmVhnhHW/7iXHEC8=;
 b=OLdW7+oVZBh+Ur+5l3mdzYsGrRSF9W4p4+U/HsxaZwqSgtwGjlk/BDJM1Llu4qtX5M
 eg1t/AiG8iKMM2kaFpZQLme2Fuj94ySyI7VMycyvhYw18n5V2/kOxwKRpfJ42AChl+IP
 Y+VyLIPCSrZtzbyhALFoFsJBeNC94r3OpEsEs=
X-Google-DKIM-Signature: v=1; a=rsa-sha256; c=relaxed/relaxed;
 d=1e100.net; s=20230601; t=1723104972; x=1723709772;
 h=references:in-reply-to:cc:to:from:subject:message-id:date
 :x-gm-message-state:from:to:cc:subject:date:message-id:reply-to;
 bh=dzndRDPcJ/d4bWA3XEPERF0dATsYmVhnhHW/7iXHEC8=;
 b=R2aNGllX/PQ7hYNKHGgdz40kQzLW9GED3aMkE6OSxy8sCNeecuPNTQg2gv+Ay7FzDg
 4mm3Ao3w9h08iDLDBjxftmk3jil33nBoq/U/aTOnDaI+89sLZ74FNLZeN/P78KwPmOhK
 altrku4Z9aIDgOg+ZLc3cor8JvfKn3hBrLp1fABxBw5yEsVxm8Ht4aHrhLKV8VSFiHdI
 7r0lJDXtdjoCNSKjH/qGSnHy4wmfj5eIReELPqobedv6cwxzRVLSG6uPUL8dffh8t27Q
 dIBTL5f8qogVvtSNPSHtFZMG0EI+E0VFbwbV3vdF/W+Zww1qsKSp82ry/ZEnOCZxhcUJ
 SRnA==
X-Gm-Message-State: AOJu0Yy+8xx88wgjyytKF6HSlTlIb75tERwNM610zhdahKWkM4RPL1fx
 XC5xaNS/GCjEM5nuaq3zZU+CQknrDXxdsrAk1g5Fzase8fyakrcHluAuEpSTjPuD5acw+Ck9BLv
 p2OD7NLPZ4SzVOgha1Df6qc6YrWxnwP+Vrq8/j9xCMcprxNtvRxZCRI2B
X-Google-Smtp-Source: AGHT+IFaJYqFGnK9oeU5MaTmy52XnTf1ScpsPzbVs1qqsim1Ge+R8Idf0tnSsVggImsok6CzvFKrZlyZ3Hai
X-Received: by 2002:a05:6214:43c9:b0:6bb:bdf0:e49c with SMTP id
 6a1803df08f44-6bd6bd1ef51mr14048586d6.31.1723104972504; 
 Thu, 08 Aug 2024 01:16:12 -0700 (PDT)
Received: from postal.iol.unh.edu (postal.iol.unh.edu.
 [2606:4100:3880:1234::84]) by smtp-relay.gmail.com with ESMTPS id
 6a1803df08f44-6bba164c6aesm10231066d6.54.2024.08.08.01.16.12
 (version=TLS1_2 cipher=ECDHE-ECDSA-AES128-GCM-SHA256 bits=128/128);
 Thu, 08 Aug 2024 01:16:12 -0700 (PDT)
X-Relaying-Domain: iol.unh.edu
Date: Thu, 08 Aug 2024 01:16:12 -0700 (PDT)
Message-ID: <66b47ecc.050a0220.148d50.09e7SMTPIN_ADDED_MISSING@mx.google.com>
Received: from [172.21.0.6] (unknown [172.18.0.240])
 by postal.iol.unh.edu (Postfix) with ESMTP id 2278B60524C8;
 Thu,  8 Aug 2024 04:16:12 -0400 (EDT)
Subject: |PENDING| pw143007-143008 [PATCH] [v13,2/2] dts: VLAN test suite imp
From: dpdklab@iol.unh.edu
To: Test Report <test-report@dpdk.org>
Cc: dpdk-test-reports@iol.unh.edu
In-Reply-To: <20240807194341.26102-3-dmarx@iol.unh.edu>
References: <20240807194341.26102-3-dmarx@iol.unh.edu>
Content-Type: text/plain
X-BeenThere: test-report@dpdk.org
X-Mailman-Version: 2.1.29
Precedence: list
List-Id: automatic DPDK test reports <test-report.dpdk.org>
List-Unsubscribe: <https://mails.dpdk.org/options/test-report>,
 <mailto:test-report-request@dpdk.org?subject=unsubscribe>
List-Archive: <http://mails.dpdk.org/archives/test-report/>
List-Post: <mailto:test-report@dpdk.org>
List-Help: <mailto:test-report-request@dpdk.org?subject=help>
List-Subscribe: <https://mails.dpdk.org/listinfo/test-report>,
 <mailto:test-report-request@dpdk.org?subject=subscribe>
Errors-To: test-report-bounces@dpdk.org

Test-Label: iol-compile-amd64-testing
Test-Status: PENDING
http://dpdk.org/patch/143008

_Testing pending_

Submitter: Dean Marx <dmarx@iol.unh.edu>
Date: Wednesday, August 07 2024 19:43:41 
DPDK git baseline: Repo:dpdk
  Branch: master
  CommitID:b3485f4293997d35b6daecc3437bb0c183a51fb3

143007-143008 --> testing pending

Upstream job id: Windows-Compile-DPDK-Meson#24167

Test environment and result as below:

+---------------------+--------------------+----------------------+-------------------+
|     Environment     | dpdk_meson_compile | dpdk_mingw64_compile | dpdk_msvc_compile |
+=====================+====================+======================+===================+
| Windows Server 2019 | PASS               | PASS                 | SKIPPED           |
+---------------------+--------------------+----------------------+-------------------+
| Windows Server 2022 | PASS               | PASS                 | PEND              |
+---------------------+--------------------+----------------------+-------------------+
| FreeBSD 13.3        | PASS               | SKIPPED              | SKIPPED           |
+---------------------+--------------------+----------------------+-------------------+
| FreeBSD 14.1        | PASS               | SKIPPED              | SKIPPED           |
+---------------------+--------------------+----------------------+-------------------+


Windows Server 2019
	Kernel: 10.0.17763
	Compiler: clang 14.0 and gcc 8.1.0 (MinGW)

Windows Server 2022
	Kernel: 10.0.20348.2031
	Compiler: clang 15.0.7, gcc 8.1.0 (MinGW), and MSVC VS 17.9

FreeBSD 13.3
	Kernel: 13.3-RELEASE-p1
	Compiler: clang 17.0.6

FreeBSD 14.1
	Kernel: 14.1
	Compiler: clang 18.1.5

To view detailed results, visit:
https://lab.dpdk.org/results/dashboard/patchsets/30742/

UNH-IOL DPDK Community Lab

To manage your email subscriptions, visit: 
https://lab.dpdk.org/results/dashboard/preferences/subscriptions/