From mboxrd@z Thu Jan  1 00:00:00 1970
Return-Path: <test-report-bounces@dpdk.org>
Received: from mails.dpdk.org (mails.dpdk.org [217.70.189.124])
	by inbox.dpdk.org (Postfix) with ESMTP id DA50845769
	for <public@inbox.dpdk.org>; Thu,  8 Aug 2024 10:19:28 +0200 (CEST)
Received: from mails.dpdk.org (localhost [127.0.0.1])
	by mails.dpdk.org (Postfix) with ESMTP id D6DF640A80;
	Thu,  8 Aug 2024 10:19:28 +0200 (CEST)
Received: from mail-pl1-f225.google.com (mail-pl1-f225.google.com
 [209.85.214.225])
 by mails.dpdk.org (Postfix) with ESMTP id D42D840696
 for <test-report@dpdk.org>; Thu,  8 Aug 2024 10:19:26 +0200 (CEST)
Received: by mail-pl1-f225.google.com with SMTP id
 d9443c01a7336-1fc587361b6so7103505ad.2
 for <test-report@dpdk.org>; Thu, 08 Aug 2024 01:19:26 -0700 (PDT)
DKIM-Signature: v=1; a=rsa-sha256; c=relaxed/relaxed;
 d=iol.unh.edu; s=unh-iol; t=1723105166; x=1723709966; darn=dpdk.org;
 h=references:in-reply-to:cc:to:from:subject:message-id:date:from:to
 :cc:subject:date:message-id:reply-to;
 bh=oaneKumwFFoX7ouNamnudpwK7Yt5tWdYy3WST+04M6E=;
 b=dcSxT9w63dixRHpTrCy3Pbn8wR+WG1rWffuOIxxoDSN63E/2QhbC+m6jME8o0UeKFh
 QDVrmCrNqtxUdgmvMbmeRmZku4HXlNCgFhuBoerUdR7q4jK+GY5+POBSKrFvvJkNxbEg
 qeXUqOW3EBAcJ52p93p/PdQvV6HEljMGDJNDM=
X-Google-DKIM-Signature: v=1; a=rsa-sha256; c=relaxed/relaxed;
 d=1e100.net; s=20230601; t=1723105166; x=1723709966;
 h=references:in-reply-to:cc:to:from:subject:message-id:date
 :x-gm-message-state:from:to:cc:subject:date:message-id:reply-to;
 bh=oaneKumwFFoX7ouNamnudpwK7Yt5tWdYy3WST+04M6E=;
 b=FH+rTtnJuLAtazzt8D6OvDfyyjNQ5olIdVOhtn5qTRh7whwPK52p2Y6jZGIymosWW2
 2TFfk4/9KDTd8PJOzq9vyrVRya5QbQYbYYW/SavGtaohJUJhQavySJy5c1bVConTV+vm
 q6JD6Zp488123CYQuFE1z31lWBf+mRMWt/jmlavfm6SA95oUKO1ylsx411DYPURQJXgv
 p9kRtn5j2pvf7YjiS6Sn9wmZS5xJ1TZwYD6YWjxmRGQzzXOuMVtJk1OVVcbJs/kqrua4
 Ayg7b7pQz6zmFH7SezY6tasIccT51pCi4ZGJ9gXj1BCsna1Js/HjsNMvfFK++XXMD3WP
 Ki3Q==
X-Gm-Message-State: AOJu0YzFmr6kyE4geS1o3iQqGMPf/Uc0qyTzgn3p40Lvhkd42cedVo44
 52PxBi+b4HtauYozclFlb8uIii1gaSkRkyC48T0zTu+LUYsJhN7Gvr0vnKyCOdQmMCE2dCa9mTL
 PmnWRCYCRbDLa2yd89k8cfidHDT5El8dKj3tmscVO
X-Google-Smtp-Source: AGHT+IHxGT4cVZ4ZdKN/DgTIVMBP3K8L1SH6sqNJ45EGbHT/hy0Nh0r20DR/SwfBQIIoHc/Dqzmj0GNlsARO
X-Received: by 2002:a17:902:d4cb:b0:1fc:287f:638 with SMTP id
 d9443c01a7336-200952247fcmr13600335ad.13.1723105165996; 
 Thu, 08 Aug 2024 01:19:25 -0700 (PDT)
Received: from postal.iol.unh.edu (postal.iol.unh.edu. [132.177.123.84])
 by smtp-relay.gmail.com with ESMTPS id
 d9443c01a7336-1ff593f2761sm10195825ad.21.2024.08.08.01.19.25
 (version=TLS1_2 cipher=ECDHE-ECDSA-AES128-GCM-SHA256 bits=128/128);
 Thu, 08 Aug 2024 01:19:25 -0700 (PDT)
X-Relaying-Domain: iol.unh.edu
Date: Thu, 08 Aug 2024 01:19:25 -0700 (PDT)
Message-ID: <66b47f8d.170a0220.15fa53.36a5SMTPIN_ADDED_MISSING@mx.google.com>
Received: from [172.21.0.8] (unknown [172.18.0.240])
 by postal.iol.unh.edu (Postfix) with ESMTP id 1E94060524C8;
 Thu,  8 Aug 2024 04:19:25 -0400 (EDT)
Subject: |SUCCESS| pw143007-143008 [PATCH] [v13,2/2] dts: VLAN test suite imp
From: dpdklab@iol.unh.edu
To: Test Report <test-report@dpdk.org>
Cc: dpdk-test-reports@iol.unh.edu
In-Reply-To: <20240807194341.26102-3-dmarx@iol.unh.edu>
References: <20240807194341.26102-3-dmarx@iol.unh.edu>
Content-Type: text/plain
X-BeenThere: test-report@dpdk.org
X-Mailman-Version: 2.1.29
Precedence: list
List-Id: automatic DPDK test reports <test-report.dpdk.org>
List-Unsubscribe: <https://mails.dpdk.org/options/test-report>,
 <mailto:test-report-request@dpdk.org?subject=unsubscribe>
List-Archive: <http://mails.dpdk.org/archives/test-report/>
List-Post: <mailto:test-report@dpdk.org>
List-Help: <mailto:test-report-request@dpdk.org?subject=help>
List-Subscribe: <https://mails.dpdk.org/listinfo/test-report>,
 <mailto:test-report-request@dpdk.org?subject=subscribe>
Errors-To: test-report-bounces@dpdk.org

Test-Label: iol-compile-amd64-testing
Test-Status: SUCCESS
http://dpdk.org/patch/143008

_Testing PASS_

Submitter: Dean Marx <dmarx@iol.unh.edu>
Date: Wednesday, August 07 2024 19:43:41 
DPDK git baseline: Repo:dpdk
  Branch: master
  CommitID:b3485f4293997d35b6daecc3437bb0c183a51fb3

143007-143008 --> testing pass

Upstream job id: Generic-VM-DPDK-Compile-Meson#28579

Test environment and result as below:

+---------------------+--------------------+----------------------+-------------------+
|     Environment     | dpdk_meson_compile | dpdk_mingw64_compile | dpdk_msvc_compile |
+=====================+====================+======================+===================+
| Windows Server 2019 | PASS               | PASS                 | SKIPPED           |
+---------------------+--------------------+----------------------+-------------------+
| Windows Server 2022 | PASS               | PASS                 | PASS              |
+---------------------+--------------------+----------------------+-------------------+
| FreeBSD 13.3        | PASS               | SKIPPED              | SKIPPED           |
+---------------------+--------------------+----------------------+-------------------+
| FreeBSD 14.1        | PASS               | SKIPPED              | SKIPPED           |
+---------------------+--------------------+----------------------+-------------------+


Windows Server 2019
	Kernel: 10.0.17763
	Compiler: clang 14.0 and gcc 8.1.0 (MinGW)

Windows Server 2022
	Kernel: 10.0.20348.2031
	Compiler: clang 15.0.7, gcc 8.1.0 (MinGW), and MSVC VS 17.9

FreeBSD 13.3
	Kernel: 13.3-RELEASE-p1
	Compiler: clang 17.0.6

FreeBSD 14.1
	Kernel: 14.1
	Compiler: clang 18.1.5

To view detailed results, visit:
https://lab.dpdk.org/results/dashboard/patchsets/30742/

UNH-IOL DPDK Community Lab

To manage your email subscriptions, visit: 
https://lab.dpdk.org/results/dashboard/preferences/subscriptions/