From mboxrd@z Thu Jan  1 00:00:00 1970
Return-Path: <test-report-bounces@dpdk.org>
Received: from mails.dpdk.org (mails.dpdk.org [217.70.189.124])
	by inbox.dpdk.org (Postfix) with ESMTP id 8DED445769
	for <public@inbox.dpdk.org>; Thu,  8 Aug 2024 10:21:38 +0200 (CEST)
Received: from mails.dpdk.org (localhost [127.0.0.1])
	by mails.dpdk.org (Postfix) with ESMTP id 869D740A80;
	Thu,  8 Aug 2024 10:21:38 +0200 (CEST)
Received: from mail-oa1-f100.google.com (mail-oa1-f100.google.com
 [209.85.160.100])
 by mails.dpdk.org (Postfix) with ESMTP id 4EFD640696
 for <test-report@dpdk.org>; Thu,  8 Aug 2024 10:21:37 +0200 (CEST)
Received: by mail-oa1-f100.google.com with SMTP id
 586e51a60fabf-2689f749702so387871fac.3
 for <test-report@dpdk.org>; Thu, 08 Aug 2024 01:21:37 -0700 (PDT)
DKIM-Signature: v=1; a=rsa-sha256; c=relaxed/relaxed;
 d=iol.unh.edu; s=unh-iol; t=1723105296; x=1723710096; darn=dpdk.org;
 h=references:in-reply-to:cc:to:from:subject:message-id:date:from:to
 :cc:subject:date:message-id:reply-to;
 bh=jmJPYZwNfAhpyFQv9xkaE3BM7LTyKVCK58ZMudTVP3A=;
 b=R3hPys8nJOKvA3/nIAKVzXb+PjDLK9u0M7rv8Wv3gccdD92wvtQbPwv+Ou6TMrPpFc
 geZUPDJZjA51Dcu1RKTJzib21opZEcgrh+tkll4ILs2aYYlxIbvbAsQXIsMhWzdGug0L
 YGNdq2StpAoqgXaPqpQ1ueNnQmItQA3DHvnnU=
X-Google-DKIM-Signature: v=1; a=rsa-sha256; c=relaxed/relaxed;
 d=1e100.net; s=20230601; t=1723105296; x=1723710096;
 h=references:in-reply-to:cc:to:from:subject:message-id:date
 :x-gm-message-state:from:to:cc:subject:date:message-id:reply-to;
 bh=jmJPYZwNfAhpyFQv9xkaE3BM7LTyKVCK58ZMudTVP3A=;
 b=RYRQBI/154dZ9HQWx7dLXtVoGVS+9SCIa+VY9iUcm0PWaOlInkVnOgJ6f/0j7qQg5X
 uclRs4G2X0i/0KrqIjgV/QXGqzLnuIvimqAouAeB3/hNLRGJR1LoMe0D0ANql+ncVs1D
 ZVrqD6Tmyad3/52mIkUbM9UfO4ValDCmv003HDQtjP9uA58WCz5XDdC0q7kg8lzmx/8J
 DkUaxhrujZOpcCEMESr4PX6cjYEkT93H02Xisa2h0FV2sUT3uWqGI1FEUpwbTS7e3wGw
 gv/OzJI0zoZHx8hyE3MmI/3OlMpJ6QX9Fak4QilAEX3Ne+ARhD+6zD6wkrC0BaBYgPhF
 9Qlg==
X-Gm-Message-State: AOJu0Yz3l+ZFepG+Nid9MpD4qrMeCVa9zQshlDcKWIDdfFU1ujkOOm3g
 DLLnVqTDF52AOId9f1EU4CH65VYpGZKenk9/vV9kb7kJCXmxJuBwsyzEEJQdr+zkwAaE7Gf8dgQ
 vrb4ekJUqGzlyv6BpdQtFIktgL7cZdqQslwDq6Pyz
X-Google-Smtp-Source: AGHT+IGS4aBz1ZEhdjS+xyPJ5hr5X8h+GC0Py6BKVIhp82oMNv29tN4eWS0MLJuoghWnQdRCnm1Zw6+LuHS3
X-Received: by 2002:a05:6870:b151:b0:261:b48:3c99 with SMTP id
 586e51a60fabf-2692b6991d6mr1323199fac.23.1723105296220; 
 Thu, 08 Aug 2024 01:21:36 -0700 (PDT)
Received: from postal.iol.unh.edu (postal.iol.unh.edu. [132.177.123.84])
 by smtp-relay.gmail.com with ESMTPS id
 586e51a60fabf-2689a433460sm1087544fac.24.2024.08.08.01.21.36
 (version=TLS1_2 cipher=ECDHE-ECDSA-AES128-GCM-SHA256 bits=128/128);
 Thu, 08 Aug 2024 01:21:36 -0700 (PDT)
X-Relaying-Domain: iol.unh.edu
Date: Thu, 08 Aug 2024 01:21:36 -0700 (PDT)
Message-ID: <66b48010.050a0220.14053f.7a7dSMTPIN_ADDED_MISSING@mx.google.com>
Received: from [172.21.0.6] (unknown [172.18.0.240])
 by postal.iol.unh.edu (Postfix) with ESMTP id AB2E360524C8;
 Thu,  8 Aug 2024 04:21:35 -0400 (EDT)
Subject: |PENDING| pw143007-143008 [PATCH] [v13,2/2] dts: VLAN test suite imp
From: dpdklab@iol.unh.edu
To: Test Report <test-report@dpdk.org>
Cc: dpdk-test-reports@iol.unh.edu
In-Reply-To: <20240807194341.26102-3-dmarx@iol.unh.edu>
References: <20240807194341.26102-3-dmarx@iol.unh.edu>
Content-Type: text/plain
X-BeenThere: test-report@dpdk.org
X-Mailman-Version: 2.1.29
Precedence: list
List-Id: automatic DPDK test reports <test-report.dpdk.org>
List-Unsubscribe: <https://mails.dpdk.org/options/test-report>,
 <mailto:test-report-request@dpdk.org?subject=unsubscribe>
List-Archive: <http://mails.dpdk.org/archives/test-report/>
List-Post: <mailto:test-report@dpdk.org>
List-Help: <mailto:test-report-request@dpdk.org?subject=help>
List-Subscribe: <https://mails.dpdk.org/listinfo/test-report>,
 <mailto:test-report-request@dpdk.org?subject=subscribe>
Errors-To: test-report-bounces@dpdk.org

Test-Label: iol-unit-arm64-testing
Test-Status: PENDING
http://dpdk.org/patch/143008

_Testing pending_

Submitter: Dean Marx <dmarx@iol.unh.edu>
Date: Wednesday, August 07 2024 19:43:41 
DPDK git baseline: Repo:dpdk
  Branch: master
  CommitID:b3485f4293997d35b6daecc3437bb0c183a51fb3

143007-143008 --> testing pending

Upstream job id: Generic-Unit-Test-DPDK#249773

Test environment and result as below:

+-----------------------------+--------------+---------------------------+------------------------------+----------------+
|         Environment         | lpm_autotest | cryptodev_sw_zuc_autotest | cryptodev_sw_snow3g_autotest | dpdk_unit_test |
+=============================+==============+===========================+==============================+================+
| Ubuntu 20.04 ARM SVE        | PEND         | SKIPPED                   | SKIPPED                      | SKIPPED        |
+-----------------------------+--------------+---------------------------+------------------------------+----------------+
| Debian 12 (arm)             | SKIPPED      | PASS                      | PASS                         | PEND           |
+-----------------------------+--------------+---------------------------+------------------------------+----------------+
| CentOS Stream 9 (ARM)       | SKIPPED      | SKIPPED                   | SKIPPED                      | PEND           |
+-----------------------------+--------------+---------------------------+------------------------------+----------------+
| Debian 11 (Buster) (ARM)    | SKIPPED      | SKIPPED                   | SKIPPED                      | PEND           |
+-----------------------------+--------------+---------------------------+------------------------------+----------------+
| Fedora 37 (ARM)             | SKIPPED      | SKIPPED                   | SKIPPED                      | PEND           |
+-----------------------------+--------------+---------------------------+------------------------------+----------------+
| 32-bit Ubuntu 20.04.4 (ARM) | SKIPPED      | SKIPPED                   | SKIPPED                      | PASS           |
+-----------------------------+--------------+---------------------------+------------------------------+----------------+
| Fedora 39 (ARM)             | SKIPPED      | SKIPPED                   | SKIPPED                      | PEND           |
+-----------------------------+--------------+---------------------------+------------------------------+----------------+
| Fedora 38 (ARM)             | SKIPPED      | SKIPPED                   | SKIPPED                      | PEND           |
+-----------------------------+--------------+---------------------------+------------------------------+----------------+
| Fedora 39 (ARM Clang)       | SKIPPED      | SKIPPED                   | SKIPPED                      | PEND           |
+-----------------------------+--------------+---------------------------+------------------------------+----------------+
| Fedora 38 (ARM Clang)       | SKIPPED      | SKIPPED                   | SKIPPED                      | PEND           |
+-----------------------------+--------------+---------------------------+------------------------------+----------------+
| Fedora 40 (ARM Clang)       | SKIPPED      | SKIPPED                   | SKIPPED                      | PEND           |
+-----------------------------+--------------+---------------------------+------------------------------+----------------+
| Fedora 40 (ARM)             | SKIPPED      | SKIPPED                   | SKIPPED                      | PEND           |
+-----------------------------+--------------+---------------------------+------------------------------+----------------+
| RHEL9 (ARM)                 | SKIPPED      | SKIPPED                   | SKIPPED                      | PEND           |
+-----------------------------+--------------+---------------------------+------------------------------+----------------+
| Ubuntu 20.04 (ARM)          | SKIPPED      | SKIPPED                   | SKIPPED                      | PEND           |
+-----------------------------+--------------+---------------------------+------------------------------+----------------+
| Ubuntu 22.04 (ARM)          | SKIPPED      | SKIPPED                   | SKIPPED                      | PEND           |
+-----------------------------+--------------+---------------------------+------------------------------+----------------+
| Ubuntu 24.04 (ARM)          | SKIPPED      | SKIPPED                   | SKIPPED                      | PEND           |
+-----------------------------+--------------+---------------------------+------------------------------+----------------+


Ubuntu 20.04 ARM SVE
	Kernel: 5.4.0-167-generic
	Compiler: gcc (Ubuntu 10.5.0-1ubuntu1~20.04) 10.5.0

Debian 12 (arm)
	Kernel: Container Host Kernel
	Compiler: gcc 12.2.0

CentOS Stream 9 (ARM)
	Kernel: Container Host Kernel
	Compiler: gcc 11.4.1

Debian 11 (Buster) (ARM)
	Kernel: Container Host Kernel
	Compiler: gcc 10.2.1

Fedora 37 (ARM)
	Kernel: Depends on container host
	Compiler: gcc 12.3.1

32-bit Ubuntu 20.04.4 (ARM)
	Kernel: 5.4.0-155-generic aarch64
	Compiler: gcc 9.4

Fedora 39 (ARM)
	Kernel: Depends on container host
	Compiler: gcc 13.2.1

Fedora 38 (ARM)
	Kernel: Depends on container host
	Compiler: gcc 13.2.1

Fedora 39 (ARM Clang)
	Kernel: Depends on container host
	Compiler: clang 17.0.6

Fedora 38 (ARM Clang)
	Kernel: Depends on container host
	Compiler: clang 16.0.6

Fedora 40 (ARM Clang)
	Kernel: Depends on container host
	Compiler: clang 18.1.6

Fedora 40 (ARM)
	Kernel: Depends on container host
	Compiler: gcc 14.1.1

RHEL9 (ARM)
	Kernel: Depends on container host
	Compiler: gcc 11.4.1

Ubuntu 20.04 (ARM)
	Kernel: Container Host Kernel
	Compiler: gcc 9.4.0

Ubuntu 22.04 (ARM)
	Kernel: Container Host Kernel
	Compiler: gcc 11.4.0

Ubuntu 24.04 (ARM)
	Kernel: 5.4.0-167-generic
	Compiler: gcc 13.2.0

To view detailed results, visit:
https://lab.dpdk.org/results/dashboard/patchsets/30742/

UNH-IOL DPDK Community Lab

To manage your email subscriptions, visit: 
https://lab.dpdk.org/results/dashboard/preferences/subscriptions/