From mboxrd@z Thu Jan  1 00:00:00 1970
Return-Path: <test-report-bounces@dpdk.org>
Received: from mails.dpdk.org (mails.dpdk.org [217.70.189.124])
	by inbox.dpdk.org (Postfix) with ESMTP id 4AE3645769
	for <public@inbox.dpdk.org>; Thu,  8 Aug 2024 11:57:52 +0200 (CEST)
Received: from mails.dpdk.org (localhost [127.0.0.1])
	by mails.dpdk.org (Postfix) with ESMTP id 3BD1642790;
	Thu,  8 Aug 2024 11:57:52 +0200 (CEST)
Received: from mail-pj1-f97.google.com (mail-pj1-f97.google.com
 [209.85.216.97]) by mails.dpdk.org (Postfix) with ESMTP id D245A40EDD
 for <test-report@dpdk.org>; Thu,  8 Aug 2024 11:57:50 +0200 (CEST)
Received: by mail-pj1-f97.google.com with SMTP id
 98e67ed59e1d1-2cb510cd097so672996a91.1
 for <test-report@dpdk.org>; Thu, 08 Aug 2024 02:57:50 -0700 (PDT)
DKIM-Signature: v=1; a=rsa-sha256; c=relaxed/relaxed;
 d=iol.unh.edu; s=unh-iol; t=1723111070; x=1723715870; darn=dpdk.org;
 h=references:in-reply-to:cc:to:from:subject:message-id:date:from:to
 :cc:subject:date:message-id:reply-to;
 bh=+qaajNOFugknZDyfnmwEE0uSTWefF6mEbHMHtrWKVgg=;
 b=KC5puI1LRWFRdmZw2djNQE5zL3junECCEgJKqw//lAmn1dgM1QaqGNCOfPGXsEx3Rt
 5NAbITxLuWlwjs2PDdrfm2kOEuiqlQqOZZQQrB2lk9tiRsgHDldX3+gYGPEUqG9VixKu
 NbI94NGu0tvkA/2KgWQo1zKwE7CqUtmuPqw/Y=
X-Google-DKIM-Signature: v=1; a=rsa-sha256; c=relaxed/relaxed;
 d=1e100.net; s=20230601; t=1723111070; x=1723715870;
 h=references:in-reply-to:cc:to:from:subject:message-id:date
 :x-gm-message-state:from:to:cc:subject:date:message-id:reply-to;
 bh=+qaajNOFugknZDyfnmwEE0uSTWefF6mEbHMHtrWKVgg=;
 b=KDASGOaV6xWgmngEF4mBHDut62YaqGV0/vGAUy2ilObZDSQU/OkyxJVNoyRLEbvJqt
 DHaVE9C7HkVKArPdKpcKsSv2OpOJQZBviBuJ0TmM4L4P+RPU+Z/x13Wpx8uKQEbjkS5q
 I6nUVZzmwRSH4CH3VWd6OZT2ETI2DboEU4GkvTLd5M7CLF1jgiDCis+9xcvylilscbIX
 oPs7MSFiqnD3ZwEV1H/THlXwUgDZlVAdNyPxbgOfRsplC0g2jtiq/+Up6KSuMFUEzMiO
 GGQjtHEpjpg0cci44cnD8JgIL8xyfTqkNCe/PgEF7zUl5wCRkRN0gpy2iXXCh1Z+uvZO
 mWxw==
X-Gm-Message-State: AOJu0YxtAnZNuPu5FFRVM1oJ2yHF+YJV/YFB24Eb0rlT6k+IzsZ2TY2v
 EZhOj7S4wyRFuyOF8VlnvNaA+88ibHK7Vnh4fRFi7RIQ14ePZV4b05P96Aeeynpd6ofMfbFOriX
 STWVvTHg59PNNYLDiSwtmc52pojxwJQLdb2K9WQ20
X-Google-Smtp-Source: AGHT+IGPnVXRMAjP83cxtWNynbSTrpjbjecRrVPAmYu8C3c4z988+OM90336RNsGiI/HDs7K8FGEwJdybR8S
X-Received: by 2002:a17:90b:3503:b0:2c2:df58:bb8c with SMTP id
 98e67ed59e1d1-2d1c339eeacmr1606355a91.18.1723111069946; 
 Thu, 08 Aug 2024 02:57:49 -0700 (PDT)
Received: from postal.iol.unh.edu (postal.iol.unh.edu. [132.177.123.84])
 by smtp-relay.gmail.com with ESMTPS id
 98e67ed59e1d1-2d1b3b1b2cesm301375a91.13.2024.08.08.02.57.49
 (version=TLS1_2 cipher=ECDHE-ECDSA-AES128-GCM-SHA256 bits=128/128);
 Thu, 08 Aug 2024 02:57:49 -0700 (PDT)
X-Relaying-Domain: iol.unh.edu
Date: Thu, 08 Aug 2024 02:57:49 -0700 (PDT)
Message-ID: <66b4969d.170a0220.56ca.ba95SMTPIN_ADDED_MISSING@mx.google.com>
Received: from [172.21.0.6] (unknown [172.18.0.240])
 by postal.iol.unh.edu (Postfix) with ESMTP id 26D256052500;
 Thu,  8 Aug 2024 05:57:49 -0400 (EDT)
Subject: |PENDING| pw143009-143010 [PATCH] [v3,2/2] common/mlx5: reduce HCA a
From: dpdklab@iol.unh.edu
To: Test Report <test-report@dpdk.org>
Cc: dpdk-test-reports@iol.unh.edu
In-Reply-To: <20240807204406.700332-3-igootorov@gmail.com>
References: <20240807204406.700332-3-igootorov@gmail.com>
Content-Type: text/plain
X-BeenThere: test-report@dpdk.org
X-Mailman-Version: 2.1.29
Precedence: list
List-Id: automatic DPDK test reports <test-report.dpdk.org>
List-Unsubscribe: <https://mails.dpdk.org/options/test-report>,
 <mailto:test-report-request@dpdk.org?subject=unsubscribe>
List-Archive: <http://mails.dpdk.org/archives/test-report/>
List-Post: <mailto:test-report@dpdk.org>
List-Help: <mailto:test-report-request@dpdk.org?subject=help>
List-Subscribe: <https://mails.dpdk.org/listinfo/test-report>,
 <mailto:test-report-request@dpdk.org?subject=subscribe>
Errors-To: test-report-bounces@dpdk.org

Test-Label: iol-unit-amd64-testing
Test-Status: PENDING
http://dpdk.org/patch/143010

_Testing pending_

Submitter: Igor Gutorov <igootorov@gmail.com>
Date: Wednesday, August 07 2024 20:44:06 
DPDK git baseline: Repo:dpdk
  Branch: master
  CommitID:82c47f005b9a0a1e3a649664b7713443d18abe43

143009-143010 --> testing pending

Upstream job id: Generic-Unit-Test-DPDK#249749

Test environment and result as below:

+---------------------+----------------+
|     Environment     | dpdk_unit_test |
+=====================+================+
| Windows Server 2019 | PASS           |
+---------------------+----------------+
| Windows Server 2022 | PASS           |
+---------------------+----------------+
| CentOS Stream 9     | PASS           |
+---------------------+----------------+
| Debian Bullseye     | PASS           |
+---------------------+----------------+
| Debian 12           | PASS           |
+---------------------+----------------+
| Fedora 37           | PASS           |
+---------------------+----------------+
| Fedora 38           | PASS           |
+---------------------+----------------+
| Fedora 38 (Clang)   | PEND           |
+---------------------+----------------+
| Fedora 39           | PASS           |
+---------------------+----------------+
| Fedora 39 (Clang)   | PEND           |
+---------------------+----------------+
| Fedora 40           | PEND           |
+---------------------+----------------+
| Fedora 40 (Clang)   | PEND           |
+---------------------+----------------+
| openSUSE Leap 15    | PEND           |
+---------------------+----------------+
| RHEL8               | PEND           |
+---------------------+----------------+
| RHEL9               | PEND           |
+---------------------+----------------+
| Ubuntu 20.04        | PEND           |
+---------------------+----------------+
| Ubuntu 22.04        | PEND           |
+---------------------+----------------+
| Ubuntu 24.04        | PEND           |
+---------------------+----------------+


Windows Server 2019
	Kernel: 10.0.17763
	Compiler: clang 14.0 and gcc 8.1.0 (MinGW)

Windows Server 2022
	Kernel: 10.0.20348.2031
	Compiler: clang 15.0.7, gcc 8.1.0 (MinGW), and MSVC VS 17.9

CentOS Stream 9
	Kernel: 5.4.0-167-generic
	Compiler: gcc 11.4.1 20230605

Debian Bullseye
	Kernel: 5.4.0-167-generic
	Compiler: gcc 10.2.1-6

Debian 12
	Kernel: Container Host Kernel
	Compiler: gcc 12.2.0

Fedora 37
	Kernel: Depends on container host system
	Compiler: gcc 12.3.1

Fedora 38
	Kernel: Depends on container host
	Compiler: gcc 13.2.1

Fedora 38 (Clang)
	Kernel: Depends on container host
	Compiler: clang 16.0.6

Fedora 39
	Kernel: Depends on container host
	Compiler: gcc 13.2.1

Fedora 39 (Clang)
	Kernel: Depends on container host
	Compiler: clang 17.0.6

Fedora 40
	Kernel: Depends on container host
	Compiler: gcc 14.1.1

Fedora 40 (Clang)
	Kernel: Depends on container host
	Compiler: clang 18.1.6

openSUSE Leap 15
	Kernel: 5.4.0-167-generic
	Compiler: gcc 7.5.0

RHEL8
	Kernel: 5.4.0-167-generic
	Compiler: gcc 8.5.0 20210514 (Red Hat 8.5.0-20)

RHEL9
	Kernel: Depends on container host
	Compiler: gcc 11.4.1

Ubuntu 20.04
	Kernel: 5.4.0-167-generic
	Compiler: gcc 9.4.0-1ubuntu1~20.04.1

Ubuntu 22.04
	Kernel: 5.4.0-167-generic
	Compiler: gcc 11.4.0

Ubuntu 24.04
	Kernel: 5.4.0-167-generic
	Compiler: gcc 13.2.0

To view detailed results, visit:
https://lab.dpdk.org/results/dashboard/patchsets/30743/

UNH-IOL DPDK Community Lab

To manage your email subscriptions, visit: 
https://lab.dpdk.org/results/dashboard/preferences/subscriptions/