From mboxrd@z Thu Jan  1 00:00:00 1970
Return-Path: <test-report-bounces@dpdk.org>
Received: from mails.dpdk.org (mails.dpdk.org [217.70.189.124])
	by inbox.dpdk.org (Postfix) with ESMTP id 83B064576A
	for <public@inbox.dpdk.org>; Thu,  8 Aug 2024 12:25:31 +0200 (CEST)
Received: from mails.dpdk.org (localhost [127.0.0.1])
	by mails.dpdk.org (Postfix) with ESMTP id 7E2D942790;
	Thu,  8 Aug 2024 12:25:31 +0200 (CEST)
Received: from mail-pg1-f228.google.com (mail-pg1-f228.google.com
 [209.85.215.228])
 by mails.dpdk.org (Postfix) with ESMTP id F422A40EDD
 for <test-report@dpdk.org>; Thu,  8 Aug 2024 12:25:29 +0200 (CEST)
Received: by mail-pg1-f228.google.com with SMTP id
 41be03b00d2f7-6bce380eb96so514002a12.0
 for <test-report@dpdk.org>; Thu, 08 Aug 2024 03:25:29 -0700 (PDT)
DKIM-Signature: v=1; a=rsa-sha256; c=relaxed/relaxed;
 d=iol.unh.edu; s=unh-iol; t=1723112729; x=1723717529; darn=dpdk.org;
 h=references:in-reply-to:cc:to:from:subject:message-id:date:from:to
 :cc:subject:date:message-id:reply-to;
 bh=07UsHemTt2Sbdf8sUlTmVSZCGat34gCZJMmL2xO4EYw=;
 b=ILXnboYZtXglTb5Uqzoc6EPGVYT25ksWCmKDrmnN1kxdyTgBDK8R0bb3Bgbu3bP0Ak
 46yn4+G4kbUPZP+h5Vu++GaGC43TkQq+qT2deYKcqItlrfcFwZDQPY7mr3+ts/SsQRYR
 5ilb3gp8DeSlPBs+MANH8lGaBYtmbXmLpmM40=
X-Google-DKIM-Signature: v=1; a=rsa-sha256; c=relaxed/relaxed;
 d=1e100.net; s=20230601; t=1723112729; x=1723717529;
 h=references:in-reply-to:cc:to:from:subject:message-id:date
 :x-gm-message-state:from:to:cc:subject:date:message-id:reply-to;
 bh=07UsHemTt2Sbdf8sUlTmVSZCGat34gCZJMmL2xO4EYw=;
 b=JgF3s0VHWQk2MuVDtyTh6sOfTznvBgp1GAOm9ubCqkr6ZPLINnHKsw5UuAWkugCTQ7
 hY6iRsPUnTPgFUPDDpfNAkUF1zhs3dESfBmxah7rwdXA7GdL34LT68XscHThp3JqYCog
 KZXi6AP5cwjyfGDkDUJpqhR1LHFUhYDiiflj5wdPPBd3lmVER3AY9x5XhQZpYRjsDgTz
 pcbV8IJqx4ToYru3k1FFa+F7VAJ9lrFO+QIJ2eFnxhv/FGAtj7myCHbuwhjPU19bzEav
 orq3qBlu7TaNQToRrvKKxFl1iwTDbYybQe9F6IZWXWKGtjt6cgAfknYlZJg2t0uR1Ibt
 JiyQ==
X-Gm-Message-State: AOJu0YwB1sWidtuHldnV3cqf8zp9lPs1sTBvEmRytOr9tvSYIRQCz6Ck
 Rd6WjD1zw4OKcnupL5Iz0EdAbiXxgUUPF5921dRyR9Q6SNfBQO3arwZQOlFMl+oiQkiS+o83PP+
 lfe1n3asnjiawKViSfysskmuWZIU8AxOWah8WicVWwYF3rfzULaGp6ixm
X-Google-Smtp-Source: AGHT+IF1dTBwKyNJwrwuBdDnujRwe5y1xS9EDdVb6TC1eoQiWDy8WsI1MYxWXh6h1ocYd2fFUuJSphYWlcU6
X-Received: by 2002:a05:6a20:f389:b0:1c4:87b2:e069 with SMTP id
 adf61e73a8af0-1c6fcf7b3e9mr1017340637.36.1723112729112; 
 Thu, 08 Aug 2024 03:25:29 -0700 (PDT)
Received: from postal.iol.unh.edu (postal.iol.unh.edu.
 [2606:4100:3880:1234::84]) by smtp-relay.gmail.com with ESMTPS id
 d9443c01a7336-1ff5929ae94sm10519575ad.149.2024.08.08.03.25.28
 (version=TLS1_2 cipher=ECDHE-ECDSA-AES128-GCM-SHA256 bits=128/128);
 Thu, 08 Aug 2024 03:25:29 -0700 (PDT)
X-Relaying-Domain: iol.unh.edu
Date: Thu, 08 Aug 2024 03:25:29 -0700 (PDT)
Message-ID: <66b49d19.170a0220.18c7e4.3a8dSMTPIN_ADDED_MISSING@mx.google.com>
Received: from [172.21.0.7] (unknown [172.18.0.240])
 by postal.iol.unh.edu (Postfix) with ESMTP id 2DD0760526E2;
 Thu,  8 Aug 2024 06:25:28 -0400 (EDT)
Subject: |PENDING| pw143009-143010 [PATCH] [v3,2/2] common/mlx5: reduce HCA a
From: dpdklab@iol.unh.edu
To: Test Report <test-report@dpdk.org>
Cc: dpdk-test-reports@iol.unh.edu
In-Reply-To: <20240807204406.700332-3-igootorov@gmail.com>
References: <20240807204406.700332-3-igootorov@gmail.com>
Content-Type: text/plain
X-BeenThere: test-report@dpdk.org
X-Mailman-Version: 2.1.29
Precedence: list
List-Id: automatic DPDK test reports <test-report.dpdk.org>
List-Unsubscribe: <https://mails.dpdk.org/options/test-report>,
 <mailto:test-report-request@dpdk.org?subject=unsubscribe>
List-Archive: <http://mails.dpdk.org/archives/test-report/>
List-Post: <mailto:test-report@dpdk.org>
List-Help: <mailto:test-report-request@dpdk.org?subject=help>
List-Subscribe: <https://mails.dpdk.org/listinfo/test-report>,
 <mailto:test-report-request@dpdk.org?subject=subscribe>
Errors-To: test-report-bounces@dpdk.org

Test-Label: iol-compile-arm64-testing
Test-Status: PENDING
http://dpdk.org/patch/143010

_Testing pending_

Submitter: Igor Gutorov <igootorov@gmail.com>
Date: Wednesday, August 07 2024 20:44:06 
DPDK git baseline: Repo:dpdk
  Branch: master
  CommitID:82c47f005b9a0a1e3a649664b7713443d18abe43

143009-143010 --> testing pending

Upstream job id: Generic-DPDK-Compile-Meson#285637

Test environment and result as below:

+----------------------------------------+--------------------+
|              Environment               | dpdk_meson_compile |
+========================================+====================+
| RHEL9 (ARM)                            | PASS               |
+----------------------------------------+--------------------+
| Ubuntu 20.04 ARM GCC Cross Compile     | PEND               |
+----------------------------------------+--------------------+
| Ubuntu 20.04 ARM SVE                   | PASS               |
+----------------------------------------+--------------------+
| Debian 12 with MUSDK                   | PASS               |
+----------------------------------------+--------------------+
| Fedora 37 (ARM)                        | PASS               |
+----------------------------------------+--------------------+
| Fedora 38 (ARM)                        | PASS               |
+----------------------------------------+--------------------+
| Fedora 38 (ARM Clang)                  | PEND               |
+----------------------------------------+--------------------+
| Fedora 39 (ARM)                        | PASS               |
+----------------------------------------+--------------------+
| Fedora 39 (ARM Clang)                  | PEND               |
+----------------------------------------+--------------------+
| Fedora 40 (ARM)                        | PASS               |
+----------------------------------------+--------------------+
| Fedora 40 (ARM Clang)                  | PEND               |
+----------------------------------------+--------------------+
| Ubuntu 20.04 (ARM)                     | PASS               |
+----------------------------------------+--------------------+
| Ubuntu 22.04 (ARM)                     | PASS               |
+----------------------------------------+--------------------+
| Ubuntu 24.04 (ARM)                     | PASS               |
+----------------------------------------+--------------------+
| CentOS Stream 9 (ARM)                  | PASS               |
+----------------------------------------+--------------------+
| Debian 11 (Buster) (ARM)               | PASS               |
+----------------------------------------+--------------------+
| Debian 12 (arm)                        | PASS               |
+----------------------------------------+--------------------+
| Ubuntu 20.04 ARM Clang Cross Compile   | PASS               |
+----------------------------------------+--------------------+
| Ubuntu 20.04 aarch32 GCC Cross Compile | PASS               |
+----------------------------------------+--------------------+


RHEL9 (ARM)
	Kernel: Depends on container host
	Compiler: gcc 11.4.1

Ubuntu 20.04 ARM GCC Cross Compile
	Kernel: 5.4.0-167-generic
	Compiler: aarch64-linux-gnu-gcc (Ubuntu 9.4.0-1ubuntu1~20.04.2) 9.4.0

Ubuntu 20.04 ARM SVE
	Kernel: 5.4.0-167-generic
	Compiler: gcc (Ubuntu 10.5.0-1ubuntu1~20.04) 10.5.0

Debian 12 with MUSDK
	Kernel: Container Host Kernel
	Compiler: gcc 12.2.0

Fedora 37 (ARM)
	Kernel: Depends on container host
	Compiler: gcc 12.3.1

Fedora 38 (ARM)
	Kernel: Depends on container host
	Compiler: gcc 13.2.1

Fedora 38 (ARM Clang)
	Kernel: Depends on container host
	Compiler: clang 16.0.6

Fedora 39 (ARM)
	Kernel: Depends on container host
	Compiler: gcc 13.2.1

Fedora 39 (ARM Clang)
	Kernel: Depends on container host
	Compiler: clang 17.0.6

Fedora 40 (ARM)
	Kernel: Depends on container host
	Compiler: gcc 14.1.1

Fedora 40 (ARM Clang)
	Kernel: Depends on container host
	Compiler: clang 18.1.6

Ubuntu 20.04 (ARM)
	Kernel: Container Host Kernel
	Compiler: gcc 9.4.0

Ubuntu 22.04 (ARM)
	Kernel: Container Host Kernel
	Compiler: gcc 11.4.0

Ubuntu 24.04 (ARM)
	Kernel: 5.4.0-167-generic
	Compiler: gcc 13.2.0

CentOS Stream 9 (ARM)
	Kernel: Container Host Kernel
	Compiler: gcc 11.4.1

Debian 11 (Buster) (ARM)
	Kernel: Container Host Kernel
	Compiler: gcc 10.2.1

Debian 12 (arm)
	Kernel: Container Host Kernel
	Compiler: gcc 12.2.0

Ubuntu 20.04 ARM Clang Cross Compile
	Kernel: 5.4.0-72-generic
	Compiler: clang 10.0.0-4ubuntu1

Ubuntu 20.04 aarch32 GCC Cross Compile
	Kernel: 5.4.0-167-generic
	Compiler: gcc 9.4.0

To view detailed results, visit:
https://lab.dpdk.org/results/dashboard/patchsets/30743/

UNH-IOL DPDK Community Lab

To manage your email subscriptions, visit: 
https://lab.dpdk.org/results/dashboard/preferences/subscriptions/