From mboxrd@z Thu Jan  1 00:00:00 1970
Return-Path: <test-report-bounces@dpdk.org>
Received: from mails.dpdk.org (mails.dpdk.org [217.70.189.124])
	by inbox.dpdk.org (Postfix) with ESMTP id D6D204576A
	for <public@inbox.dpdk.org>; Thu,  8 Aug 2024 12:40:30 +0200 (CEST)
Received: from mails.dpdk.org (localhost [127.0.0.1])
	by mails.dpdk.org (Postfix) with ESMTP id D1F7C42790;
	Thu,  8 Aug 2024 12:40:30 +0200 (CEST)
Received: from mail-il1-f228.google.com (mail-il1-f228.google.com
 [209.85.166.228])
 by mails.dpdk.org (Postfix) with ESMTP id 7A21940EDD
 for <test-report@dpdk.org>; Thu,  8 Aug 2024 12:40:29 +0200 (CEST)
Received: by mail-il1-f228.google.com with SMTP id
 e9e14a558f8ab-39b3c36d297so2729765ab.1
 for <test-report@dpdk.org>; Thu, 08 Aug 2024 03:40:29 -0700 (PDT)
DKIM-Signature: v=1; a=rsa-sha256; c=relaxed/relaxed;
 d=iol.unh.edu; s=unh-iol; t=1723113629; x=1723718429; darn=dpdk.org;
 h=references:in-reply-to:cc:to:from:subject:message-id:date:from:to
 :cc:subject:date:message-id:reply-to;
 bh=BmyfN7P1V1JhQANgRLRqKPaccPHLqbG+Xc7Qz7Vg2Wg=;
 b=amE1wEe/gF3LfWN7do4ZeyiPg2OUjFsDQCoPzCmQ+dRLiIgyXHIJKEypHRroP4xh9N
 41WNOWwPQg0AVOWAg0/B+leNqOXYfz5glLsGEBUy3q3F1d6OjOLZC1Godt6eL85ZUP7E
 qAodfcysFfICe9nYbEQ6BMmUvcWUkKuiJYbpA=
X-Google-DKIM-Signature: v=1; a=rsa-sha256; c=relaxed/relaxed;
 d=1e100.net; s=20230601; t=1723113629; x=1723718429;
 h=references:in-reply-to:cc:to:from:subject:message-id:date
 :x-gm-message-state:from:to:cc:subject:date:message-id:reply-to;
 bh=BmyfN7P1V1JhQANgRLRqKPaccPHLqbG+Xc7Qz7Vg2Wg=;
 b=pRFbsPn0TEdiSNTFTwkBdeIK0dASerLvfM5DiVRWGXTVeBePf1kFUshgLSkYhpPMiL
 C5w8zSN66qX+/QNbhT9J7VEMejciF8b3/ndHxORk3J0L4y2gvqVvulWb/PaEhfieSO5Z
 FlzwgggyJk7ziD2KZbGpVVUsePgcH8LjcijPo6pi+R/tR0EaY1hnagki9tkl6dWD5KzK
 M61yhvcv7eo1pAg7djl6Dj4XvaGYcLvt73YidO3a1VbjaCsdxRm5DuvGi7kbIiAI0RRJ
 HYpFfzzZTIF6tJgBi+ld93MYHkZDBlC3MP5iw83t5OIpXrSUUlFwllVcH1aZtjbmcxJ+
 gs7g==
X-Gm-Message-State: AOJu0YzYNjRTurjwjCtOxB7/t7KQFTt+pJW8PIi6fZTQK2z++rjEax5C
 gIXTajIQLQFrBfhneALjZnBrzJn5BqFwZ/o/ad5kM5RG+4az+t7XofcxQzYP69cdLFm8Thy5Wim
 5mQ39148ge9sa0EGl+mBQIh/9Wsx6kNQl7pNF2YxjM27kFUs3FRLOjLsf
X-Google-Smtp-Source: AGHT+IGaR09T6WNoLEQ/JwHOL/5VfXc/BZy3bpAaEL5vWT1QcvcniNbFcdO2hg+KlvDDK3tIRcYuvRxKJrwt
X-Received: by 2002:a05:6e02:1708:b0:39a:ea89:22ec with SMTP id
 e9e14a558f8ab-39b5eca8649mr17238195ab.9.1723113628852; 
 Thu, 08 Aug 2024 03:40:28 -0700 (PDT)
Received: from postal.iol.unh.edu (postal.iol.unh.edu.
 [2606:4100:3880:1234::84]) by smtp-relay.gmail.com with ESMTPS id
 41be03b00d2f7-7b762e9bbddsm1016870a12.6.2024.08.08.03.40.28
 (version=TLS1_2 cipher=ECDHE-ECDSA-AES128-GCM-SHA256 bits=128/128);
 Thu, 08 Aug 2024 03:40:28 -0700 (PDT)
X-Relaying-Domain: iol.unh.edu
Date: Thu, 08 Aug 2024 03:40:28 -0700 (PDT)
Message-ID: <66b4a09c.630a0220.1c63df.a297SMTPIN_ADDED_MISSING@mx.google.com>
Received: from [172.21.0.6] (unknown [172.18.0.240])
 by postal.iol.unh.edu (Postfix) with ESMTP id 1BFF960526E2;
 Thu,  8 Aug 2024 06:40:28 -0400 (EDT)
Subject: |PENDING| pw143007-143008 [PATCH] [v13,2/2] dts: VLAN test suite imp
From: dpdklab@iol.unh.edu
To: Test Report <test-report@dpdk.org>
Cc: dpdk-test-reports@iol.unh.edu
In-Reply-To: <20240807194341.26102-3-dmarx@iol.unh.edu>
References: <20240807194341.26102-3-dmarx@iol.unh.edu>
Content-Type: text/plain
X-BeenThere: test-report@dpdk.org
X-Mailman-Version: 2.1.29
Precedence: list
List-Id: automatic DPDK test reports <test-report.dpdk.org>
List-Unsubscribe: <https://mails.dpdk.org/options/test-report>,
 <mailto:test-report-request@dpdk.org?subject=unsubscribe>
List-Archive: <http://mails.dpdk.org/archives/test-report/>
List-Post: <mailto:test-report@dpdk.org>
List-Help: <mailto:test-report-request@dpdk.org?subject=help>
List-Subscribe: <https://mails.dpdk.org/listinfo/test-report>,
 <mailto:test-report-request@dpdk.org?subject=subscribe>
Errors-To: test-report-bounces@dpdk.org

Test-Label: iol-compile-arm64-testing
Test-Status: PENDING
http://dpdk.org/patch/143008

_Testing pending_

Submitter: Dean Marx <dmarx@iol.unh.edu>
Date: Wednesday, August 07 2024 19:43:41 
DPDK git baseline: Repo:dpdk
  Branch: master
  CommitID:b3485f4293997d35b6daecc3437bb0c183a51fb3

143007-143008 --> testing pending

Upstream job id: Generic-DPDK-Compile-Meson#285661

Test environment and result as below:

+------------------------------------+--------------------+
|            Environment             | dpdk_meson_compile |
+====================================+====================+
| RHEL9 (ARM)                        | PASS               |
+------------------------------------+--------------------+
| Ubuntu 20.04 ARM GCC Cross Compile | PEND               |
+------------------------------------+--------------------+
| Ubuntu 20.04 ARM SVE               | PASS               |
+------------------------------------+--------------------+
| Debian 12 with MUSDK               | PASS               |
+------------------------------------+--------------------+
| Fedora 37 (ARM)                    | PEND               |
+------------------------------------+--------------------+
| Fedora 38 (ARM)                    | PEND               |
+------------------------------------+--------------------+
| Fedora 38 (ARM Clang)              | PEND               |
+------------------------------------+--------------------+
| Fedora 39 (ARM)                    | PEND               |
+------------------------------------+--------------------+
| Fedora 39 (ARM Clang)              | PEND               |
+------------------------------------+--------------------+
| Fedora 40 (ARM)                    | PEND               |
+------------------------------------+--------------------+
| Fedora 40 (ARM Clang)              | PEND               |
+------------------------------------+--------------------+
| Ubuntu 20.04 (ARM)                 | PEND               |
+------------------------------------+--------------------+
| Ubuntu 22.04 (ARM)                 | PEND               |
+------------------------------------+--------------------+


RHEL9 (ARM)
	Kernel: Depends on container host
	Compiler: gcc 11.4.1

Ubuntu 20.04 ARM GCC Cross Compile
	Kernel: 5.4.0-167-generic
	Compiler: aarch64-linux-gnu-gcc (Ubuntu 9.4.0-1ubuntu1~20.04.2) 9.4.0

Ubuntu 20.04 ARM SVE
	Kernel: 5.4.0-167-generic
	Compiler: gcc (Ubuntu 10.5.0-1ubuntu1~20.04) 10.5.0

Debian 12 with MUSDK
	Kernel: Container Host Kernel
	Compiler: gcc 12.2.0

Fedora 37 (ARM)
	Kernel: Depends on container host
	Compiler: gcc 12.3.1

Fedora 38 (ARM)
	Kernel: Depends on container host
	Compiler: gcc 13.2.1

Fedora 38 (ARM Clang)
	Kernel: Depends on container host
	Compiler: clang 16.0.6

Fedora 39 (ARM)
	Kernel: Depends on container host
	Compiler: gcc 13.2.1

Fedora 39 (ARM Clang)
	Kernel: Depends on container host
	Compiler: clang 17.0.6

Fedora 40 (ARM)
	Kernel: Depends on container host
	Compiler: gcc 14.1.1

Fedora 40 (ARM Clang)
	Kernel: Depends on container host
	Compiler: clang 18.1.6

Ubuntu 20.04 (ARM)
	Kernel: Container Host Kernel
	Compiler: gcc 9.4.0

Ubuntu 22.04 (ARM)
	Kernel: Container Host Kernel
	Compiler: gcc 11.4.0

To view detailed results, visit:
https://lab.dpdk.org/results/dashboard/patchsets/30742/

UNH-IOL DPDK Community Lab

To manage your email subscriptions, visit: 
https://lab.dpdk.org/results/dashboard/preferences/subscriptions/