From mboxrd@z Thu Jan  1 00:00:00 1970
Return-Path: <test-report-bounces@dpdk.org>
Received: from mails.dpdk.org (mails.dpdk.org [217.70.189.124])
	by inbox.dpdk.org (Postfix) with ESMTP id B429B4576A
	for <public@inbox.dpdk.org>; Thu,  8 Aug 2024 12:45:30 +0200 (CEST)
Received: from mails.dpdk.org (localhost [127.0.0.1])
	by mails.dpdk.org (Postfix) with ESMTP id AE8BA42790;
	Thu,  8 Aug 2024 12:45:30 +0200 (CEST)
Received: from mail-yw1-f227.google.com (mail-yw1-f227.google.com
 [209.85.128.227])
 by mails.dpdk.org (Postfix) with ESMTP id 615A940EDD
 for <test-report@dpdk.org>; Thu,  8 Aug 2024 12:45:29 +0200 (CEST)
Received: by mail-yw1-f227.google.com with SMTP id
 00721157ae682-690b6cbce11so8193247b3.2
 for <test-report@dpdk.org>; Thu, 08 Aug 2024 03:45:29 -0700 (PDT)
DKIM-Signature: v=1; a=rsa-sha256; c=relaxed/relaxed;
 d=iol.unh.edu; s=unh-iol; t=1723113928; x=1723718728; darn=dpdk.org;
 h=references:in-reply-to:cc:to:from:subject:message-id:date:from:to
 :cc:subject:date:message-id:reply-to;
 bh=ZGMVAkVW2YItiGnmq4m8/7Z7mkDgn1LGAHV8LX/+sGA=;
 b=EQpFfTnAsFKVSA+hnzcrHdboPLKOADyYGYFcxwP9nE8Wx7lJLzV/G1G6aLjcTSDoGd
 fxxRZFpJ+JAHQMssHpkRM7aU3iZvDA0ytEu4iyQZcDdhFrHTXO54LGy2faRR73GQXUZR
 +8GwgHIudkJEsc2kng/7XkwQGlUmkidxHUGjI=
X-Google-DKIM-Signature: v=1; a=rsa-sha256; c=relaxed/relaxed;
 d=1e100.net; s=20230601; t=1723113928; x=1723718728;
 h=references:in-reply-to:cc:to:from:subject:message-id:date
 :x-gm-message-state:from:to:cc:subject:date:message-id:reply-to;
 bh=ZGMVAkVW2YItiGnmq4m8/7Z7mkDgn1LGAHV8LX/+sGA=;
 b=uH1uYJNt/UXk5tBXuwT7yw7CsaG9ey94zhJUSL9KMk4NLL4B0YQzsXG09smNBfZ7po
 w6pLoPSxVEGOrF31VnB1S0I7OZsBJjyTGHzA/Zwu3cU1GD6IyFwx6BqcR8z1SpZAwEYt
 cM7fVYcVRHNcvA0hhvzA9Iw6cQF+IZI/f6hRNsDT3yvx6nhEBWi/5nFngd/xCP/RsGxA
 zk8UL2osCCQRbUeDhEDYpNknjo1ioG2LNcQVnYWHCK6uzSf7sapGsPKpDsv+lYAqEvvz
 pUIV7nnd6YsI6TauUxVpRI3nFKsCdjMcHPQn5HDAJHJI9Vzpj9I7908+sJrtdCgb+UCs
 aX4Q==
X-Gm-Message-State: AOJu0YyZhz7fgf8R0ZCD6zw3BhSnPMIL/s2YTNuWZeQmhCeN/s5Os5zl
 z/P8LEP+L74gFiZWU/yc1TbeuGSrNMYqJ3fRl9v2qiRf8z2buCwTtV4FgIYIOQF1uYfVIC8pfmp
 mj4L/Gzys0sZOVMC6oL5Rdo2AR4QgFI+c32io0V6b
X-Google-Smtp-Source: AGHT+IGAn9Gbdhrv9yboBK4th6Z/NeeVVaezlG1esniGm3ysNzRTJ1a+V1ADk6CLGPkrtutQLN0mpSDitjPn
X-Received: by 2002:a05:690c:6611:b0:644:4b82:bb0a with SMTP id
 00721157ae682-69bf7540de6mr17374777b3.2.1723113928652; 
 Thu, 08 Aug 2024 03:45:28 -0700 (PDT)
Received: from postal.iol.unh.edu (postal.iol.unh.edu. [132.177.123.84])
 by smtp-relay.gmail.com with ESMTPS id
 00721157ae682-68a116dbc9asm11451807b3.16.2024.08.08.03.45.28
 (version=TLS1_2 cipher=ECDHE-ECDSA-AES128-GCM-SHA256 bits=128/128);
 Thu, 08 Aug 2024 03:45:28 -0700 (PDT)
X-Relaying-Domain: iol.unh.edu
Date: Thu, 08 Aug 2024 03:45:28 -0700 (PDT)
Message-ID: <66b4a1c8.810a0220.c9c7f.80e2SMTPIN_ADDED_MISSING@mx.google.com>
Received: from [172.21.0.6] (unknown [172.18.0.240])
 by postal.iol.unh.edu (Postfix) with ESMTP id 49AF760526E2;
 Thu,  8 Aug 2024 06:45:28 -0400 (EDT)
Subject: |PENDING| pw143007-143008 [PATCH] [v13,2/2] dts: VLAN test suite imp
From: dpdklab@iol.unh.edu
To: Test Report <test-report@dpdk.org>
Cc: dpdk-test-reports@iol.unh.edu
In-Reply-To: <20240807194341.26102-3-dmarx@iol.unh.edu>
References: <20240807194341.26102-3-dmarx@iol.unh.edu>
Content-Type: text/plain
X-BeenThere: test-report@dpdk.org
X-Mailman-Version: 2.1.29
Precedence: list
List-Id: automatic DPDK test reports <test-report.dpdk.org>
List-Unsubscribe: <https://mails.dpdk.org/options/test-report>,
 <mailto:test-report-request@dpdk.org?subject=unsubscribe>
List-Archive: <http://mails.dpdk.org/archives/test-report/>
List-Post: <mailto:test-report@dpdk.org>
List-Help: <mailto:test-report-request@dpdk.org?subject=help>
List-Subscribe: <https://mails.dpdk.org/listinfo/test-report>,
 <mailto:test-report-request@dpdk.org?subject=subscribe>
Errors-To: test-report-bounces@dpdk.org

Test-Label: iol-unit-amd64-testing
Test-Status: PENDING
http://dpdk.org/patch/143008

_Testing pending_

Submitter: Dean Marx <dmarx@iol.unh.edu>
Date: Wednesday, August 07 2024 19:43:41 
DPDK git baseline: Repo:dpdk
  Branch: master
  CommitID:b3485f4293997d35b6daecc3437bb0c183a51fb3

143007-143008 --> testing pending

Upstream job id: Generic-Unit-Test-DPDK#249786

Test environment and result as below:

+---------------------+----------------+
|     Environment     | dpdk_unit_test |
+=====================+================+
| Windows Server 2022 | PASS           |
+---------------------+----------------+
| Windows Server 2019 | PASS           |
+---------------------+----------------+
| CentOS Stream 9     | PASS           |
+---------------------+----------------+
| Debian Bullseye     | PASS           |
+---------------------+----------------+
| Debian 12           | PEND           |
+---------------------+----------------+
| Fedora 37           | PASS           |
+---------------------+----------------+
| RHEL9               | PASS           |
+---------------------+----------------+
| Fedora 39           | PASS           |
+---------------------+----------------+
| Fedora 40           | PEND           |
+---------------------+----------------+
| Fedora 38           | PEND           |
+---------------------+----------------+
| Fedora 40 (Clang)   | PEND           |
+---------------------+----------------+
| Fedora 39 (Clang)   | PEND           |
+---------------------+----------------+
| Fedora 38 (Clang)   | PEND           |
+---------------------+----------------+
| RHEL8               | PEND           |
+---------------------+----------------+
| openSUSE Leap 15    | PEND           |
+---------------------+----------------+
| Ubuntu 20.04        | PEND           |
+---------------------+----------------+
| Ubuntu 22.04        | PEND           |
+---------------------+----------------+
| Ubuntu 24.04        | PEND           |
+---------------------+----------------+


Windows Server 2022
	Kernel: 10.0.20348.2031
	Compiler: clang 15.0.7, gcc 8.1.0 (MinGW), and MSVC VS 17.9

Windows Server 2019
	Kernel: 10.0.17763
	Compiler: clang 14.0 and gcc 8.1.0 (MinGW)

CentOS Stream 9
	Kernel: 5.4.0-167-generic
	Compiler: gcc 11.4.1 20230605

Debian Bullseye
	Kernel: 5.4.0-167-generic
	Compiler: gcc 10.2.1-6

Debian 12
	Kernel: Container Host Kernel
	Compiler: gcc 12.2.0

Fedora 37
	Kernel: Depends on container host system
	Compiler: gcc 12.3.1

RHEL9
	Kernel: Depends on container host
	Compiler: gcc 11.4.1

Fedora 39
	Kernel: Depends on container host
	Compiler: gcc 13.2.1

Fedora 40
	Kernel: Depends on container host
	Compiler: gcc 14.1.1

Fedora 38
	Kernel: Depends on container host
	Compiler: gcc 13.2.1

Fedora 40 (Clang)
	Kernel: Depends on container host
	Compiler: clang 18.1.6

Fedora 39 (Clang)
	Kernel: Depends on container host
	Compiler: clang 17.0.6

Fedora 38 (Clang)
	Kernel: Depends on container host
	Compiler: clang 16.0.6

RHEL8
	Kernel: 5.4.0-167-generic
	Compiler: gcc 8.5.0 20210514 (Red Hat 8.5.0-20)

openSUSE Leap 15
	Kernel: 5.4.0-167-generic
	Compiler: gcc 7.5.0

Ubuntu 20.04
	Kernel: 5.4.0-167-generic
	Compiler: gcc 9.4.0-1ubuntu1~20.04.1

Ubuntu 22.04
	Kernel: 5.4.0-167-generic
	Compiler: gcc 11.4.0

Ubuntu 24.04
	Kernel: 5.4.0-167-generic
	Compiler: gcc 13.2.0

To view detailed results, visit:
https://lab.dpdk.org/results/dashboard/patchsets/30742/

UNH-IOL DPDK Community Lab

To manage your email subscriptions, visit: 
https://lab.dpdk.org/results/dashboard/preferences/subscriptions/