From mboxrd@z Thu Jan  1 00:00:00 1970
Return-Path: <test-report-bounces@dpdk.org>
Received: from mails.dpdk.org (mails.dpdk.org [217.70.189.124])
	by inbox.dpdk.org (Postfix) with ESMTP id E233B4576A
	for <public@inbox.dpdk.org>; Thu,  8 Aug 2024 12:50:43 +0200 (CEST)
Received: from mails.dpdk.org (localhost [127.0.0.1])
	by mails.dpdk.org (Postfix) with ESMTP id DE6CF42790;
	Thu,  8 Aug 2024 12:50:43 +0200 (CEST)
Received: from mail-oa1-f99.google.com (mail-oa1-f99.google.com
 [209.85.160.99]) by mails.dpdk.org (Postfix) with ESMTP id 9ADE640EDD
 for <test-report@dpdk.org>; Thu,  8 Aug 2024 12:50:39 +0200 (CEST)
Received: by mail-oa1-f99.google.com with SMTP id
 586e51a60fabf-26808290f43so1132179fac.0
 for <test-report@dpdk.org>; Thu, 08 Aug 2024 03:50:39 -0700 (PDT)
DKIM-Signature: v=1; a=rsa-sha256; c=relaxed/relaxed;
 d=iol.unh.edu; s=unh-iol; t=1723114239; x=1723719039; darn=dpdk.org;
 h=references:in-reply-to:cc:to:from:subject:message-id:date:from:to
 :cc:subject:date:message-id:reply-to;
 bh=3aX2ygyTdpb2Qdm1Uy79NnoANun2Dgvjc5B470jUZXs=;
 b=Ek/o6g9RQR/K2yavCRoaMYzUoFBV+WBZ2ZcFYeVDKGn5b6MMXHOqjCH0IDlmdjLsPX
 uspWkidf/uQnQWpv0Cmw2XRU+LuzMRxbQxH/V9pJyHoFdhh+RMbaCM3yUIgKBEukHmzK
 zv+9LVJdti+QzlXIooFGzLYzXrS6TxQa1ee1o=
X-Google-DKIM-Signature: v=1; a=rsa-sha256; c=relaxed/relaxed;
 d=1e100.net; s=20230601; t=1723114239; x=1723719039;
 h=references:in-reply-to:cc:to:from:subject:message-id:date
 :x-gm-message-state:from:to:cc:subject:date:message-id:reply-to;
 bh=3aX2ygyTdpb2Qdm1Uy79NnoANun2Dgvjc5B470jUZXs=;
 b=OopDEHGwKChz01cQpPTjenpSEM07sk/0a+FpnYMeJGcv3ko5r/uiLHevd8AoNRlKw9
 g+ZGP2SQ8YsXtXoy50ovIi8Ryyb13fJP9sOkKzHPUOZ1rVp6m3SBXlPbfUIPgiMkUKR7
 ik8Ub6QyEmZ6SKPfAFGyUDO6/yNsGpkYWjEo9EK69aOBvHAGUmRJPVr8soRE+SKL2HC3
 9kLO1qOlMEX/rWRpMpW+COqzffbz3v6tJDzghCRXAU3MFEhhzPb7i3v2uJilj+V4NMDa
 WxtNJKzX971re6JetgLfbwwQWwwKzLBMLMoaWZvEM3BUfeOY/Sz7xMU43pim/iz9X3ZK
 tuZg==
X-Gm-Message-State: AOJu0YwTY+yQgI3BY/nYgOS/nKBNxW6LXdNNk5uu4L694YEXMhnBmCQK
 X+R6GEYn4FSix190IE+bmRjOTjIogJuF/xbucwpgDGV+1w0S7DzW5oOu/6HAwGRF0BotQSR3biE
 fUa3KilMAmzXHYO+OzE8VVCtG2K1SILjzNCMMR4Lf
X-Google-Smtp-Source: AGHT+IEuIVzLQzkf474+tV0BoE+QnzJOFv1KvUGrolsBUstCKqOmTDUjIAmIT84LzPiFpyJwRrSQL+ydKRdb
X-Received: by 2002:a05:6870:be8d:b0:25d:fe73:28af with SMTP id
 586e51a60fabf-2692d569ab0mr418173fac.24.1723114238946; 
 Thu, 08 Aug 2024 03:50:38 -0700 (PDT)
Received: from postal.iol.unh.edu (postal.iol.unh.edu. [132.177.123.84])
 by smtp-relay.gmail.com with ESMTPS id
 586e51a60fabf-2689a5fd546sm1087772fac.31.2024.08.08.03.50.38
 (version=TLS1_2 cipher=ECDHE-ECDSA-AES128-GCM-SHA256 bits=128/128);
 Thu, 08 Aug 2024 03:50:38 -0700 (PDT)
X-Relaying-Domain: iol.unh.edu
Date: Thu, 08 Aug 2024 03:50:38 -0700 (PDT)
Message-ID: <66b4a2fe.050a0220.263ad2.7ffdSMTPIN_ADDED_MISSING@mx.google.com>
Received: from [172.21.0.8] (unknown [172.18.0.240])
 by postal.iol.unh.edu (Postfix) with ESMTP id 6EB5360526E2;
 Thu,  8 Aug 2024 06:50:38 -0400 (EDT)
Subject: |PENDING| pw143007-143008 [PATCH] [v13,2/2] dts: VLAN test suite imp
From: dpdklab@iol.unh.edu
To: Test Report <test-report@dpdk.org>
Cc: dpdk-test-reports@iol.unh.edu
In-Reply-To: <20240807194341.26102-3-dmarx@iol.unh.edu>
References: <20240807194341.26102-3-dmarx@iol.unh.edu>
Content-Type: text/plain
X-BeenThere: test-report@dpdk.org
X-Mailman-Version: 2.1.29
Precedence: list
List-Id: automatic DPDK test reports <test-report.dpdk.org>
List-Unsubscribe: <https://mails.dpdk.org/options/test-report>,
 <mailto:test-report-request@dpdk.org?subject=unsubscribe>
List-Archive: <http://mails.dpdk.org/archives/test-report/>
List-Post: <mailto:test-report@dpdk.org>
List-Help: <mailto:test-report-request@dpdk.org?subject=help>
List-Subscribe: <https://mails.dpdk.org/listinfo/test-report>,
 <mailto:test-report-request@dpdk.org?subject=subscribe>
Errors-To: test-report-bounces@dpdk.org

Test-Label: iol-unit-amd64-testing
Test-Status: PENDING
http://dpdk.org/patch/143008

_Testing pending_

Submitter: Dean Marx <dmarx@iol.unh.edu>
Date: Wednesday, August 07 2024 19:43:41 
DPDK git baseline: Repo:dpdk
  Branch: master
  CommitID:b3485f4293997d35b6daecc3437bb0c183a51fb3

143007-143008 --> testing pending

Upstream job id: Generic-Unit-Test-DPDK#249782

Test environment and result as below:

+---------------------+----------------+
|     Environment     | dpdk_unit_test |
+=====================+================+
| Windows Server 2022 | PASS           |
+---------------------+----------------+
| Windows Server 2019 | PASS           |
+---------------------+----------------+
| CentOS Stream 9     | PASS           |
+---------------------+----------------+
| Debian Bullseye     | PASS           |
+---------------------+----------------+
| Debian 12           | PEND           |
+---------------------+----------------+
| Fedora 37           | PASS           |
+---------------------+----------------+
| RHEL9               | PASS           |
+---------------------+----------------+
| Fedora 39           | PASS           |
+---------------------+----------------+
| Fedora 40           | PEND           |
+---------------------+----------------+
| Fedora 38           | PASS           |
+---------------------+----------------+
| Fedora 40 (Clang)   | PEND           |
+---------------------+----------------+
| Fedora 39 (Clang)   | PEND           |
+---------------------+----------------+
| Fedora 38 (Clang)   | PEND           |
+---------------------+----------------+
| RHEL8               | PEND           |
+---------------------+----------------+
| openSUSE Leap 15    | PEND           |
+---------------------+----------------+
| Ubuntu 20.04        | PEND           |
+---------------------+----------------+
| Ubuntu 22.04        | PEND           |
+---------------------+----------------+
| Ubuntu 24.04        | PEND           |
+---------------------+----------------+


Windows Server 2022
	Kernel: 10.0.20348.2031
	Compiler: clang 15.0.7, gcc 8.1.0 (MinGW), and MSVC VS 17.9

Windows Server 2019
	Kernel: 10.0.17763
	Compiler: clang 14.0 and gcc 8.1.0 (MinGW)

CentOS Stream 9
	Kernel: 5.4.0-167-generic
	Compiler: gcc 11.4.1 20230605

Debian Bullseye
	Kernel: 5.4.0-167-generic
	Compiler: gcc 10.2.1-6

Debian 12
	Kernel: Container Host Kernel
	Compiler: gcc 12.2.0

Fedora 37
	Kernel: Depends on container host system
	Compiler: gcc 12.3.1

RHEL9
	Kernel: Depends on container host
	Compiler: gcc 11.4.1

Fedora 39
	Kernel: Depends on container host
	Compiler: gcc 13.2.1

Fedora 40
	Kernel: Depends on container host
	Compiler: gcc 14.1.1

Fedora 38
	Kernel: Depends on container host
	Compiler: gcc 13.2.1

Fedora 40 (Clang)
	Kernel: Depends on container host
	Compiler: clang 18.1.6

Fedora 39 (Clang)
	Kernel: Depends on container host
	Compiler: clang 17.0.6

Fedora 38 (Clang)
	Kernel: Depends on container host
	Compiler: clang 16.0.6

RHEL8
	Kernel: 5.4.0-167-generic
	Compiler: gcc 8.5.0 20210514 (Red Hat 8.5.0-20)

openSUSE Leap 15
	Kernel: 5.4.0-167-generic
	Compiler: gcc 7.5.0

Ubuntu 20.04
	Kernel: 5.4.0-167-generic
	Compiler: gcc 9.4.0-1ubuntu1~20.04.1

Ubuntu 22.04
	Kernel: 5.4.0-167-generic
	Compiler: gcc 11.4.0

Ubuntu 24.04
	Kernel: 5.4.0-167-generic
	Compiler: gcc 13.2.0

To view detailed results, visit:
https://lab.dpdk.org/results/dashboard/patchsets/30742/

UNH-IOL DPDK Community Lab

To manage your email subscriptions, visit: 
https://lab.dpdk.org/results/dashboard/preferences/subscriptions/