From mboxrd@z Thu Jan  1 00:00:00 1970
Return-Path: <test-report-bounces@dpdk.org>
Received: from mails.dpdk.org (mails.dpdk.org [217.70.189.124])
	by inbox.dpdk.org (Postfix) with ESMTP id DA53F4576B
	for <public@inbox.dpdk.org>; Thu,  8 Aug 2024 13:27:21 +0200 (CEST)
Received: from mails.dpdk.org (localhost [127.0.0.1])
	by mails.dpdk.org (Postfix) with ESMTP id C9769427BD;
	Thu,  8 Aug 2024 13:27:21 +0200 (CEST)
Received: from mail-pf1-f225.google.com (mail-pf1-f225.google.com
 [209.85.210.225])
 by mails.dpdk.org (Postfix) with ESMTP id 4EA3A40EDD
 for <test-report@dpdk.org>; Thu,  8 Aug 2024 13:27:20 +0200 (CEST)
Received: by mail-pf1-f225.google.com with SMTP id
 d2e1a72fcca58-7106e2d0ec1so754102b3a.2
 for <test-report@dpdk.org>; Thu, 08 Aug 2024 04:27:20 -0700 (PDT)
DKIM-Signature: v=1; a=rsa-sha256; c=relaxed/relaxed;
 d=iol.unh.edu; s=unh-iol; t=1723116439; x=1723721239; darn=dpdk.org;
 h=references:in-reply-to:cc:to:from:subject:message-id:date:from:to
 :cc:subject:date:message-id:reply-to;
 bh=Wf3KB3EUh47Km2Pb2FeJ44iGcL2Waqfy7z8C5+iJcbg=;
 b=Vp9t/22QysDJiaZA8jsJ4MxqgHsRUuQMndrC2aQXjlICEBae/qhyGUmJURsJHFqNcw
 8yGl1ThRTBgRbp2fLj9nrCPI3EAaLtJIdzrEztbBWgnK5FpNAKimjKSPBZvi0GgWNvhc
 dNwNiPh2jwjHACAl1NetYk8qscm239RxQifXI=
X-Google-DKIM-Signature: v=1; a=rsa-sha256; c=relaxed/relaxed;
 d=1e100.net; s=20230601; t=1723116439; x=1723721239;
 h=references:in-reply-to:cc:to:from:subject:message-id:date
 :x-gm-message-state:from:to:cc:subject:date:message-id:reply-to;
 bh=Wf3KB3EUh47Km2Pb2FeJ44iGcL2Waqfy7z8C5+iJcbg=;
 b=SFOd+1/vUORlA9g1ifPp3BaWqaLHRcSPdK92Jr7a1yD8+wOxek7R7prQxWo5g8FLiS
 TTis8OYxasx9UcNu5PPRMSpwCyj5zTnOH8k2OEEhAP47S5i5N2myzgocT2ndKOVldZST
 6crv8CtW+LnAo0VKOT1fDThe+1fAgCLQNzZddlw+YyrMerEH2efHc780+cqIg6Bj7zqg
 QMqsW8rnYjfg9C3IqFAc+lYru1lRrbs0Z7jwoQv3HKs8bnxqjYKK3BOcgY5hZfrxFvbi
 NJiTX8APDlwL7L1AOLM1HAOvasQWVNpnrwvz6S3bf53G201cTOPu5zatPNmFMM3RZwpz
 sXtQ==
X-Gm-Message-State: AOJu0Yx1MzluavOI2hhBWFMguJbnFqfFSpPKTj/Uk6cEZni/2bEQ/5ri
 WmsUbDVBSprb2Zz3mvr9IljMJ5ZLC27tA4Sei+WtKutxvZVJF0WGaeS5nqJ4DoLwJb8RfGQO0uZ
 RqywV2L/lpDr1phT1fO/Us2ZQXut0jQN/Ugl0LRvImsS3+ZfqaLr2A3ls
X-Google-Smtp-Source: AGHT+IGPEkodZ7LeDZQncfLQS5aiegtSI9/0IjeAzxXA/cTCYZGW57teFTsazc9B3OHr5NSKk+YnTymRqif5
X-Received: by 2002:a05:6a00:995:b0:705:c029:c993 with SMTP id
 d2e1a72fcca58-710cada6721mr1797799b3a.14.1723116439458; 
 Thu, 08 Aug 2024 04:27:19 -0700 (PDT)
Received: from postal.iol.unh.edu (postal.iol.unh.edu.
 [2606:4100:3880:1234::84]) by smtp-relay.gmail.com with ESMTPS id
 d2e1a72fcca58-710cb2dc141sm58275b3a.18.2024.08.08.04.27.19
 (version=TLS1_2 cipher=ECDHE-ECDSA-AES128-GCM-SHA256 bits=128/128);
 Thu, 08 Aug 2024 04:27:19 -0700 (PDT)
X-Relaying-Domain: iol.unh.edu
Date: Thu, 08 Aug 2024 04:27:19 -0700 (PDT)
Message-ID: <66b4ab97.050a0220.1b2b5c.4753SMTPIN_ADDED_MISSING@mx.google.com>
Received: from [172.21.0.7] (unknown [172.18.0.240])
 by postal.iol.unh.edu (Postfix) with ESMTP id 9636A60526E2;
 Thu,  8 Aug 2024 07:27:18 -0400 (EDT)
Subject: |PENDING| pw143005-143006 [PATCH] [v9,2/2] dts: initial queue start/
From: dpdklab@iol.unh.edu
To: Test Report <test-report@dpdk.org>
Cc: dpdk-test-reports@iol.unh.edu
In-Reply-To: <20240807193611.23060-3-dmarx@iol.unh.edu>
References: <20240807193611.23060-3-dmarx@iol.unh.edu>
Content-Type: text/plain
X-BeenThere: test-report@dpdk.org
X-Mailman-Version: 2.1.29
Precedence: list
List-Id: automatic DPDK test reports <test-report.dpdk.org>
List-Unsubscribe: <https://mails.dpdk.org/options/test-report>,
 <mailto:test-report-request@dpdk.org?subject=unsubscribe>
List-Archive: <http://mails.dpdk.org/archives/test-report/>
List-Post: <mailto:test-report@dpdk.org>
List-Help: <mailto:test-report-request@dpdk.org?subject=help>
List-Subscribe: <https://mails.dpdk.org/listinfo/test-report>,
 <mailto:test-report-request@dpdk.org?subject=subscribe>
Errors-To: test-report-bounces@dpdk.org

Test-Label: iol-unit-amd64-testing
Test-Status: PENDING
http://dpdk.org/patch/143006

_Testing pending_

Submitter: Dean Marx <dmarx@iol.unh.edu>
Date: Wednesday, August 07 2024 19:36:11 
DPDK git baseline: Repo:dpdk
  Branch: master
  CommitID:b3485f4293997d35b6daecc3437bb0c183a51fb3

143005-143006 --> testing pending

Upstream job id: Generic-Unit-Test-DPDK#249813

Test environment and result as below:

+---------------------+----------------+
|     Environment     | dpdk_unit_test |
+=====================+================+
| Windows Server 2019 | PASS           |
+---------------------+----------------+
| Windows Server 2022 | PASS           |
+---------------------+----------------+
| CentOS Stream 9     | PASS           |
+---------------------+----------------+
| Debian 12           | PASS           |
+---------------------+----------------+
| Debian Bullseye     | PEND           |
+---------------------+----------------+
| Fedora 37           | PASS           |
+---------------------+----------------+
| Fedora 38           | PASS           |
+---------------------+----------------+
| Fedora 38 (Clang)   | PEND           |
+---------------------+----------------+
| Fedora 39           | PEND           |
+---------------------+----------------+
| Fedora 39 (Clang)   | PEND           |
+---------------------+----------------+
| Fedora 40           | PEND           |
+---------------------+----------------+
| Fedora 40 (Clang)   | PEND           |
+---------------------+----------------+
| RHEL8               | PEND           |
+---------------------+----------------+
| openSUSE Leap 15    | PEND           |
+---------------------+----------------+
| RHEL9               | PEND           |
+---------------------+----------------+
| Ubuntu 20.04        | PEND           |
+---------------------+----------------+
| Ubuntu 22.04        | PEND           |
+---------------------+----------------+
| Ubuntu 24.04        | PEND           |
+---------------------+----------------+


Windows Server 2019
	Kernel: 10.0.17763
	Compiler: clang 14.0 and gcc 8.1.0 (MinGW)

Windows Server 2022
	Kernel: 10.0.20348.2031
	Compiler: clang 15.0.7, gcc 8.1.0 (MinGW), and MSVC VS 17.9

CentOS Stream 9
	Kernel: 5.4.0-167-generic
	Compiler: gcc 11.4.1 20230605

Debian 12
	Kernel: Container Host Kernel
	Compiler: gcc 12.2.0

Debian Bullseye
	Kernel: 5.4.0-167-generic
	Compiler: gcc 10.2.1-6

Fedora 37
	Kernel: Depends on container host system
	Compiler: gcc 12.3.1

Fedora 38
	Kernel: Depends on container host
	Compiler: gcc 13.2.1

Fedora 38 (Clang)
	Kernel: Depends on container host
	Compiler: clang 16.0.6

Fedora 39
	Kernel: Depends on container host
	Compiler: gcc 13.2.1

Fedora 39 (Clang)
	Kernel: Depends on container host
	Compiler: clang 17.0.6

Fedora 40
	Kernel: Depends on container host
	Compiler: gcc 14.1.1

Fedora 40 (Clang)
	Kernel: Depends on container host
	Compiler: clang 18.1.6

RHEL8
	Kernel: 5.4.0-167-generic
	Compiler: gcc 8.5.0 20210514 (Red Hat 8.5.0-20)

openSUSE Leap 15
	Kernel: 5.4.0-167-generic
	Compiler: gcc 7.5.0

RHEL9
	Kernel: Depends on container host
	Compiler: gcc 11.4.1

Ubuntu 20.04
	Kernel: 5.4.0-167-generic
	Compiler: gcc 9.4.0-1ubuntu1~20.04.1

Ubuntu 22.04
	Kernel: 5.4.0-167-generic
	Compiler: gcc 11.4.0

Ubuntu 24.04
	Kernel: 5.4.0-167-generic
	Compiler: gcc 13.2.0

To view detailed results, visit:
https://lab.dpdk.org/results/dashboard/patchsets/30741/

UNH-IOL DPDK Community Lab

To manage your email subscriptions, visit: 
https://lab.dpdk.org/results/dashboard/preferences/subscriptions/