From mboxrd@z Thu Jan  1 00:00:00 1970
Return-Path: <test-report-bounces@dpdk.org>
Received: from mails.dpdk.org (mails.dpdk.org [217.70.189.124])
	by inbox.dpdk.org (Postfix) with ESMTP id AD9774576B
	for <public@inbox.dpdk.org>; Thu,  8 Aug 2024 15:22:57 +0200 (CEST)
Received: from mails.dpdk.org (localhost [127.0.0.1])
	by mails.dpdk.org (Postfix) with ESMTP id A8F4142790;
	Thu,  8 Aug 2024 15:22:57 +0200 (CEST)
Received: from mail-pl1-f228.google.com (mail-pl1-f228.google.com
 [209.85.214.228])
 by mails.dpdk.org (Postfix) with ESMTP id 4D4684066F
 for <test-report@dpdk.org>; Thu,  8 Aug 2024 15:22:56 +0200 (CEST)
Received: by mail-pl1-f228.google.com with SMTP id
 d9443c01a7336-1fc47abc040so7987375ad.0
 for <test-report@dpdk.org>; Thu, 08 Aug 2024 06:22:56 -0700 (PDT)
DKIM-Signature: v=1; a=rsa-sha256; c=relaxed/relaxed;
 d=iol.unh.edu; s=unh-iol; t=1723123375; x=1723728175; darn=dpdk.org;
 h=references:in-reply-to:cc:to:from:subject:message-id:date:from:to
 :cc:subject:date:message-id:reply-to;
 bh=jps1cqhwTEBdGqG9M2TO9RbFbCL11qjsj7gMUN2Npko=;
 b=Qb9/ecgsuzDu3PXcLHK1qFDYmsPgGo7VLtL7a6by0ObXUePyt0ypvEVlSjzbwT8a4H
 fTMNTaVBZuKfcZ4LRYwKO48hUkUUj+eTc4S48HhOUrMg5UBmqeFkdQn5uViX02us/dJx
 V8L7D9b9EDhSxhby42c59U4u8JKNqkIU3AUYE=
X-Google-DKIM-Signature: v=1; a=rsa-sha256; c=relaxed/relaxed;
 d=1e100.net; s=20230601; t=1723123375; x=1723728175;
 h=references:in-reply-to:cc:to:from:subject:message-id:date
 :x-gm-message-state:from:to:cc:subject:date:message-id:reply-to;
 bh=jps1cqhwTEBdGqG9M2TO9RbFbCL11qjsj7gMUN2Npko=;
 b=dkIbYo7rMC0bGxPFs81Jr+EApcpotKU+RnaHiEMNIrJBpDrq7XqIctzQLiJa/N3gYU
 LA5gNFgHrvN8myPWh+GykN7J9rlO5VT3I/jf+G5Mi39eVaQesFopQrVv5CZMuYfPHCtE
 8zZ78dbtHPSJVCXwWD1QfuquA4xJGR13mLUj4WaBoS+Tya17mEfcnUWwyxrPuK9MU4KT
 y7tcbxCvYELdnzWJgUU/V0FxdYq/XrAwPntiM6NsvlAr7CVBmjdQP6+5Ra8/20rctBkL
 xvjvYiUHSWsW42hLnHAFXFrC2eJziL+SEnis8IaDTRYCdOaGTtAxJEzTXJmtfMZ9Bm0Y
 lq2w==
X-Gm-Message-State: AOJu0Yz4p4+U/HmnrWAN9Wm8McBwHvhsU2sL8qmb1M/G55QLvZsIlizb
 2DAw75LsxSv4Y30JQnqsibayC1P6FlFNBdV6Vd5nlPZPkNRpee0vHO6SVk+WB/SO/Rbvl4VhEmO
 6wg7VGpdZOfc7/0wSdIQD9uPoy+q5BjQ+jGy7lcr/
X-Google-Smtp-Source: AGHT+IHvMpjcUi2tZZrxytZoVt7XttCvrrv6HGpqFFgT9hHYQdOOPrSTp8gG8qpuoSKOgWXwue+cItqPbxCx
X-Received: by 2002:a17:902:f683:b0:1fc:5462:7eb7 with SMTP id
 d9443c01a7336-200953c1ec3mr20355645ad.58.1723123375409; 
 Thu, 08 Aug 2024 06:22:55 -0700 (PDT)
Received: from postal.iol.unh.edu (postal.iol.unh.edu. [132.177.123.84])
 by smtp-relay.gmail.com with ESMTPS id
 d9443c01a7336-1ff5906916bsm10032575ad.99.2024.08.08.06.22.55
 (version=TLS1_2 cipher=ECDHE-ECDSA-AES128-GCM-SHA256 bits=128/128);
 Thu, 08 Aug 2024 06:22:55 -0700 (PDT)
X-Relaying-Domain: iol.unh.edu
Date: Thu, 08 Aug 2024 06:22:55 -0700 (PDT)
Message-ID: <66b4c6af.170a0220.16551.2735SMTPIN_ADDED_MISSING@mx.google.com>
Received: from [172.21.0.9] (unknown [172.18.0.240])
 by postal.iol.unh.edu (Postfix) with ESMTP id CAB9D60526E2;
 Thu,  8 Aug 2024 09:22:54 -0400 (EDT)
Subject: |PENDING| pw143017 [PATCH] version: 24.11-rc0
From: dpdklab@iol.unh.edu
To: Test Report <test-report@dpdk.org>
Cc: dpdk-test-reports@iol.unh.edu
In-Reply-To: <20240808080302.1597753-1-david.marchand@redhat.com>
References: <20240808080302.1597753-1-david.marchand@redhat.com>
Content-Type: text/plain
X-BeenThere: test-report@dpdk.org
X-Mailman-Version: 2.1.29
Precedence: list
List-Id: automatic DPDK test reports <test-report.dpdk.org>
List-Unsubscribe: <https://mails.dpdk.org/options/test-report>,
 <mailto:test-report-request@dpdk.org?subject=unsubscribe>
List-Archive: <http://mails.dpdk.org/archives/test-report/>
List-Post: <mailto:test-report@dpdk.org>
List-Help: <mailto:test-report-request@dpdk.org?subject=help>
List-Subscribe: <https://mails.dpdk.org/listinfo/test-report>,
 <mailto:test-report-request@dpdk.org?subject=subscribe>
Errors-To: test-report-bounces@dpdk.org

Test-Label: iol-unit-amd64-testing
Test-Status: PENDING
http://dpdk.org/patch/143017

_Testing pending_

Submitter: David Marchand <david.marchand@redhat.com>
Date: Thursday, August 08 2024 08:03:02 
DPDK git baseline: Repo:dpdk
  Branch: master
  CommitID:b3485f4293997d35b6daecc3437bb0c183a51fb3

143017 --> testing pending

Upstream job id: Generic-Unit-Test-DPDK#249893

Test environment and result as below:

+---------------------+----------------+
|     Environment     | dpdk_unit_test |
+=====================+================+
| Windows Server 2019 | PASS           |
+---------------------+----------------+
| Windows Server 2022 | PASS           |
+---------------------+----------------+
| CentOS Stream 9     | PASS           |
+---------------------+----------------+
| Debian Bullseye     | PASS           |
+---------------------+----------------+
| Debian 12           | PASS           |
+---------------------+----------------+
| Fedora 38           | PASS           |
+---------------------+----------------+
| Fedora 37           | PASS           |
+---------------------+----------------+
| Fedora 39           | PASS           |
+---------------------+----------------+
| Fedora 38 (Clang)   | PASS           |
+---------------------+----------------+
| Fedora 39 (Clang)   | PASS           |
+---------------------+----------------+
| Fedora 40           | PASS           |
+---------------------+----------------+
| Fedora 40 (Clang)   | PASS           |
+---------------------+----------------+
| openSUSE Leap 15    | PASS           |
+---------------------+----------------+
| RHEL9               | PASS           |
+---------------------+----------------+
| RHEL8               | PASS           |
+---------------------+----------------+
| Ubuntu 20.04        | PEND           |
+---------------------+----------------+
| Ubuntu 22.04        | PEND           |
+---------------------+----------------+
| Ubuntu 24.04        | PEND           |
+---------------------+----------------+


Windows Server 2019
	Kernel: 10.0.17763
	Compiler: clang 14.0 and gcc 8.1.0 (MinGW)

Windows Server 2022
	Kernel: 10.0.20348.2031
	Compiler: clang 15.0.7, gcc 8.1.0 (MinGW), and MSVC VS 17.9

CentOS Stream 9
	Kernel: 5.4.0-167-generic
	Compiler: gcc 11.4.1 20230605

Debian Bullseye
	Kernel: 5.4.0-167-generic
	Compiler: gcc 10.2.1-6

Debian 12
	Kernel: Container Host Kernel
	Compiler: gcc 12.2.0

Fedora 38
	Kernel: Depends on container host
	Compiler: gcc 13.2.1

Fedora 37
	Kernel: Depends on container host system
	Compiler: gcc 12.3.1

Fedora 39
	Kernel: Depends on container host
	Compiler: gcc 13.2.1

Fedora 38 (Clang)
	Kernel: Depends on container host
	Compiler: clang 16.0.6

Fedora 39 (Clang)
	Kernel: Depends on container host
	Compiler: clang 17.0.6

Fedora 40
	Kernel: Depends on container host
	Compiler: gcc 14.1.1

Fedora 40 (Clang)
	Kernel: Depends on container host
	Compiler: clang 18.1.6

openSUSE Leap 15
	Kernel: 5.4.0-167-generic
	Compiler: gcc 7.5.0

RHEL9
	Kernel: Depends on container host
	Compiler: gcc 11.4.1

RHEL8
	Kernel: 5.4.0-167-generic
	Compiler: gcc 8.5.0 20210514 (Red Hat 8.5.0-20)

Ubuntu 20.04
	Kernel: 5.4.0-167-generic
	Compiler: gcc 9.4.0-1ubuntu1~20.04.1

Ubuntu 22.04
	Kernel: 5.4.0-167-generic
	Compiler: gcc 11.4.0

Ubuntu 24.04
	Kernel: 5.4.0-167-generic
	Compiler: gcc 13.2.0

To view detailed results, visit:
https://lab.dpdk.org/results/dashboard/patchsets/30746/

UNH-IOL DPDK Community Lab

To manage your email subscriptions, visit: 
https://lab.dpdk.org/results/dashboard/preferences/subscriptions/