From mboxrd@z Thu Jan  1 00:00:00 1970
Return-Path: <test-report-bounces@dpdk.org>
Received: from mails.dpdk.org (mails.dpdk.org [217.70.189.124])
	by inbox.dpdk.org (Postfix) with ESMTP id 5C8A84576B
	for <public@inbox.dpdk.org>; Thu,  8 Aug 2024 15:50:34 +0200 (CEST)
Received: from mails.dpdk.org (localhost [127.0.0.1])
	by mails.dpdk.org (Postfix) with ESMTP id 5995142790;
	Thu,  8 Aug 2024 15:50:34 +0200 (CEST)
Received: from mail-yw1-f228.google.com (mail-yw1-f228.google.com
 [209.85.128.228])
 by mails.dpdk.org (Postfix) with ESMTP id 4D6804066F
 for <test-report@dpdk.org>; Thu,  8 Aug 2024 15:50:32 +0200 (CEST)
Received: by mail-yw1-f228.google.com with SMTP id
 00721157ae682-66c7aeac627so10383397b3.1
 for <test-report@dpdk.org>; Thu, 08 Aug 2024 06:50:32 -0700 (PDT)
DKIM-Signature: v=1; a=rsa-sha256; c=relaxed/relaxed;
 d=iol.unh.edu; s=unh-iol; t=1723125031; x=1723729831; darn=dpdk.org;
 h=references:in-reply-to:cc:to:from:subject:message-id:date:from:to
 :cc:subject:date:message-id:reply-to;
 bh=yPBtIKy7CwvjamSdjgVA4nbvUEJn0puAIMWYueL0IhY=;
 b=LhEEFsKZotXECAaCNNtHfABKDUp2N5tGDZucvNLPe12ur/xtvK3yapcNcYPnU+BKM7
 63PrTP66ZSEC56VXrpfs9kiNl9A38iQczewisH0RlXJgxWg/Haliv952BTjZLqfR41qd
 O2nR6ru78Qp9uIgOlz/qOJW/jR+63nX5VQkfo=
X-Google-DKIM-Signature: v=1; a=rsa-sha256; c=relaxed/relaxed;
 d=1e100.net; s=20230601; t=1723125031; x=1723729831;
 h=references:in-reply-to:cc:to:from:subject:message-id:date
 :x-gm-message-state:from:to:cc:subject:date:message-id:reply-to;
 bh=yPBtIKy7CwvjamSdjgVA4nbvUEJn0puAIMWYueL0IhY=;
 b=YTUh/bUc3PCbU84YnuntKddUgtNd7KBO5kotF4YhkKxHPUv1ob3TxORXRy67Ajkedr
 Y+levj2HTIBaiFA6w8PBK64ENSVgW+tsKs/yrMSoeT13naa8Df43ky/6HLQTtNDDHK5F
 LdtBGgPGZ2OyC2G6dtcrrL14laa2Sw2FO6nlHGv6+hmOfP/dD+/b67lkJf2pbB8fS0Ja
 YSa9ucBqRRPdGa8DZiDyVcdZBnORl1ure7RFKjqlQuxQizR95MxR+ZjS4TwZ7i2QOEWC
 r1FWZaDPzUUaEPZNBcRae7AzMjVdo9bE+DaEUM2JKserXCt4BHtS4D8oKRKmqwPMpVpB
 fQwA==
X-Gm-Message-State: AOJu0Yy/Pc1WEXgqogM01MUtwUYCB3lEZUXTnaT4QqgZ8NAFM1MwUco6
 Svd9AxTdTVWgNCMRCMl6ggclzSQ2AO01DkmSFMNWMupVOgj2anyNCMUgddllh4TcpnnDW27Nnt2
 Naqr2vjb3mJ+7MA+BL8ZJHNfEvs7bAWXpSoXWc3UE
X-Google-Smtp-Source: AGHT+IEw5k1UUe6ITCJRm2manKUVsNtONJsW/SN5fiukEeSIDXBdy6u1KyldtpPdfgo6/c/KNlZEitTrsQ10
X-Received: by 2002:a05:690c:660f:b0:64a:9832:48a with SMTP id
 00721157ae682-69bf1d66303mr23876647b3.0.1723125031572; 
 Thu, 08 Aug 2024 06:50:31 -0700 (PDT)
Received: from postal.iol.unh.edu (postal.iol.unh.edu. [132.177.123.84])
 by smtp-relay.gmail.com with ESMTPS id
 00721157ae682-68a1264a660sm15786827b3.28.2024.08.08.06.50.31
 (version=TLS1_2 cipher=ECDHE-ECDSA-AES128-GCM-SHA256 bits=128/128);
 Thu, 08 Aug 2024 06:50:31 -0700 (PDT)
X-Relaying-Domain: iol.unh.edu
Date: Thu, 08 Aug 2024 06:50:31 -0700 (PDT)
Message-ID: <66b4cd27.0d0a0220.1894b6.b288SMTPIN_ADDED_MISSING@mx.google.com>
Received: from [172.17.0.2] (unknown [172.18.0.217])
 by postal.iol.unh.edu (Postfix) with ESMTP id 377756050A6B;
 Thu,  8 Aug 2024 09:50:31 -0400 (EDT)
Subject: |PENDING| pw143017 [PATCH] version: 24.11-rc0
From: dpdklab@iol.unh.edu
To: Test Report <test-report@dpdk.org>
Cc: dpdk-test-reports@iol.unh.edu
In-Reply-To: <20240808080302.1597753-1-david.marchand@redhat.com>
References: <20240808080302.1597753-1-david.marchand@redhat.com>
Content-Type: text/plain
X-BeenThere: test-report@dpdk.org
X-Mailman-Version: 2.1.29
Precedence: list
List-Id: automatic DPDK test reports <test-report.dpdk.org>
List-Unsubscribe: <https://mails.dpdk.org/options/test-report>,
 <mailto:test-report-request@dpdk.org?subject=unsubscribe>
List-Archive: <http://mails.dpdk.org/archives/test-report/>
List-Post: <mailto:test-report@dpdk.org>
List-Help: <mailto:test-report-request@dpdk.org?subject=help>
List-Subscribe: <https://mails.dpdk.org/listinfo/test-report>,
 <mailto:test-report-request@dpdk.org?subject=subscribe>
Errors-To: test-report-bounces@dpdk.org

Test-Label: iol-compile-arm64-testing
Test-Status: PENDING
http://dpdk.org/patch/143017

_Testing pending_

Submitter: David Marchand <david.marchand@redhat.com>
Date: Thursday, August 08 2024 08:03:02 
DPDK git baseline: Repo:dpdk
  Branch: master
  CommitID:b3485f4293997d35b6daecc3437bb0c183a51fb3

143017 --> testing pending

Upstream job id: Generic-DPDK-Compile-Meson#285784

Test environment and result as below:

+----------------------------------------+--------------------+
|              Environment               | dpdk_meson_compile |
+========================================+====================+
| RHEL9 (ARM)                            | PASS               |
+----------------------------------------+--------------------+
| Ubuntu 20.04 ARM GCC Cross Compile     | PASS               |
+----------------------------------------+--------------------+
| Ubuntu 20.04 ARM SVE                   | PASS               |
+----------------------------------------+--------------------+
| Debian 12 with MUSDK                   | PASS               |
+----------------------------------------+--------------------+
| Fedora 37 (ARM)                        | PASS               |
+----------------------------------------+--------------------+
| Fedora 38 (ARM)                        | PASS               |
+----------------------------------------+--------------------+
| Fedora 38 (ARM Clang)                  | PEND               |
+----------------------------------------+--------------------+
| Fedora 39 (ARM)                        | PASS               |
+----------------------------------------+--------------------+
| Fedora 39 (ARM Clang)                  | PEND               |
+----------------------------------------+--------------------+
| Fedora 40 (ARM)                        | PASS               |
+----------------------------------------+--------------------+
| Fedora 40 (ARM Clang)                  | PEND               |
+----------------------------------------+--------------------+
| Ubuntu 20.04 (ARM)                     | PEND               |
+----------------------------------------+--------------------+
| Ubuntu 22.04 (ARM)                     | PEND               |
+----------------------------------------+--------------------+
| Ubuntu 24.04 (ARM)                     | PASS               |
+----------------------------------------+--------------------+
| CentOS Stream 9 (ARM)                  | PEND               |
+----------------------------------------+--------------------+
| Debian 11 (Buster) (ARM)               | PEND               |
+----------------------------------------+--------------------+
| Debian 12 (arm)                        | PEND               |
+----------------------------------------+--------------------+
| Ubuntu 20.04 ARM Clang Cross Compile   | PEND               |
+----------------------------------------+--------------------+
| Ubuntu 20.04 aarch32 GCC Cross Compile | PASS               |
+----------------------------------------+--------------------+


RHEL9 (ARM)
	Kernel: Depends on container host
	Compiler: gcc 11.4.1

Ubuntu 20.04 ARM GCC Cross Compile
	Kernel: 5.4.0-167-generic
	Compiler: aarch64-linux-gnu-gcc (Ubuntu 9.4.0-1ubuntu1~20.04.2) 9.4.0

Ubuntu 20.04 ARM SVE
	Kernel: 5.4.0-167-generic
	Compiler: gcc (Ubuntu 10.5.0-1ubuntu1~20.04) 10.5.0

Debian 12 with MUSDK
	Kernel: Container Host Kernel
	Compiler: gcc 12.2.0

Fedora 37 (ARM)
	Kernel: Depends on container host
	Compiler: gcc 12.3.1

Fedora 38 (ARM)
	Kernel: Depends on container host
	Compiler: gcc 13.2.1

Fedora 38 (ARM Clang)
	Kernel: Depends on container host
	Compiler: clang 16.0.6

Fedora 39 (ARM)
	Kernel: Depends on container host
	Compiler: gcc 13.2.1

Fedora 39 (ARM Clang)
	Kernel: Depends on container host
	Compiler: clang 17.0.6

Fedora 40 (ARM)
	Kernel: Depends on container host
	Compiler: gcc 14.1.1

Fedora 40 (ARM Clang)
	Kernel: Depends on container host
	Compiler: clang 18.1.6

Ubuntu 20.04 (ARM)
	Kernel: Container Host Kernel
	Compiler: gcc 9.4.0

Ubuntu 22.04 (ARM)
	Kernel: Container Host Kernel
	Compiler: gcc 11.4.0

Ubuntu 24.04 (ARM)
	Kernel: 5.4.0-167-generic
	Compiler: gcc 13.2.0

CentOS Stream 9 (ARM)
	Kernel: Container Host Kernel
	Compiler: gcc 11.4.1

Debian 11 (Buster) (ARM)
	Kernel: Container Host Kernel
	Compiler: gcc 10.2.1

Debian 12 (arm)
	Kernel: Container Host Kernel
	Compiler: gcc 12.2.0

Ubuntu 20.04 ARM Clang Cross Compile
	Kernel: 5.4.0-72-generic
	Compiler: clang 10.0.0-4ubuntu1

Ubuntu 20.04 aarch32 GCC Cross Compile
	Kernel: 5.4.0-167-generic
	Compiler: gcc 9.4.0

To view detailed results, visit:
https://lab.dpdk.org/results/dashboard/patchsets/30746/

UNH-IOL DPDK Community Lab

To manage your email subscriptions, visit: 
https://lab.dpdk.org/results/dashboard/preferences/subscriptions/