From mboxrd@z Thu Jan  1 00:00:00 1970
Return-Path: <test-report-bounces@dpdk.org>
Received: from mails.dpdk.org (mails.dpdk.org [217.70.189.124])
	by inbox.dpdk.org (Postfix) with ESMTP id 940B34576C
	for <public@inbox.dpdk.org>; Thu,  8 Aug 2024 17:02:55 +0200 (CEST)
Received: from mails.dpdk.org (localhost [127.0.0.1])
	by mails.dpdk.org (Postfix) with ESMTP id 52B374278D;
	Thu,  8 Aug 2024 17:02:55 +0200 (CEST)
Received: from mail-yw1-f226.google.com (mail-yw1-f226.google.com
 [209.85.128.226])
 by mails.dpdk.org (Postfix) with ESMTP id C82AD4066F
 for <test-report@dpdk.org>; Thu,  8 Aug 2024 17:02:53 +0200 (CEST)
Received: by mail-yw1-f226.google.com with SMTP id
 00721157ae682-66c7aeac627so11300657b3.1
 for <test-report@dpdk.org>; Thu, 08 Aug 2024 08:02:53 -0700 (PDT)
DKIM-Signature: v=1; a=rsa-sha256; c=relaxed/relaxed;
 d=iol.unh.edu; s=unh-iol; t=1723129373; x=1723734173; darn=dpdk.org;
 h=references:in-reply-to:cc:to:from:subject:message-id:date:from:to
 :cc:subject:date:message-id:reply-to;
 bh=wrFJ1oCAoCCyex5Q1MvCETZQpUShTvZwnI+VjJqbjfw=;
 b=JhRGzmtJRD8UI8nm0VaBSoBBFtqrl6C4M9tCqx7YTuZwW6JhGsLRskuuE/izj3Nw4t
 xahYWXLEigFnI+IrFFpzrVVskZ0jq2ruNUf2I7mWVm9exGnRxxgJ2Ptbf23XCyQOaq4e
 uTX076MkgwR+Lif3RPALGaP+bFWGK1gDofQqk=
X-Google-DKIM-Signature: v=1; a=rsa-sha256; c=relaxed/relaxed;
 d=1e100.net; s=20230601; t=1723129373; x=1723734173;
 h=references:in-reply-to:cc:to:from:subject:message-id:date
 :x-gm-message-state:from:to:cc:subject:date:message-id:reply-to;
 bh=wrFJ1oCAoCCyex5Q1MvCETZQpUShTvZwnI+VjJqbjfw=;
 b=K91qqpFKqpbBIE9eq0cZWFr/5ZuWWKcWnB1mOq/BfoPNB5tZcoSG0v/pLBz2vtSwFM
 BOKDseRX6+Pb/J+JjryUndlfViELOUXO5KMJ7OhAshYqWk1sXMOnTigOz1HmEG2OwBzE
 sNh/82tnRhEpd/8++gnVmfkMHfiRvJlavpEj9bZFGXUFaCFvwO4Tmvbfa8r7ldoLtJc+
 daBvi8ssqVTGYw/3hOf6pZOS+7ghT4yY6RQsvSExa9Rhf6ex3G7ECs3AaeMsNFD5y2Eo
 933XsERYWijeFR6zd/FaLzqN29TkkbinENu5ZWSbbVo+9Z87CHq0/pTDC3DgzDjwFrJN
 5baQ==
X-Gm-Message-State: AOJu0YxAMDT9Iy7aZjV/nh3Pt464QfNFP+gtHKHFUVHkMXvmfsYfflCR
 Y780yTQ0c9Do9FZopv6tc1y/qW0SkVAtl1DoTZa9iUZd9kGcjgFNsMBogJj8aiZGkxRZOXUqUao
 WzbnvqCHX4ksftH6VEFoJp4IJvu/oyGqiJldk50pgCr9HDNWR0d/av7zm
X-Google-Smtp-Source: AGHT+IGMTyvlZDcnZSfn8sgBQAZtae6ulQaoOzJat7XrYv2/HzwL6HakI1ixONtiaP8bm1HN7latvo0VQC3V
X-Received: by 2002:a05:690c:389:b0:61a:d30f:a9c4 with SMTP id
 00721157ae682-69bf716a164mr31458637b3.8.1723129372989; 
 Thu, 08 Aug 2024 08:02:52 -0700 (PDT)
Received: from postal.iol.unh.edu (postal.iol.unh.edu.
 [2606:4100:3880:1234::84]) by smtp-relay.gmail.com with ESMTPS id
 00721157ae682-68a15c530f8sm15843027b3.59.2024.08.08.08.02.52
 (version=TLS1_2 cipher=ECDHE-ECDSA-AES128-GCM-SHA256 bits=128/128);
 Thu, 08 Aug 2024 08:02:52 -0700 (PDT)
X-Relaying-Domain: iol.unh.edu
Date: Thu, 08 Aug 2024 08:02:52 -0700 (PDT)
Message-ID: <66b4de1c.0d0a0220.7c93f.d152SMTPIN_ADDED_MISSING@mx.google.com>
Received: from [172.17.0.2] (unknown [172.18.0.217])
 by postal.iol.unh.edu (Postfix) with ESMTP id 9A3D9605C351;
 Thu,  8 Aug 2024 11:02:52 -0400 (EDT)
Subject: |SUCCESS| pw143017 [PATCH] version: 24.11-rc0
From: dpdklab@iol.unh.edu
To: Test Report <test-report@dpdk.org>
Cc: dpdk-test-reports@iol.unh.edu
In-Reply-To: <20240808080302.1597753-1-david.marchand@redhat.com>
References: <20240808080302.1597753-1-david.marchand@redhat.com>
Content-Type: text/plain
X-BeenThere: test-report@dpdk.org
X-Mailman-Version: 2.1.29
Precedence: list
List-Id: automatic DPDK test reports <test-report.dpdk.org>
List-Unsubscribe: <https://mails.dpdk.org/options/test-report>,
 <mailto:test-report-request@dpdk.org?subject=unsubscribe>
List-Archive: <http://mails.dpdk.org/archives/test-report/>
List-Post: <mailto:test-report@dpdk.org>
List-Help: <mailto:test-report-request@dpdk.org?subject=help>
List-Subscribe: <https://mails.dpdk.org/listinfo/test-report>,
 <mailto:test-report-request@dpdk.org?subject=subscribe>
Errors-To: test-report-bounces@dpdk.org

Test-Label: iol-sample-apps-testing
Test-Status: SUCCESS
http://dpdk.org/patch/143017

_Testing PASS_

Submitter: David Marchand <david.marchand@redhat.com>
Date: Thursday, August 08 2024 08:03:02 
DPDK git baseline: Repo:dpdk
  Branch: master
  CommitID:b3485f4293997d35b6daecc3437bb0c183a51fb3

143017 --> testing pass

Upstream job id: ACVP-FIPS-testing#6565

Test environment and result as below:

+--------------------+----------------------+----------------------+
|    Environment     | compressdev_zlib_pmd | dpdk_fips_validation |
+====================+======================+======================+
| Ubuntu 22.04 (ARM) | PASS                 | SKIPPED              |
+--------------------+----------------------+----------------------+
| Ubuntu 22.04       | PASS                 | SKIPPED              |
+--------------------+----------------------+----------------------+
| Ubuntu 20.04       | SKIPPED              | PASS                 |
+--------------------+----------------------+----------------------+


Ubuntu 22.04 (ARM)
	Kernel: 5.15.0-97-generic
	Compiler: gcc gcc (Ubuntu 11.4.0-1ubuntu1~22.04) 11.4.0

Ubuntu 22.04
	Kernel: 5.15.0-100-generic
	Compiler: gcc gcc (Ubuntu 11.4.0-1ubuntu1~22.04) 11.4.0

Ubuntu 20.04
	Kernel: 5.4.0-167-generic
	Compiler: gcc 9.4.0-1ubuntu1~20.04.1

To view detailed results, visit:
https://lab.dpdk.org/results/dashboard/patchsets/30746/

UNH-IOL DPDK Community Lab

To manage your email subscriptions, visit: 
https://lab.dpdk.org/results/dashboard/preferences/subscriptions/