From mboxrd@z Thu Jan  1 00:00:00 1970
Return-Path: <test-report-bounces@dpdk.org>
Received: from mails.dpdk.org (mails.dpdk.org [217.70.189.124])
	by inbox.dpdk.org (Postfix) with ESMTP id ED4A54576F
	for <public@inbox.dpdk.org>; Fri,  9 Aug 2024 00:41:57 +0200 (CEST)
Received: from mails.dpdk.org (localhost [127.0.0.1])
	by mails.dpdk.org (Postfix) with ESMTP id DE89642D0B;
	Fri,  9 Aug 2024 00:41:57 +0200 (CEST)
Received: from mail-vk1-f228.google.com (mail-vk1-f228.google.com
 [209.85.221.228])
 by mails.dpdk.org (Postfix) with ESMTP id DD2F5402A5
 for <test-report@dpdk.org>; Fri,  9 Aug 2024 00:41:56 +0200 (CEST)
Received: by mail-vk1-f228.google.com with SMTP id
 71dfb90a1353d-4f6abcf0567so567591e0c.0
 for <test-report@dpdk.org>; Thu, 08 Aug 2024 15:41:56 -0700 (PDT)
DKIM-Signature: v=1; a=rsa-sha256; c=relaxed/relaxed;
 d=iol.unh.edu; s=unh-iol; t=1723156916; x=1723761716; darn=dpdk.org;
 h=references:in-reply-to:cc:to:from:subject:message-id:date:from:to
 :cc:subject:date:message-id:reply-to;
 bh=uTaCP2bEVYRgQUT4OzbEFpBVh18JpBozv4sRsqgXNO0=;
 b=bx/falW78JigymJ2hB1SjldPWm5mgGRidwrBKPn8l/yMgZ57fGkJ25eYWZVODZpOzL
 vsWrmwfVQtv8VaaBFcDKNAwwn3WBl6DVtXAbeSbeJsucDh4yrZNI0LWLq358t4MAP2Cx
 3jN0I8KhFo9BxEQNbIz9U8GjqTSjx5Ga/Vn8M=
X-Google-DKIM-Signature: v=1; a=rsa-sha256; c=relaxed/relaxed;
 d=1e100.net; s=20230601; t=1723156916; x=1723761716;
 h=references:in-reply-to:cc:to:from:subject:message-id:date
 :x-gm-message-state:from:to:cc:subject:date:message-id:reply-to;
 bh=uTaCP2bEVYRgQUT4OzbEFpBVh18JpBozv4sRsqgXNO0=;
 b=YxCkUCixpi07gV3pFwTVZtR+W52QwuWPxY7sBm7iYdXVuQF0kVymtGUUK4dZzlRjAW
 vTGOQS3JacW3UHF2dIbm52rUQzcPkBkmunhkSb9uu1v4XLUcFzZ62r9TMOrRADUbiUin
 oN1zFH6SdOUhmyGfyjp9Z9kYV/63KyketByON/BCTyhQgEccqA0OeOv5yUTc3EuE8tMF
 KLl1ImtrIicdqhcD8yaANYnbTVzdQsHmOiH5XfoO/6YQGW6E4xThaeujPqxUtLi3JRqp
 uCEptKcvV8PGOGN4KIjpace1AZjoZfN1QqJ5cJEP8epWPn10FywdLrxUx3CFMIFeiZkR
 efHg==
X-Gm-Message-State: AOJu0Yz8uodxGIGV2Cb2f4KfvUfST7k7mU5thUefxXsrvD4kHixGj2qw
 jRz4wcYzrqSra+WgtPNPUA2uLnPiaX9Te0a2dtHbEr39l22iaKLfRKFWhTUEOIfUZIrTI2juQ7y
 EHgLwPe4NZVKtMpljf4FCNMVHMYXg9HOjojmdB7eW31sK6dmhLE2rX+6+
X-Google-Smtp-Source: AGHT+IH3UY5RymNcOGFLF8e1O7WcDoyZObBtq+VGzr/cSyxsDivSz4TqpdMsjJKzZ1pLTATwdAWoCpaXr5M3
X-Received: by 2002:a05:6122:1351:b0:4df:1d06:eeb7 with SMTP id
 71dfb90a1353d-4f9022297f5mr4407427e0c.1.1723156916179; 
 Thu, 08 Aug 2024 15:41:56 -0700 (PDT)
Received: from postal.iol.unh.edu (postal.iol.unh.edu.
 [2606:4100:3880:1234::84]) by smtp-relay.gmail.com with ESMTPS id
 71dfb90a1353d-4f8a1b187bfsm1189409e0c.14.2024.08.08.15.41.56
 (version=TLS1_2 cipher=ECDHE-ECDSA-AES128-GCM-SHA256 bits=128/128);
 Thu, 08 Aug 2024 15:41:56 -0700 (PDT)
X-Relaying-Domain: iol.unh.edu
Date: Thu, 08 Aug 2024 15:41:56 -0700 (PDT)
Message-ID: <66b549b4.050a0220.23369f.ba6bSMTPIN_ADDED_MISSING@mx.google.com>
Received: from [172.21.0.8] (unknown [172.18.0.240])
 by postal.iol.unh.edu (Postfix) with ESMTP id D254C605C352;
 Thu,  8 Aug 2024 18:41:55 -0400 (EDT)
Subject: |SUCCESS| pw143027 [PATCH] [v2] net/gve: add support for TSO in DQO 
From: dpdklab@iol.unh.edu
To: Test Report <test-report@dpdk.org>
Cc: dpdk-test-reports@iol.unh.edu
In-Reply-To: <1723141392-2437012-1-git-send-email-tathagat.dpdk@gmail.com>
References: <1723141392-2437012-1-git-send-email-tathagat.dpdk@gmail.com>
Content-Type: text/plain
X-BeenThere: test-report@dpdk.org
X-Mailman-Version: 2.1.29
Precedence: list
List-Id: automatic DPDK test reports <test-report.dpdk.org>
List-Unsubscribe: <https://mails.dpdk.org/options/test-report>,
 <mailto:test-report-request@dpdk.org?subject=unsubscribe>
List-Archive: <http://mails.dpdk.org/archives/test-report/>
List-Post: <mailto:test-report@dpdk.org>
List-Help: <mailto:test-report-request@dpdk.org?subject=help>
List-Subscribe: <https://mails.dpdk.org/listinfo/test-report>,
 <mailto:test-report-request@dpdk.org?subject=subscribe>
Errors-To: test-report-bounces@dpdk.org

Test-Label: iol-abi-testing
Test-Status: SUCCESS
http://dpdk.org/patch/143027

_Testing PASS_

Submitter: Tathagat Priyadarshi <tathagat.dpdk@gmail.com>
Date: Thursday, August 08 2024 18:23:12 
DPDK git baseline: Repo:dpdk
  Branch: master
  CommitID:0681bf929bae0a0555ed168a1e492506a6d6394e

143027 --> testing pass

Upstream job id: Generic-DPDK-Compile-ABI#102131

Test environment and result as below:

+-------------------+----------+
|    Environment    | abi_test |
+===================+==========+
| CentOS Stream 9   | PASS     |
+-------------------+----------+
| Debian 12         | PASS     |
+-------------------+----------+
| Fedora 38 (Clang) | PASS     |
+-------------------+----------+
| Debian Bullseye   | PASS     |
+-------------------+----------+
| Fedora 37         | PASS     |
+-------------------+----------+
| Fedora 38         | PASS     |
+-------------------+----------+
| Fedora 39 (Clang) | PASS     |
+-------------------+----------+
| Fedora 40 (Clang) | PASS     |
+-------------------+----------+
| Fedora 40         | PASS     |
+-------------------+----------+
| Fedora 39         | PASS     |
+-------------------+----------+
| Ubuntu 24.04      | PASS     |
+-------------------+----------+
| RHEL9             | PASS     |
+-------------------+----------+
| RHEL8             | PASS     |
+-------------------+----------+
| openSUSE Leap 15  | PASS     |
+-------------------+----------+
| Ubuntu 22.04      | PASS     |
+-------------------+----------+


CentOS Stream 9
	Kernel: 5.4.0-167-generic
	Compiler: gcc 11.4.1 20230605

Debian 12
	Kernel: Container Host Kernel
	Compiler: gcc 12.2.0

Fedora 38 (Clang)
	Kernel: Depends on container host
	Compiler: clang 16.0.6

Debian Bullseye
	Kernel: 5.4.0-167-generic
	Compiler: gcc 10.2.1-6

Fedora 37
	Kernel: Depends on container host system
	Compiler: gcc 12.3.1

Fedora 38
	Kernel: Depends on container host
	Compiler: gcc 13.2.1

Fedora 39 (Clang)
	Kernel: Depends on container host
	Compiler: clang 17.0.6

Fedora 40 (Clang)
	Kernel: Depends on container host
	Compiler: clang 18.1.6

Fedora 40
	Kernel: Depends on container host
	Compiler: gcc 14.1.1

Fedora 39
	Kernel: Depends on container host
	Compiler: gcc 13.2.1

Ubuntu 24.04
	Kernel: 5.4.0-167-generic
	Compiler: gcc 13.2.0

RHEL9
	Kernel: Depends on container host
	Compiler: gcc 11.4.1

RHEL8
	Kernel: 5.4.0-167-generic
	Compiler: gcc 8.5.0 20210514 (Red Hat 8.5.0-20)

openSUSE Leap 15
	Kernel: 5.4.0-167-generic
	Compiler: gcc 7.5.0

Ubuntu 22.04
	Kernel: 5.4.0-167-generic
	Compiler: gcc 11.4.0

To view detailed results, visit:
https://lab.dpdk.org/results/dashboard/patchsets/30749/

UNH-IOL DPDK Community Lab

To manage your email subscriptions, visit: 
https://lab.dpdk.org/results/dashboard/preferences/subscriptions/