From mboxrd@z Thu Jan  1 00:00:00 1970
Return-Path: <test-report-bounces@dpdk.org>
Received: from mails.dpdk.org (mails.dpdk.org [217.70.189.124])
	by inbox.dpdk.org (Postfix) with ESMTP id E604845770
	for <public@inbox.dpdk.org>; Fri,  9 Aug 2024 03:51:34 +0200 (CEST)
Received: from mails.dpdk.org (localhost [127.0.0.1])
	by mails.dpdk.org (Postfix) with ESMTP id DAA25402A5;
	Fri,  9 Aug 2024 03:51:34 +0200 (CEST)
Received: from mail-ot1-f100.google.com (mail-ot1-f100.google.com
 [209.85.210.100])
 by mails.dpdk.org (Postfix) with ESMTP id 0C35140279
 for <test-report@dpdk.org>; Fri,  9 Aug 2024 03:51:33 +0200 (CEST)
Received: by mail-ot1-f100.google.com with SMTP id
 46e09a7af769-7093efbade6so1041002a34.2
 for <test-report@dpdk.org>; Thu, 08 Aug 2024 18:51:32 -0700 (PDT)
DKIM-Signature: v=1; a=rsa-sha256; c=relaxed/relaxed;
 d=iol.unh.edu; s=unh-iol; t=1723168292; x=1723773092; darn=dpdk.org;
 h=references:in-reply-to:cc:to:from:subject:message-id:date:from:to
 :cc:subject:date:message-id:reply-to;
 bh=qtJ93VZYx//KPrk4TBp1WqS/GVyC3vm+0DcdxcC8HWQ=;
 b=IcGKPtxZB9CVaQzivMCTT8cINJOC+DvozLdyKIR5z3emuBhQqVpM3sghzwCz5uypDs
 MbXb0R7H+R1RYAtEUXhfgYiAzncfdf9V8T9C43vdcZ+TV/DEbRJhEFk+wLXp/yFWbBFj
 cZ21prD3dt0lBDUctASnPq+iIyksBM8N7St8I=
X-Google-DKIM-Signature: v=1; a=rsa-sha256; c=relaxed/relaxed;
 d=1e100.net; s=20230601; t=1723168292; x=1723773092;
 h=references:in-reply-to:cc:to:from:subject:message-id:date
 :x-gm-message-state:from:to:cc:subject:date:message-id:reply-to;
 bh=qtJ93VZYx//KPrk4TBp1WqS/GVyC3vm+0DcdxcC8HWQ=;
 b=auRwKp7ASTxF8+f8nMF4zfBzxhyMrEV4IVanF7sbCLhc5ATloAUgbU0cUxXzeTeESK
 jKER+QqZcxhoMx0ekx3mgABd+SZ9j69hhw5WTf5gxGR0Rf9x/I0Fs4EbyfCWAXosvD/l
 n5Stow5qX0E5kLsYAhN0OOv/3NLA45hyCOnVHS8muOtD1cMIwSIk8Y+Sp95+PBsPg6fZ
 lhO1MaJnJ0MkGSkISXaLAW1nycMe2uu2FBcsB9KsOsge5/BGOg7NnMgtA1f9B2ur1lG4
 j+6czULpoL+tfx5wqFdW0lSVAMi5ZYOFWRrBNt/z+iBFZxgF8yj3tgAP+fyX0kiqlCBB
 yqow==
X-Gm-Message-State: AOJu0YzGz45BmpCSE0zzhSCCAicyUtvZepzopt6ETgnWACAPMJ6pjFyq
 1bx68mwYhfA3Wbw5lmhc2/lS776zvLsHxdd0+FgjBnZETkneHB1sRRQp9AQw6MnSUJZXrYQVlR3
 nVvuzEXxVpDSF0qhjVgi4Bzve5lMwt5BX946ozRO3
X-Google-Smtp-Source: AGHT+IHrkO5U6HE3giUMgNljA156RuGB7BxG3s9MdNwGgVn5yAVRDr4hDYvFqFDjbQVEUTO4HMiIgEofTlm7
X-Received: by 2002:a05:6830:4408:b0:707:8b7d:b924 with SMTP id
 46e09a7af769-70b746db3d6mr134153a34.10.1723168292266; 
 Thu, 08 Aug 2024 18:51:32 -0700 (PDT)
Received: from postal.iol.unh.edu (postal.iol.unh.edu. [132.177.123.84])
 by smtp-relay.gmail.com with ESMTPS id
 8926c6da1cb9f-4c8d6a6197bsm558528173.77.2024.08.08.18.51.32
 (version=TLS1_2 cipher=ECDHE-ECDSA-AES128-GCM-SHA256 bits=128/128);
 Thu, 08 Aug 2024 18:51:32 -0700 (PDT)
X-Relaying-Domain: iol.unh.edu
Date: Thu, 08 Aug 2024 18:51:32 -0700 (PDT)
Message-ID: <66b57624.050a0220.35bd5.77dfSMTPIN_ADDED_MISSING@mx.google.com>
Received: from [172.21.0.6] (unknown [172.18.0.240])
 by postal.iol.unh.edu (Postfix) with ESMTP id 728A2605C351;
 Thu,  8 Aug 2024 21:51:31 -0400 (EDT)
Subject: |PENDING| pw143027 [PATCH] [v2] net/gve: add support for TSO in DQO 
From: dpdklab@iol.unh.edu
To: Test Report <test-report@dpdk.org>
Cc: dpdk-test-reports@iol.unh.edu
In-Reply-To: <1723141392-2437012-1-git-send-email-tathagat.dpdk@gmail.com>
References: <1723141392-2437012-1-git-send-email-tathagat.dpdk@gmail.com>
Content-Type: text/plain
X-BeenThere: test-report@dpdk.org
X-Mailman-Version: 2.1.29
Precedence: list
List-Id: automatic DPDK test reports <test-report.dpdk.org>
List-Unsubscribe: <https://mails.dpdk.org/options/test-report>,
 <mailto:test-report-request@dpdk.org?subject=unsubscribe>
List-Archive: <http://mails.dpdk.org/archives/test-report/>
List-Post: <mailto:test-report@dpdk.org>
List-Help: <mailto:test-report-request@dpdk.org?subject=help>
List-Subscribe: <https://mails.dpdk.org/listinfo/test-report>,
 <mailto:test-report-request@dpdk.org?subject=subscribe>
Errors-To: test-report-bounces@dpdk.org

Test-Label: iol-compile-amd64-testing
Test-Status: PENDING
http://dpdk.org/patch/143027

_Testing pending_

Submitter: Tathagat Priyadarshi <tathagat.dpdk@gmail.com>
Date: Thursday, August 08 2024 18:23:12 
DPDK git baseline: Repo:dpdk
  Branch: master
  CommitID:0681bf929bae0a0555ed168a1e492506a6d6394e

143027 --> testing pending

Upstream job id: Windows-Compile-DPDK-Meson#24185

Test environment and result as below:

+---------------------+--------------------+----------------------+-------------------+
|     Environment     | dpdk_meson_compile | dpdk_mingw64_compile | dpdk_msvc_compile |
+=====================+====================+======================+===================+
| Windows Server 2019 | PASS               | PASS                 | SKIPPED           |
+---------------------+--------------------+----------------------+-------------------+
| Windows Server 2022 | PASS               | PASS                 | PASS              |
+---------------------+--------------------+----------------------+-------------------+
| FreeBSD 13.3        | PASS               | SKIPPED              | SKIPPED           |
+---------------------+--------------------+----------------------+-------------------+
| FreeBSD 14.1        | PEND               | SKIPPED              | SKIPPED           |
+---------------------+--------------------+----------------------+-------------------+


Windows Server 2019
	Kernel: 10.0.17763
	Compiler: clang 14.0 and gcc 8.1.0 (MinGW)

Windows Server 2022
	Kernel: 10.0.20348.2031
	Compiler: clang 15.0.7, gcc 8.1.0 (MinGW), and MSVC VS 17.9

FreeBSD 13.3
	Kernel: 13.3-RELEASE-p1
	Compiler: clang 17.0.6

FreeBSD 14.1
	Kernel: 14.1
	Compiler: clang 18.1.5

To view detailed results, visit:
https://lab.dpdk.org/results/dashboard/patchsets/30749/

UNH-IOL DPDK Community Lab

To manage your email subscriptions, visit: 
https://lab.dpdk.org/results/dashboard/preferences/subscriptions/