From mboxrd@z Thu Jan  1 00:00:00 1970
Return-Path: <test-report-bounces@dpdk.org>
Received: from mails.dpdk.org (mails.dpdk.org [217.70.189.124])
	by inbox.dpdk.org (Postfix) with ESMTP id 3E76745771
	for <public@inbox.dpdk.org>; Fri,  9 Aug 2024 04:15:29 +0200 (CEST)
Received: from mails.dpdk.org (localhost [127.0.0.1])
	by mails.dpdk.org (Postfix) with ESMTP id 37827402A5;
	Fri,  9 Aug 2024 04:15:29 +0200 (CEST)
Received: from mail-pl1-f227.google.com (mail-pl1-f227.google.com
 [209.85.214.227])
 by mails.dpdk.org (Postfix) with ESMTP id E764140279
 for <test-report@dpdk.org>; Fri,  9 Aug 2024 04:15:27 +0200 (CEST)
Received: by mail-pl1-f227.google.com with SMTP id
 d9443c01a7336-1fec34f94abso15627455ad.2
 for <test-report@dpdk.org>; Thu, 08 Aug 2024 19:15:27 -0700 (PDT)
DKIM-Signature: v=1; a=rsa-sha256; c=relaxed/relaxed;
 d=iol.unh.edu; s=unh-iol; t=1723169727; x=1723774527; darn=dpdk.org;
 h=references:in-reply-to:cc:to:from:subject:message-id:date:from:to
 :cc:subject:date:message-id:reply-to;
 bh=aP2JtyUXkJWIkzDD08rJjCSilU5OQ4vm3QTI5vpqwTk=;
 b=EYPmooRxr0cXguIZyURXhRDLzdy9i1jzeKE080CdG9fB0dE72ZUECGhcP/yWBzr8xO
 mCDxRFqj63CmuFNvr+z5EtykN9hs0cfthfPMIjo9Z91koZu6uPoCk2Wt+JItdmfmzXZf
 SCdChgorc9ZyX69Zw36kZYijvrw4cvkSZ5nOM=
X-Google-DKIM-Signature: v=1; a=rsa-sha256; c=relaxed/relaxed;
 d=1e100.net; s=20230601; t=1723169727; x=1723774527;
 h=references:in-reply-to:cc:to:from:subject:message-id:date
 :x-gm-message-state:from:to:cc:subject:date:message-id:reply-to;
 bh=aP2JtyUXkJWIkzDD08rJjCSilU5OQ4vm3QTI5vpqwTk=;
 b=CGG1SySXs3SMQzU251EHVaRkbK2dyvpc2T4cIXH07ZyC62EX6TlhhpfQRgt3AP+qtO
 jTXYg7mu3tdxIN5QtuUY32F8cmSAgzH0xCpi0LWJkXiyse7Gwejixx9IijELV6nAhior
 E68ZmTIMHAFM2UobRWX7iOS9tI8zaDUQ26auGSaCmZce2pd9XpBGYnGJLM9sBmczvEGK
 Wh0dyDuY2PPo/V+/DfYWSASWw8GjvQKeSqaYhCKZrP+Fkd1zXm1F7yn6ddad30SpJuk+
 5iWfqxS6FQCKIsoJy/4EI5ZBqNfYOVQ2TUIPS7NV+dOe4Ws9Iq9YHoH3Ac9I7bhfTBbM
 UWqQ==
X-Gm-Message-State: AOJu0Yww3l9RYejIvL907+Onlqee/mKcEho9n3ZqtO12AQKPho+jArzs
 6vz10snd6AaZcejmYPYwBlmTFuFM+qGQz2Y0kH3pFADRQwDuSJr/JtVuI9Bufo+yvqr82AWLwHQ
 kCq0V+5MyL3yM6T4hyOPW9b0tLFy8ziPvtePOUNUVQ7khyUdIMo2OGkpw
X-Google-Smtp-Source: AGHT+IF6AsiOp58396ZRaYfeI9sp1AwJPIx6D+bexNRr8YHsd42NULoYm/ah5Aa/W1DqwN44t+olHUMx9k3C
X-Received: by 2002:a17:902:da83:b0:1ff:498b:5857 with SMTP id
 d9443c01a7336-200ae50a07dmr347565ad.24.1723169726998; 
 Thu, 08 Aug 2024 19:15:26 -0700 (PDT)
Received: from postal.iol.unh.edu (postal.iol.unh.edu.
 [2606:4100:3880:1234::84]) by smtp-relay.gmail.com with ESMTPS id
 d9443c01a7336-1ff58f75a4csm10706585ad.75.2024.08.08.19.15.26
 (version=TLS1_2 cipher=ECDHE-ECDSA-AES128-GCM-SHA256 bits=128/128);
 Thu, 08 Aug 2024 19:15:26 -0700 (PDT)
X-Relaying-Domain: iol.unh.edu
Date: Thu, 08 Aug 2024 19:15:26 -0700 (PDT)
Message-ID: <66b57bbe.170a0220.fb410.5836SMTPIN_ADDED_MISSING@mx.google.com>
Received: from [172.21.0.7] (unknown [172.18.0.240])
 by postal.iol.unh.edu (Postfix) with ESMTP id 3090A605C351;
 Thu,  8 Aug 2024 22:15:26 -0400 (EDT)
Subject: |PENDING| pw143027 [PATCH] [v2] net/gve: add support for TSO in DQO 
From: dpdklab@iol.unh.edu
To: Test Report <test-report@dpdk.org>
Cc: dpdk-test-reports@iol.unh.edu
In-Reply-To: <1723141392-2437012-1-git-send-email-tathagat.dpdk@gmail.com>
References: <1723141392-2437012-1-git-send-email-tathagat.dpdk@gmail.com>
Content-Type: text/plain
X-BeenThere: test-report@dpdk.org
X-Mailman-Version: 2.1.29
Precedence: list
List-Id: automatic DPDK test reports <test-report.dpdk.org>
List-Unsubscribe: <https://mails.dpdk.org/options/test-report>,
 <mailto:test-report-request@dpdk.org?subject=unsubscribe>
List-Archive: <http://mails.dpdk.org/archives/test-report/>
List-Post: <mailto:test-report@dpdk.org>
List-Help: <mailto:test-report-request@dpdk.org?subject=help>
List-Subscribe: <https://mails.dpdk.org/listinfo/test-report>,
 <mailto:test-report-request@dpdk.org?subject=subscribe>
Errors-To: test-report-bounces@dpdk.org

Test-Label: iol-unit-arm64-testing
Test-Status: PENDING
http://dpdk.org/patch/143027

_Testing pending_

Submitter: Tathagat Priyadarshi <tathagat.dpdk@gmail.com>
Date: Thursday, August 08 2024 18:23:12 
DPDK git baseline: Repo:dpdk
  Branch: master
  CommitID:0681bf929bae0a0555ed168a1e492506a6d6394e

143027 --> testing pending

Upstream job id: Generic-Unit-Test-DPDK#250076

Test environment and result as below:

+-----------------------------+----------------+--------------+---------------------------+------------------------------+
|         Environment         | dpdk_unit_test | lpm_autotest | cryptodev_sw_zuc_autotest | cryptodev_sw_snow3g_autotest |
+=============================+================+==============+===========================+==============================+
| CentOS Stream 9 (ARM)       | PASS           | SKIPPED      | SKIPPED                   | SKIPPED                      |
+-----------------------------+----------------+--------------+---------------------------+------------------------------+
| Debian 11 (Buster) (ARM)    | PASS           | SKIPPED      | SKIPPED                   | SKIPPED                      |
+-----------------------------+----------------+--------------+---------------------------+------------------------------+
| Debian 12 (arm)             | PASS           | SKIPPED      | PASS                      | PEND                         |
+-----------------------------+----------------+--------------+---------------------------+------------------------------+
| Fedora 37 (ARM)             | PASS           | SKIPPED      | SKIPPED                   | SKIPPED                      |
+-----------------------------+----------------+--------------+---------------------------+------------------------------+
| Fedora 38 (ARM)             | PASS           | SKIPPED      | SKIPPED                   | SKIPPED                      |
+-----------------------------+----------------+--------------+---------------------------+------------------------------+
| Fedora 38 (ARM Clang)       | PEND           | SKIPPED      | SKIPPED                   | SKIPPED                      |
+-----------------------------+----------------+--------------+---------------------------+------------------------------+
| Fedora 39 (ARM)             | PASS           | SKIPPED      | SKIPPED                   | SKIPPED                      |
+-----------------------------+----------------+--------------+---------------------------+------------------------------+
| Fedora 40 (ARM)             | PASS           | SKIPPED      | SKIPPED                   | SKIPPED                      |
+-----------------------------+----------------+--------------+---------------------------+------------------------------+
| Fedora 39 (ARM Clang)       | PEND           | SKIPPED      | SKIPPED                   | SKIPPED                      |
+-----------------------------+----------------+--------------+---------------------------+------------------------------+
| Fedora 40 (ARM Clang)       | PEND           | SKIPPED      | SKIPPED                   | SKIPPED                      |
+-----------------------------+----------------+--------------+---------------------------+------------------------------+
| RHEL9 (ARM)                 | PEND           | SKIPPED      | SKIPPED                   | SKIPPED                      |
+-----------------------------+----------------+--------------+---------------------------+------------------------------+
| Ubuntu 20.04 (ARM)          | PEND           | SKIPPED      | SKIPPED                   | SKIPPED                      |
+-----------------------------+----------------+--------------+---------------------------+------------------------------+
| 32-bit Ubuntu 20.04.4 (ARM) | PEND           | SKIPPED      | SKIPPED                   | SKIPPED                      |
+-----------------------------+----------------+--------------+---------------------------+------------------------------+
| Ubuntu 22.04 (ARM)          | PEND           | SKIPPED      | SKIPPED                   | SKIPPED                      |
+-----------------------------+----------------+--------------+---------------------------+------------------------------+
| Ubuntu 24.04 (ARM)          | PEND           | SKIPPED      | SKIPPED                   | SKIPPED                      |
+-----------------------------+----------------+--------------+---------------------------+------------------------------+
| Ubuntu 20.04 ARM SVE        | SKIPPED        | PEND         | SKIPPED                   | SKIPPED                      |
+-----------------------------+----------------+--------------+---------------------------+------------------------------+


CentOS Stream 9 (ARM)
	Kernel: Container Host Kernel
	Compiler: gcc 11.4.1

Debian 11 (Buster) (ARM)
	Kernel: Container Host Kernel
	Compiler: gcc 10.2.1

Debian 12 (arm)
	Kernel: Container Host Kernel
	Compiler: gcc 12.2.0

Fedora 37 (ARM)
	Kernel: Depends on container host
	Compiler: gcc 12.3.1

Fedora 38 (ARM)
	Kernel: Depends on container host
	Compiler: gcc 13.2.1

Fedora 38 (ARM Clang)
	Kernel: Depends on container host
	Compiler: clang 16.0.6

Fedora 39 (ARM)
	Kernel: Depends on container host
	Compiler: gcc 13.2.1

Fedora 40 (ARM)
	Kernel: Depends on container host
	Compiler: gcc 14.1.1

Fedora 39 (ARM Clang)
	Kernel: Depends on container host
	Compiler: clang 17.0.6

Fedora 40 (ARM Clang)
	Kernel: Depends on container host
	Compiler: clang 18.1.6

RHEL9 (ARM)
	Kernel: Depends on container host
	Compiler: gcc 11.4.1

Ubuntu 20.04 (ARM)
	Kernel: Container Host Kernel
	Compiler: gcc 9.4.0

32-bit Ubuntu 20.04.4 (ARM)
	Kernel: 5.4.0-155-generic aarch64
	Compiler: gcc 9.4

Ubuntu 22.04 (ARM)
	Kernel: Container Host Kernel
	Compiler: gcc 11.4.0

Ubuntu 24.04 (ARM)
	Kernel: 5.4.0-167-generic
	Compiler: gcc 13.2.0

Ubuntu 20.04 ARM SVE
	Kernel: 5.4.0-167-generic
	Compiler: gcc (Ubuntu 10.5.0-1ubuntu1~20.04) 10.5.0

To view detailed results, visit:
https://lab.dpdk.org/results/dashboard/patchsets/30749/

UNH-IOL DPDK Community Lab

To manage your email subscriptions, visit: 
https://lab.dpdk.org/results/dashboard/preferences/subscriptions/