From mboxrd@z Thu Jan  1 00:00:00 1970
Return-Path: <test-report-bounces@dpdk.org>
Received: from mails.dpdk.org (mails.dpdk.org [217.70.189.124])
	by inbox.dpdk.org (Postfix) with ESMTP id B45CD45771
	for <public@inbox.dpdk.org>; Fri,  9 Aug 2024 04:59:49 +0200 (CEST)
Received: from mails.dpdk.org (localhost [127.0.0.1])
	by mails.dpdk.org (Postfix) with ESMTP id AC3A1402A5;
	Fri,  9 Aug 2024 04:59:49 +0200 (CEST)
Received: from mail-qt1-f227.google.com (mail-qt1-f227.google.com
 [209.85.160.227])
 by mails.dpdk.org (Postfix) with ESMTP id 7E01140279
 for <test-report@dpdk.org>; Fri,  9 Aug 2024 04:59:48 +0200 (CEST)
Received: by mail-qt1-f227.google.com with SMTP id
 d75a77b69052e-44fea44f725so13902991cf.1
 for <test-report@dpdk.org>; Thu, 08 Aug 2024 19:59:48 -0700 (PDT)
DKIM-Signature: v=1; a=rsa-sha256; c=relaxed/relaxed;
 d=iol.unh.edu; s=unh-iol; t=1723172388; x=1723777188; darn=dpdk.org;
 h=references:in-reply-to:cc:to:from:subject:message-id:date:from:to
 :cc:subject:date:message-id:reply-to;
 bh=Ux/6MpRYdWzww+CIThvVOuMyGEgm+p5lk0IR5Hgpofw=;
 b=PxhLNGiM+F+XdbMa/2thf2IrJ5D7rrb7+8cQeOdBM4NrcoW3YGVcmOTwEQlam9ixxd
 2tHZ7yyZV0mr/2s/klgbl4ZrDwnGF/FLyQ1b0SDhBLn3c2zpwp2qCKnxkMpNrZyk4Tfn
 pqWWaV4Yw3HPOBfaSD8hppmDA/AGoxN372VLA=
X-Google-DKIM-Signature: v=1; a=rsa-sha256; c=relaxed/relaxed;
 d=1e100.net; s=20230601; t=1723172388; x=1723777188;
 h=references:in-reply-to:cc:to:from:subject:message-id:date
 :x-gm-message-state:from:to:cc:subject:date:message-id:reply-to;
 bh=Ux/6MpRYdWzww+CIThvVOuMyGEgm+p5lk0IR5Hgpofw=;
 b=VNSRR8vhe/gw7GvkA5mFX1kLIAitJCXer2Nr1RIp66YjFK4Hc2Ya/VDhUlQ9U1c9jd
 EJ/0zNaW5zxXe+Wd07ECkEQ4fUpp0ZyYjL4OXp8r74Wh3qS+Uxc2nS/VR/30lenMvVfa
 ryLuzRHt0rHhD1A0V2RUkudAoPPOxJWqaK7Kky8AAe+bu+j3p5uJmwM2cHuJ9Dkgnauh
 g/lGF/DpVyavBZLoK5jPM4GECCzD19lPDozNwez32kFvAqYA14yph21LYegsy7LcwbgQ
 4jMqaphsaLaST4M1FXTcbG9RukVsSe1P0b3yZCqDIqt1vbDDAvqXexBTC3i8SlbdhOW1
 kn7g==
X-Gm-Message-State: AOJu0YyDg7rHeT2RaTzO5l/vwy+HqCehKM79Dmi9Qmdlz9y2Fgdob3iy
 +So5ykAY3fFr+T9ukeJgirTnKY19kUh/B0XdiWRzyGQ6BmFO69vH70UaUuEfwU3jkT4kFTkRzbN
 WMa5iyVa4zudrFWuQudamJoNtEm1xj5sDuHpTWpwnS/xjoPB+cUJ3xPkf
X-Google-Smtp-Source: AGHT+IGcwPVZx5YSnASg9VXSuEa20UjS+xKu5nmHHzyyOEj6DstkwOchQ/luzz9FQfDqOxv7TgmbGBOXojWw
X-Received: by 2002:a05:622a:1101:b0:451:94be:9517 with SMTP id
 d75a77b69052e-451d5838715mr69140131cf.13.1723172387835; 
 Thu, 08 Aug 2024 19:59:47 -0700 (PDT)
Received: from postal.iol.unh.edu (postal.iol.unh.edu.
 [2606:4100:3880:1234::84]) by smtp-relay.gmail.com with ESMTPS id
 d75a77b69052e-451c86d30b5sm3200041cf.9.2024.08.08.19.59.47
 (version=TLS1_2 cipher=ECDHE-ECDSA-AES128-GCM-SHA256 bits=128/128);
 Thu, 08 Aug 2024 19:59:47 -0700 (PDT)
X-Relaying-Domain: iol.unh.edu
Date: Thu, 08 Aug 2024 19:59:47 -0700 (PDT)
Message-ID: <66b58623.c80a0220.2cd5d4.e686SMTPIN_ADDED_MISSING@mx.google.com>
Received: from [172.21.0.6] (unknown [172.18.0.240])
 by postal.iol.unh.edu (Postfix) with ESMTP id 603EA605C351;
 Thu,  8 Aug 2024 22:59:47 -0400 (EDT)
Subject: |PENDING| pw143018-143022 [PATCH] [v16,5/5] dts: add API doc generat
From: dpdklab@iol.unh.edu
To: Test Report <test-report@dpdk.org>
Cc: dpdk-test-reports@iol.unh.edu
In-Reply-To: <20240808085452.426702-6-juraj.linkes@pantheon.tech>
References: <20240808085452.426702-6-juraj.linkes@pantheon.tech>
Content-Type: text/plain
X-BeenThere: test-report@dpdk.org
X-Mailman-Version: 2.1.29
Precedence: list
List-Id: automatic DPDK test reports <test-report.dpdk.org>
List-Unsubscribe: <https://mails.dpdk.org/options/test-report>,
 <mailto:test-report-request@dpdk.org?subject=unsubscribe>
List-Archive: <http://mails.dpdk.org/archives/test-report/>
List-Post: <mailto:test-report@dpdk.org>
List-Help: <mailto:test-report-request@dpdk.org?subject=help>
List-Subscribe: <https://mails.dpdk.org/listinfo/test-report>,
 <mailto:test-report-request@dpdk.org?subject=subscribe>
Errors-To: test-report-bounces@dpdk.org

Test-Label: iol-compile-amd64-testing
Test-Status: PENDING
http://dpdk.org/patch/143022

_Testing pending_

Submitter: Juraj Linkes <juraj.linkes@pantheon.tech>
Date: Thursday, August 08 2024 08:54:52 
DPDK git baseline: Repo:dpdk
  Branch: master
  CommitID:cb9187bc5c2b4bab0ad80194ac3b60491de14e8c

143018-143022 --> testing pending

Upstream job id: Windows-Compile-DPDK-Meson#24187

Test environment and result as below:

+---------------------+--------------------+----------------------+-------------------+
|     Environment     | dpdk_meson_compile | dpdk_mingw64_compile | dpdk_msvc_compile |
+=====================+====================+======================+===================+
| Windows Server 2022 | PASS               | PASS                 | PEND              |
+---------------------+--------------------+----------------------+-------------------+
| FreeBSD 13.3        | PASS               | SKIPPED              | SKIPPED           |
+---------------------+--------------------+----------------------+-------------------+
| FreeBSD 14.1        | PASS               | SKIPPED              | SKIPPED           |
+---------------------+--------------------+----------------------+-------------------+
| Windows Server 2019 | PEND               | PEND                 | SKIPPED           |
+---------------------+--------------------+----------------------+-------------------+


Windows Server 2022
	Kernel: 10.0.20348.2031
	Compiler: clang 15.0.7, gcc 8.1.0 (MinGW), and MSVC VS 17.9

FreeBSD 13.3
	Kernel: 13.3-RELEASE-p1
	Compiler: clang 17.0.6

FreeBSD 14.1
	Kernel: 14.1
	Compiler: clang 18.1.5

Windows Server 2019
	Kernel: 10.0.17763
	Compiler: clang 14.0 and gcc 8.1.0 (MinGW)

To view detailed results, visit:
https://lab.dpdk.org/results/dashboard/patchsets/30747/

UNH-IOL DPDK Community Lab

To manage your email subscriptions, visit: 
https://lab.dpdk.org/results/dashboard/preferences/subscriptions/