From mboxrd@z Thu Jan  1 00:00:00 1970
Return-Path: <test-report-bounces@dpdk.org>
Received: from mails.dpdk.org (mails.dpdk.org [217.70.189.124])
	by inbox.dpdk.org (Postfix) with ESMTP id 9804E45771
	for <public@inbox.dpdk.org>; Fri,  9 Aug 2024 05:04:55 +0200 (CEST)
Received: from mails.dpdk.org (localhost [127.0.0.1])
	by mails.dpdk.org (Postfix) with ESMTP id 9473D402A5;
	Fri,  9 Aug 2024 05:04:55 +0200 (CEST)
Received: from mail-il1-f226.google.com (mail-il1-f226.google.com
 [209.85.166.226])
 by mails.dpdk.org (Postfix) with ESMTP id 9DE4B40279
 for <test-report@dpdk.org>; Fri,  9 Aug 2024 05:04:53 +0200 (CEST)
Received: by mail-il1-f226.google.com with SMTP id
 e9e14a558f8ab-39b3f65b387so6719475ab.1
 for <test-report@dpdk.org>; Thu, 08 Aug 2024 20:04:53 -0700 (PDT)
DKIM-Signature: v=1; a=rsa-sha256; c=relaxed/relaxed;
 d=iol.unh.edu; s=unh-iol; t=1723172693; x=1723777493; darn=dpdk.org;
 h=references:in-reply-to:cc:to:from:subject:message-id:date:from:to
 :cc:subject:date:message-id:reply-to;
 bh=iC5zVi4aikLWe8vK5cr7BIS1lv2PlbUBHlf0+y4Hbe8=;
 b=HZGhTQ42M9oBhwcj/0JC23WGgs810PEbRxw5TTXx4FSpzlPWwaEWnbkU5mZ8CBVlHM
 C7lnkRVkgCZiy7grp+S50hNixHoAzcuVJzQ60ljFxzjBk67Mx1RdRnvDiXBg71Ro6Vq3
 2gnbHrWeOxd0fwTVPNRBT0x7UJQDGriXbKfPI=
X-Google-DKIM-Signature: v=1; a=rsa-sha256; c=relaxed/relaxed;
 d=1e100.net; s=20230601; t=1723172693; x=1723777493;
 h=references:in-reply-to:cc:to:from:subject:message-id:date
 :x-gm-message-state:from:to:cc:subject:date:message-id:reply-to;
 bh=iC5zVi4aikLWe8vK5cr7BIS1lv2PlbUBHlf0+y4Hbe8=;
 b=HnDsMfEwny6W0EJ9sZBMFNUABsxNQJnk2pYFkWIZymbLRGJq/4uKWLijuFXAPx1Ymh
 JE2/CtyU07W2qBTtZSD0YrOxYyjW2mpnDwIwEHf6P3G0Q69MCAG69ldOoW9EHGXaPXBx
 OQyTroa5omCXSDsohhPKN7bE5aVoi3JQ9f6fxrCyKH3uwI0XCe1kZHe3N5gfctxVEkip
 UheuItl/+5uWS9M3xLgbTotF3Dpa+F9P0LvFTtFmbjMcVSVAqLSQQr5LMILxf27lq3ZA
 gpvHci8yssr7u+MdYrLVo/V/4uAHpS8wVi207g04dKclPoT3OawuWitKPp9+3BMX/ayB
 b+Fw==
X-Gm-Message-State: AOJu0YyNIppXiNi4AbNq4MgHpl3ZYQUOmDq1j4iaCHd6e3sDrVX9hDoF
 Pm5Y0tfjw10hWTQlvGpyfIWhR3Gp1G+Ki0rxyGMoz3vaxh0wtpxs4+fqEept/qnq9FlevCRLrLQ
 mznj61cDMA7XdsBpC7m6VbPjNnd0lsHfQEXyYWabY
X-Google-Smtp-Source: AGHT+IExmwli9P6O+vFg5rRU1Ygvl5JgmroQ7QfLAinhsbeHCC/2dygMmYEc/CeMBXa8RgEv4lqaKxLUyOWl
X-Received: by 2002:a05:6e02:1c86:b0:39b:349a:e7 with SMTP id
 e9e14a558f8ab-39b7a40fc97mr4030925ab.10.1723172692825; 
 Thu, 08 Aug 2024 20:04:52 -0700 (PDT)
Received: from postal.iol.unh.edu (postal.iol.unh.edu. [132.177.123.84])
 by smtp-relay.gmail.com with ESMTPS id
 e9e14a558f8ab-39b20acde61sm14054505ab.70.2024.08.08.20.04.52
 (version=TLS1_2 cipher=ECDHE-ECDSA-AES128-GCM-SHA256 bits=128/128);
 Thu, 08 Aug 2024 20:04:52 -0700 (PDT)
X-Relaying-Domain: iol.unh.edu
Date: Thu, 08 Aug 2024 20:04:52 -0700 (PDT)
Message-ID: <66b58754.050a0220.78c02.32e7SMTPIN_ADDED_MISSING@mx.google.com>
Received: from [172.21.0.6] (unknown [172.18.0.240])
 by postal.iol.unh.edu (Postfix) with ESMTP id 4CFAA605C351;
 Thu,  8 Aug 2024 23:04:52 -0400 (EDT)
Subject: |SUCCESS| pw143018-143022 [PATCH] [v16,5/5] dts: add API doc generat
From: dpdklab@iol.unh.edu
To: Test Report <test-report@dpdk.org>
Cc: dpdk-test-reports@iol.unh.edu
In-Reply-To: <20240808085452.426702-6-juraj.linkes@pantheon.tech>
References: <20240808085452.426702-6-juraj.linkes@pantheon.tech>
Content-Type: text/plain
X-BeenThere: test-report@dpdk.org
X-Mailman-Version: 2.1.29
Precedence: list
List-Id: automatic DPDK test reports <test-report.dpdk.org>
List-Unsubscribe: <https://mails.dpdk.org/options/test-report>,
 <mailto:test-report-request@dpdk.org?subject=unsubscribe>
List-Archive: <http://mails.dpdk.org/archives/test-report/>
List-Post: <mailto:test-report@dpdk.org>
List-Help: <mailto:test-report-request@dpdk.org?subject=help>
List-Subscribe: <https://mails.dpdk.org/listinfo/test-report>,
 <mailto:test-report-request@dpdk.org?subject=subscribe>
Errors-To: test-report-bounces@dpdk.org

Test-Label: iol-compile-amd64-testing
Test-Status: SUCCESS
http://dpdk.org/patch/143022

_Testing PASS_

Submitter: Juraj Linkes <juraj.linkes@pantheon.tech>
Date: Thursday, August 08 2024 08:54:52 
DPDK git baseline: Repo:dpdk
  Branch: master
  CommitID:cb9187bc5c2b4bab0ad80194ac3b60491de14e8c

143018-143022 --> testing pass

Upstream job id: Windows-Compile-DPDK-Mingw64#21370

Test environment and result as below:

+---------------------+--------------------+----------------------+-------------------+
|     Environment     | dpdk_meson_compile | dpdk_mingw64_compile | dpdk_msvc_compile |
+=====================+====================+======================+===================+
| Windows Server 2022 | PASS               | PASS                 | PASS              |
+---------------------+--------------------+----------------------+-------------------+
| FreeBSD 13.3        | PASS               | SKIPPED              | SKIPPED           |
+---------------------+--------------------+----------------------+-------------------+
| FreeBSD 14.1        | PASS               | SKIPPED              | SKIPPED           |
+---------------------+--------------------+----------------------+-------------------+
| Windows Server 2019 | PASS               | PASS                 | SKIPPED           |
+---------------------+--------------------+----------------------+-------------------+


Windows Server 2022
	Kernel: 10.0.20348.2031
	Compiler: clang 15.0.7, gcc 8.1.0 (MinGW), and MSVC VS 17.9

FreeBSD 13.3
	Kernel: 13.3-RELEASE-p1
	Compiler: clang 17.0.6

FreeBSD 14.1
	Kernel: 14.1
	Compiler: clang 18.1.5

Windows Server 2019
	Kernel: 10.0.17763
	Compiler: clang 14.0 and gcc 8.1.0 (MinGW)

To view detailed results, visit:
https://lab.dpdk.org/results/dashboard/patchsets/30747/

UNH-IOL DPDK Community Lab

To manage your email subscriptions, visit: 
https://lab.dpdk.org/results/dashboard/preferences/subscriptions/