From mboxrd@z Thu Jan  1 00:00:00 1970
Return-Path: <test-report-bounces@dpdk.org>
Received: from mails.dpdk.org (mails.dpdk.org [217.70.189.124])
	by inbox.dpdk.org (Postfix) with ESMTP id F1B6045772
	for <public@inbox.dpdk.org>; Fri,  9 Aug 2024 06:31:08 +0200 (CEST)
Received: from mails.dpdk.org (localhost [127.0.0.1])
	by mails.dpdk.org (Postfix) with ESMTP id E6565402A5;
	Fri,  9 Aug 2024 06:31:08 +0200 (CEST)
Received: from mail-yw1-f225.google.com (mail-yw1-f225.google.com
 [209.85.128.225])
 by mails.dpdk.org (Postfix) with ESMTP id 24E2B40279
 for <test-report@dpdk.org>; Fri,  9 Aug 2024 06:31:08 +0200 (CEST)
Received: by mail-yw1-f225.google.com with SMTP id
 00721157ae682-661d7e68e89so13300397b3.0
 for <test-report@dpdk.org>; Thu, 08 Aug 2024 21:31:08 -0700 (PDT)
DKIM-Signature: v=1; a=rsa-sha256; c=relaxed/relaxed;
 d=iol.unh.edu; s=unh-iol; t=1723177867; x=1723782667; darn=dpdk.org;
 h=references:in-reply-to:cc:to:from:subject:message-id:date:from:to
 :cc:subject:date:message-id:reply-to;
 bh=GLVwb6P/tDNS6Ir10CqM1+8co7+JAer1wZQfKWv7kp0=;
 b=I/e32BY2ZgEEmSKB1/ruabdduupFxQjNu+21/NscZsIIwLYcmnubS2bBeeWueTGFrd
 VHLztIcUALVKxEtOibQvgXJOV0mLX3iIIOeybWPxtn1hxmlhkUKp1iqNfhS7Pdzvd5qA
 PDPTZYUiy8f1AoezSPxZfVZkTo19IoCZmk+So=
X-Google-DKIM-Signature: v=1; a=rsa-sha256; c=relaxed/relaxed;
 d=1e100.net; s=20230601; t=1723177867; x=1723782667;
 h=references:in-reply-to:cc:to:from:subject:message-id:date
 :x-gm-message-state:from:to:cc:subject:date:message-id:reply-to;
 bh=GLVwb6P/tDNS6Ir10CqM1+8co7+JAer1wZQfKWv7kp0=;
 b=BOfCsbBVGFoTaahK6C/KGNvEV6+mR7DOZSO9foUEJRaS9H/7CbGl+H5C0ZqfDcS19h
 OLtDHYoAaYSEZJqKPnCc0y28TwXyP2l4BjMJzqrdUlnnoXPElgUpvV0X6eEOwt9GNhmp
 elWrYWW03cNBWV9PQUl7WMuKRrQ9EWElTJeWZ7TYKAiveONSpHJ5a6KEfN8hbd1Cs8hb
 o6Ac7GERg9RLJ3BZPrM28r/qKqsJTcernG9q6qszQiEuBgrhV1YDXVvTuNhTUisVeRjr
 ROlN6c3AfkCMxJ13hbVpIRSdsTy5KZMTA79McigfwEhXOmaNzJB0tgxGWZKxWMnd7qfk
 dlKw==
X-Gm-Message-State: AOJu0Yzav/0Ext92bbTUS5YwvccS+M0bsJf1tesTso651tY8+fezQWVa
 bRB5u0f7arXfwTxLrJ1F+2kohIkkdqvyxVfLCkvdNNPZKtVGi46hOMQwJPpsxJChspQllvwQpQ8
 7r2I2ULKDsR9K5VrJugX5Gk4AtNyjEez0s26jh6Rv
X-Google-Smtp-Source: AGHT+IF1dhORs/3ralL7p8e8aTpt1KK/u4lTqyqs7yiVbkIt87LrK49T8aA+VW0hR+XTPhTyjZl00YWjnI5u
X-Received: by 2002:a05:690c:6907:b0:651:ee07:76c with SMTP id
 00721157ae682-69c110e8fc9mr33719797b3.15.1723177867515; 
 Thu, 08 Aug 2024 21:31:07 -0700 (PDT)
Received: from postal.iol.unh.edu (postal.iol.unh.edu. [132.177.123.84])
 by smtp-relay.gmail.com with ESMTPS id
 00721157ae682-6994dac9231sm2415307b3.46.2024.08.08.21.31.07
 (version=TLS1_2 cipher=ECDHE-ECDSA-AES128-GCM-SHA256 bits=128/128);
 Thu, 08 Aug 2024 21:31:07 -0700 (PDT)
X-Relaying-Domain: iol.unh.edu
Date: Thu, 08 Aug 2024 21:31:07 -0700 (PDT)
Message-ID: <66b59b8b.810a0220.1f1495.85f0SMTPIN_ADDED_MISSING@mx.google.com>
Received: from [172.21.0.6] (unknown [172.18.0.240])
 by postal.iol.unh.edu (Postfix) with ESMTP id 1DB2A605C351;
 Fri,  9 Aug 2024 00:31:07 -0400 (EDT)
Subject: |PENDING| pw143018-143022 [PATCH] [v16,5/5] dts: add API doc generat
From: dpdklab@iol.unh.edu
To: Test Report <test-report@dpdk.org>
Cc: dpdk-test-reports@iol.unh.edu
In-Reply-To: <20240808085452.426702-6-juraj.linkes@pantheon.tech>
References: <20240808085452.426702-6-juraj.linkes@pantheon.tech>
Content-Type: text/plain
X-BeenThere: test-report@dpdk.org
X-Mailman-Version: 2.1.29
Precedence: list
List-Id: automatic DPDK test reports <test-report.dpdk.org>
List-Unsubscribe: <https://mails.dpdk.org/options/test-report>,
 <mailto:test-report-request@dpdk.org?subject=unsubscribe>
List-Archive: <http://mails.dpdk.org/archives/test-report/>
List-Post: <mailto:test-report@dpdk.org>
List-Help: <mailto:test-report-request@dpdk.org?subject=help>
List-Subscribe: <https://mails.dpdk.org/listinfo/test-report>,
 <mailto:test-report-request@dpdk.org?subject=subscribe>
Errors-To: test-report-bounces@dpdk.org

Test-Label: iol-compile-arm64-testing
Test-Status: PENDING
http://dpdk.org/patch/143022

_Testing pending_

Submitter: Juraj Linkes <juraj.linkes@pantheon.tech>
Date: Thursday, August 08 2024 08:54:52 
DPDK git baseline: Repo:dpdk
  Branch: master
  CommitID:cb9187bc5c2b4bab0ad80194ac3b60491de14e8c

143018-143022 --> testing pending

Upstream job id: Generic-DPDK-Compile-Meson#286056

Test environment and result as below:

+------------------------------------+--------------------+
|            Environment             | dpdk_meson_compile |
+====================================+====================+
| RHEL9 (ARM)                        | PASS               |
+------------------------------------+--------------------+
| Ubuntu 20.04 ARM GCC Cross Compile | PEND               |
+------------------------------------+--------------------+
| Ubuntu 20.04 ARM SVE               | PASS               |
+------------------------------------+--------------------+
| Debian 12 with MUSDK               | PASS               |
+------------------------------------+--------------------+
| Fedora 38 (ARM)                    | PEND               |
+------------------------------------+--------------------+
| Fedora 38 (ARM Clang)              | PEND               |
+------------------------------------+--------------------+
| Fedora 37 (ARM)                    | PEND               |
+------------------------------------+--------------------+
| Fedora 39 (ARM)                    | PEND               |
+------------------------------------+--------------------+
| Ubuntu 20.04 (ARM)                 | PEND               |
+------------------------------------+--------------------+
| Fedora 39 (ARM Clang)              | PEND               |
+------------------------------------+--------------------+
| Fedora 40 (ARM)                    | PEND               |
+------------------------------------+--------------------+
| Fedora 40 (ARM Clang)              | PEND               |
+------------------------------------+--------------------+


RHEL9 (ARM)
	Kernel: Depends on container host
	Compiler: gcc 11.4.1

Ubuntu 20.04 ARM GCC Cross Compile
	Kernel: 5.4.0-167-generic
	Compiler: aarch64-linux-gnu-gcc (Ubuntu 9.4.0-1ubuntu1~20.04.2) 9.4.0

Ubuntu 20.04 ARM SVE
	Kernel: 5.4.0-167-generic
	Compiler: gcc (Ubuntu 10.5.0-1ubuntu1~20.04) 10.5.0

Debian 12 with MUSDK
	Kernel: Container Host Kernel
	Compiler: gcc 12.2.0

Fedora 38 (ARM)
	Kernel: Depends on container host
	Compiler: gcc 13.2.1

Fedora 38 (ARM Clang)
	Kernel: Depends on container host
	Compiler: clang 16.0.6

Fedora 37 (ARM)
	Kernel: Depends on container host
	Compiler: gcc 12.3.1

Fedora 39 (ARM)
	Kernel: Depends on container host
	Compiler: gcc 13.2.1

Ubuntu 20.04 (ARM)
	Kernel: Container Host Kernel
	Compiler: gcc 9.4.0

Fedora 39 (ARM Clang)
	Kernel: Depends on container host
	Compiler: clang 17.0.6

Fedora 40 (ARM)
	Kernel: Depends on container host
	Compiler: gcc 14.1.1

Fedora 40 (ARM Clang)
	Kernel: Depends on container host
	Compiler: clang 18.1.6

To view detailed results, visit:
https://lab.dpdk.org/results/dashboard/patchsets/30747/

UNH-IOL DPDK Community Lab

To manage your email subscriptions, visit: 
https://lab.dpdk.org/results/dashboard/preferences/subscriptions/