From mboxrd@z Thu Jan  1 00:00:00 1970
Return-Path: <test-report-bounces@dpdk.org>
Received: from mails.dpdk.org (mails.dpdk.org [217.70.189.124])
	by inbox.dpdk.org (Postfix) with ESMTP id C5BA245772
	for <public@inbox.dpdk.org>; Fri,  9 Aug 2024 06:35:35 +0200 (CEST)
Received: from mails.dpdk.org (localhost [127.0.0.1])
	by mails.dpdk.org (Postfix) with ESMTP id C1DCB402A5;
	Fri,  9 Aug 2024 06:35:35 +0200 (CEST)
Received: from mail-oa1-f97.google.com (mail-oa1-f97.google.com
 [209.85.160.97]) by mails.dpdk.org (Postfix) with ESMTP id AB7CB40279
 for <test-report@dpdk.org>; Fri,  9 Aug 2024 06:35:34 +0200 (CEST)
Received: by mail-oa1-f97.google.com with SMTP id
 586e51a60fabf-260f057aa9bso1026959fac.2
 for <test-report@dpdk.org>; Thu, 08 Aug 2024 21:35:34 -0700 (PDT)
DKIM-Signature: v=1; a=rsa-sha256; c=relaxed/relaxed;
 d=iol.unh.edu; s=unh-iol; t=1723178134; x=1723782934; darn=dpdk.org;
 h=references:in-reply-to:cc:to:from:subject:message-id:date:from:to
 :cc:subject:date:message-id:reply-to;
 bh=yF7wh2NFzakcxuZNWqIaOlNfIL6XDCtiUA3kbkVeGBg=;
 b=e1l0F+tuyUiAuLcZVLojbqVYqNGKLc3suc+LOXW/wfeyLD7BYLqIdeEvcQPHtS5Q0h
 cnxw7DVril3sdEFmTTDMx4sbZ0FhPAfTmJUOwIBX+aLbCKTAxE0K+CqDrsxADcQSJ80w
 1ePhhl5CcZD3b2XrxZTptr+EgcSGKpaUmWTMA=
X-Google-DKIM-Signature: v=1; a=rsa-sha256; c=relaxed/relaxed;
 d=1e100.net; s=20230601; t=1723178134; x=1723782934;
 h=references:in-reply-to:cc:to:from:subject:message-id:date
 :x-gm-message-state:from:to:cc:subject:date:message-id:reply-to;
 bh=yF7wh2NFzakcxuZNWqIaOlNfIL6XDCtiUA3kbkVeGBg=;
 b=q3WnCDEQigk214okaKneitr2VSbQQzfdcOTxkYXPpoqDf77QRidzygZ0KGEwMgf/SS
 A2JA9MQ6nFkX3Ro3YKdSVkmWNI/HlT12tJpMYE65eHqtiv3+eV5Fmbd5az5Jd74Kq8QK
 AEDtutaGVZ6p58xVGnZDL4PAsjPVYgxs06tA0P5oLJON/BbyMFf684TVh/9F4RSG8c2N
 P8hh3agrJR9SdnYN3NEkq0VroKTeJvJMHX/7PMqAHlN9Nmmlmdc0Vo542pgvBiwVOquM
 BMnSGobTbX4TuGs9+AuH2CKcD5bmMq3uo0DV06/g/ivU4yUXD/TW93A4LYl9aA1foNCM
 ffUQ==
X-Gm-Message-State: AOJu0Yzl8+l+s4Kegt9F/K1wEsIIEzGwfrw4MjaMVvfgQKGg+E9iX/G8
 ueP7n0kugnIGdeQEB1EHANHt8f50EH0IkSSyxS6UQfiZSinnqMVVvduAktfeqA9xJo9VJ+ACdwk
 5i9qRIb3/1XXzuHqCrCwjDcrVJpkPgUNLvwaFSYCX
X-Google-Smtp-Source: AGHT+IEg9KhoqkTL1m8iC0yO6xjOJ1KBL/lD9o0iozkP+bpsOQIGPcV7UXEFIZr5XtG0aCStNdmwG8JCmjry
X-Received: by 2002:a05:6871:614:b0:260:e36f:ef4f with SMTP id
 586e51a60fabf-26c62c18184mr541230fac.3.1723178133920; 
 Thu, 08 Aug 2024 21:35:33 -0700 (PDT)
Received: from postal.iol.unh.edu (postal.iol.unh.edu. [132.177.123.84])
 by smtp-relay.gmail.com with ESMTPS id
 d2e1a72fcca58-710cb2ee92fsm135664b3a.27.2024.08.08.21.35.33
 (version=TLS1_2 cipher=ECDHE-ECDSA-AES128-GCM-SHA256 bits=128/128);
 Thu, 08 Aug 2024 21:35:33 -0700 (PDT)
X-Relaying-Domain: iol.unh.edu
Date: Thu, 08 Aug 2024 21:35:33 -0700 (PDT)
Message-ID: <66b59c95.050a0220.17e905.9c68SMTPIN_ADDED_MISSING@mx.google.com>
Received: from [172.21.0.8] (unknown [172.18.0.240])
 by postal.iol.unh.edu (Postfix) with ESMTP id 05E5B605C351;
 Fri,  9 Aug 2024 00:35:33 -0400 (EDT)
Subject: |PENDING| pw143027 [PATCH] [v2] net/gve: add support for TSO in DQO 
From: dpdklab@iol.unh.edu
To: Test Report <test-report@dpdk.org>
Cc: dpdk-test-reports@iol.unh.edu
In-Reply-To: <1723141392-2437012-1-git-send-email-tathagat.dpdk@gmail.com>
References: <1723141392-2437012-1-git-send-email-tathagat.dpdk@gmail.com>
Content-Type: text/plain
X-BeenThere: test-report@dpdk.org
X-Mailman-Version: 2.1.29
Precedence: list
List-Id: automatic DPDK test reports <test-report.dpdk.org>
List-Unsubscribe: <https://mails.dpdk.org/options/test-report>,
 <mailto:test-report-request@dpdk.org?subject=unsubscribe>
List-Archive: <http://mails.dpdk.org/archives/test-report/>
List-Post: <mailto:test-report@dpdk.org>
List-Help: <mailto:test-report-request@dpdk.org?subject=help>
List-Subscribe: <https://mails.dpdk.org/listinfo/test-report>,
 <mailto:test-report-request@dpdk.org?subject=subscribe>
Errors-To: test-report-bounces@dpdk.org

Test-Label: iol-unit-amd64-testing
Test-Status: PENDING
http://dpdk.org/patch/143027

_Testing pending_

Submitter: Tathagat Priyadarshi <tathagat.dpdk@gmail.com>
Date: Thursday, August 08 2024 18:23:12 
DPDK git baseline: Repo:dpdk
  Branch: master
  CommitID:0681bf929bae0a0555ed168a1e492506a6d6394e

143027 --> testing pending

Upstream job id: Generic-Unit-Test-DPDK#250079

Test environment and result as below:

+---------------------+----------------+
|     Environment     | dpdk_unit_test |
+=====================+================+
| Windows Server 2019 | PASS           |
+---------------------+----------------+
| Windows Server 2022 | PASS           |
+---------------------+----------------+
| CentOS Stream 9     | PASS           |
+---------------------+----------------+
| Debian Bullseye     | PASS           |
+---------------------+----------------+
| Debian 12           | PASS           |
+---------------------+----------------+
| Fedora 37           | PASS           |
+---------------------+----------------+
| Fedora 38           | PASS           |
+---------------------+----------------+
| Fedora 38 (Clang)   | PASS           |
+---------------------+----------------+
| Fedora 39           | PASS           |
+---------------------+----------------+
| Fedora 39 (Clang)   | PASS           |
+---------------------+----------------+
| Fedora 40           | PASS           |
+---------------------+----------------+
| openSUSE Leap 15    | PASS           |
+---------------------+----------------+
| Fedora 40 (Clang)   | PASS           |
+---------------------+----------------+
| RHEL8               | PEND           |
+---------------------+----------------+
| RHEL9               | PEND           |
+---------------------+----------------+
| Ubuntu 20.04        | PEND           |
+---------------------+----------------+
| Ubuntu 22.04        | PEND           |
+---------------------+----------------+
| Ubuntu 24.04        | PEND           |
+---------------------+----------------+


Windows Server 2019
	Kernel: 10.0.17763
	Compiler: clang 14.0 and gcc 8.1.0 (MinGW)

Windows Server 2022
	Kernel: 10.0.20348.2031
	Compiler: clang 15.0.7, gcc 8.1.0 (MinGW), and MSVC VS 17.9

CentOS Stream 9
	Kernel: 5.4.0-167-generic
	Compiler: gcc 11.4.1 20230605

Debian Bullseye
	Kernel: 5.4.0-167-generic
	Compiler: gcc 10.2.1-6

Debian 12
	Kernel: Container Host Kernel
	Compiler: gcc 12.2.0

Fedora 37
	Kernel: Depends on container host system
	Compiler: gcc 12.3.1

Fedora 38
	Kernel: Depends on container host
	Compiler: gcc 13.2.1

Fedora 38 (Clang)
	Kernel: Depends on container host
	Compiler: clang 16.0.6

Fedora 39
	Kernel: Depends on container host
	Compiler: gcc 13.2.1

Fedora 39 (Clang)
	Kernel: Depends on container host
	Compiler: clang 17.0.6

Fedora 40
	Kernel: Depends on container host
	Compiler: gcc 14.1.1

openSUSE Leap 15
	Kernel: 5.4.0-167-generic
	Compiler: gcc 7.5.0

Fedora 40 (Clang)
	Kernel: Depends on container host
	Compiler: clang 18.1.6

RHEL8
	Kernel: 5.4.0-167-generic
	Compiler: gcc 8.5.0 20210514 (Red Hat 8.5.0-20)

RHEL9
	Kernel: Depends on container host
	Compiler: gcc 11.4.1

Ubuntu 20.04
	Kernel: 5.4.0-167-generic
	Compiler: gcc 9.4.0-1ubuntu1~20.04.1

Ubuntu 22.04
	Kernel: 5.4.0-167-generic
	Compiler: gcc 11.4.0

Ubuntu 24.04
	Kernel: 5.4.0-167-generic
	Compiler: gcc 13.2.0

To view detailed results, visit:
https://lab.dpdk.org/results/dashboard/patchsets/30749/

UNH-IOL DPDK Community Lab

To manage your email subscriptions, visit: 
https://lab.dpdk.org/results/dashboard/preferences/subscriptions/