From mboxrd@z Thu Jan  1 00:00:00 1970
Return-Path: <test-report-bounces@dpdk.org>
Received: from mails.dpdk.org (mails.dpdk.org [217.70.189.124])
	by inbox.dpdk.org (Postfix) with ESMTP id 7661545772
	for <public@inbox.dpdk.org>; Fri,  9 Aug 2024 07:29:54 +0200 (CEST)
Received: from mails.dpdk.org (localhost [127.0.0.1])
	by mails.dpdk.org (Postfix) with ESMTP id 6FDE7402A5;
	Fri,  9 Aug 2024 07:29:54 +0200 (CEST)
Received: from mail-pl1-f225.google.com (mail-pl1-f225.google.com
 [209.85.214.225])
 by mails.dpdk.org (Postfix) with ESMTP id C849240279
 for <test-report@dpdk.org>; Fri,  9 Aug 2024 07:29:53 +0200 (CEST)
Received: by mail-pl1-f225.google.com with SMTP id
 d9443c01a7336-1fc5296e214so18039945ad.0
 for <test-report@dpdk.org>; Thu, 08 Aug 2024 22:29:53 -0700 (PDT)
DKIM-Signature: v=1; a=rsa-sha256; c=relaxed/relaxed;
 d=iol.unh.edu; s=unh-iol; t=1723181393; x=1723786193; darn=dpdk.org;
 h=references:in-reply-to:cc:to:from:subject:message-id:date:from:to
 :cc:subject:date:message-id:reply-to;
 bh=xXJLeGiblkxa9RNj+a3C7mgCpipSgfMcFwsGjwZpDxI=;
 b=iYKJKfhQI5ykpvWCzzIf2ak6NKDEmXfYHbTPwefi5JeFYPzjGDPLn3YTzGVm03Yz4F
 gioBxWfP5u1M8QwV36RfnVE+gg8TXf4jOlYdcLCdGtcHSqS0I01/sXqNhRVYfzpiG/OB
 o8y5SoXaFRoqeZQye/mQ19+rbSu+4Ii5sIKJ8=
X-Google-DKIM-Signature: v=1; a=rsa-sha256; c=relaxed/relaxed;
 d=1e100.net; s=20230601; t=1723181393; x=1723786193;
 h=references:in-reply-to:cc:to:from:subject:message-id:date
 :x-gm-message-state:from:to:cc:subject:date:message-id:reply-to;
 bh=xXJLeGiblkxa9RNj+a3C7mgCpipSgfMcFwsGjwZpDxI=;
 b=VR9NVobgJudubV84f//sEzq4U4VhK835SLm90Tyl5DlIhuQilvU+KjoA8lZ6dZOMtt
 +CXBS7cHoMbC72HCPQhNXhXdy3Opg4cxfXW4zBXuGPEtoizjA4xCG+DCWzYv0pV5Hg0b
 fgq4UILEsPHtLI7bNi9WGvwdO3o9OuMHDrf11LUAVFtvsFDbJYDKS6aIRA4DhT87t1Wl
 ytC6Kw0Wt7RSudq2y8aHgO6gj2Z8/cuWrXjvrHErt9MN0O/wQ9xhlqihPCLm0lPYxTh0
 MLrArgp+i4/MPR91XEIwI+kQiI1QSCBg9k+PT4Kn1UfEhlMxW7BvN28jLlm+XV++LVJ+
 6WhQ==
X-Gm-Message-State: AOJu0YzGRclvn1yXTPRJwNyBouHt9oBfXiid6gE2Zz7SNFUO+l9776Ys
 1ODWOye9VULDERGml4PxHSsA+rHFUIwMw/Yb2COQHkZeY64HiTlWNxHRTPa2kR9fLnWPa0Wppvw
 hJQadX/2FnaYfheAZzq55aDOvvCI2yysW0u7d1Cbl
X-Google-Smtp-Source: AGHT+IED3p5W3iowf/A8dsDNY6B1YfFYrKEvSN0ZDK8Uwk/HJXfocqjCtXEGhnTBu0SMavt4F8iC3JKVo1/V
X-Received: by 2002:a17:902:d491:b0:1fb:8a0e:7730 with SMTP id
 d9443c01a7336-200ae51ce3amr4827975ad.26.1723181392927; 
 Thu, 08 Aug 2024 22:29:52 -0700 (PDT)
Received: from postal.iol.unh.edu (postal.iol.unh.edu. [132.177.123.84])
 by smtp-relay.gmail.com with ESMTPS id
 d9443c01a7336-1ff58f378a2sm11024175ad.23.2024.08.08.22.29.52
 (version=TLS1_2 cipher=ECDHE-ECDSA-AES128-GCM-SHA256 bits=128/128);
 Thu, 08 Aug 2024 22:29:52 -0700 (PDT)
X-Relaying-Domain: iol.unh.edu
Date: Thu, 08 Aug 2024 22:29:52 -0700 (PDT)
Message-ID: <66b5a950.170a0220.394df3.634aSMTPIN_ADDED_MISSING@mx.google.com>
Received: from [172.21.0.6] (unknown [172.18.0.240])
 by postal.iol.unh.edu (Postfix) with ESMTP id 15000605C351;
 Fri,  9 Aug 2024 01:29:52 -0400 (EDT)
Subject: |PENDING| pw143018-143022 [PATCH] [v16,5/5] dts: add API doc generat
From: dpdklab@iol.unh.edu
To: Test Report <test-report@dpdk.org>
Cc: dpdk-test-reports@iol.unh.edu
In-Reply-To: <20240808085452.426702-6-juraj.linkes@pantheon.tech>
References: <20240808085452.426702-6-juraj.linkes@pantheon.tech>
Content-Type: text/plain
X-BeenThere: test-report@dpdk.org
X-Mailman-Version: 2.1.29
Precedence: list
List-Id: automatic DPDK test reports <test-report.dpdk.org>
List-Unsubscribe: <https://mails.dpdk.org/options/test-report>,
 <mailto:test-report-request@dpdk.org?subject=unsubscribe>
List-Archive: <http://mails.dpdk.org/archives/test-report/>
List-Post: <mailto:test-report@dpdk.org>
List-Help: <mailto:test-report-request@dpdk.org?subject=help>
List-Subscribe: <https://mails.dpdk.org/listinfo/test-report>,
 <mailto:test-report-request@dpdk.org?subject=subscribe>
Errors-To: test-report-bounces@dpdk.org

Test-Label: iol-unit-amd64-testing
Test-Status: PENDING
http://dpdk.org/patch/143022

_Testing pending_

Submitter: Juraj Linkes <juraj.linkes@pantheon.tech>
Date: Thursday, August 08 2024 08:54:52 
DPDK git baseline: Repo:dpdk
  Branch: master
  CommitID:cb9187bc5c2b4bab0ad80194ac3b60491de14e8c

143018-143022 --> testing pending

Upstream job id: Generic-Unit-Test-DPDK#250110

Test environment and result as below:

+---------------------+----------------+
|     Environment     | dpdk_unit_test |
+=====================+================+
| Debian Bullseye     | PASS           |
+---------------------+----------------+
| CentOS Stream 9     | PASS           |
+---------------------+----------------+
| Fedora 37           | PASS           |
+---------------------+----------------+
| Debian 12           | PASS           |
+---------------------+----------------+
| Fedora 38           | PASS           |
+---------------------+----------------+
| Fedora 38 (Clang)   | PASS           |
+---------------------+----------------+
| Fedora 39           | PASS           |
+---------------------+----------------+
| Fedora 39 (Clang)   | PASS           |
+---------------------+----------------+
| Fedora 40           | PASS           |
+---------------------+----------------+
| Fedora 40 (Clang)   | PASS           |
+---------------------+----------------+
| openSUSE Leap 15    | PASS           |
+---------------------+----------------+
| RHEL8               | PASS           |
+---------------------+----------------+
| RHEL9               | PASS           |
+---------------------+----------------+
| Ubuntu 20.04        | PASS           |
+---------------------+----------------+
| Ubuntu 22.04        | PASS           |
+---------------------+----------------+
| Ubuntu 24.04        | PEND           |
+---------------------+----------------+
| Windows Server 2022 | PASS           |
+---------------------+----------------+
| Windows Server 2019 | PASS           |
+---------------------+----------------+


Debian Bullseye
	Kernel: 5.4.0-167-generic
	Compiler: gcc 10.2.1-6

CentOS Stream 9
	Kernel: 5.4.0-167-generic
	Compiler: gcc 11.4.1 20230605

Fedora 37
	Kernel: Depends on container host system
	Compiler: gcc 12.3.1

Debian 12
	Kernel: Container Host Kernel
	Compiler: gcc 12.2.0

Fedora 38
	Kernel: Depends on container host
	Compiler: gcc 13.2.1

Fedora 38 (Clang)
	Kernel: Depends on container host
	Compiler: clang 16.0.6

Fedora 39
	Kernel: Depends on container host
	Compiler: gcc 13.2.1

Fedora 39 (Clang)
	Kernel: Depends on container host
	Compiler: clang 17.0.6

Fedora 40
	Kernel: Depends on container host
	Compiler: gcc 14.1.1

Fedora 40 (Clang)
	Kernel: Depends on container host
	Compiler: clang 18.1.6

openSUSE Leap 15
	Kernel: 5.4.0-167-generic
	Compiler: gcc 7.5.0

RHEL8
	Kernel: 5.4.0-167-generic
	Compiler: gcc 8.5.0 20210514 (Red Hat 8.5.0-20)

RHEL9
	Kernel: Depends on container host
	Compiler: gcc 11.4.1

Ubuntu 20.04
	Kernel: 5.4.0-167-generic
	Compiler: gcc 9.4.0-1ubuntu1~20.04.1

Ubuntu 22.04
	Kernel: 5.4.0-167-generic
	Compiler: gcc 11.4.0

Ubuntu 24.04
	Kernel: 5.4.0-167-generic
	Compiler: gcc 13.2.0

Windows Server 2022
	Kernel: 10.0.20348.2031
	Compiler: clang 15.0.7, gcc 8.1.0 (MinGW), and MSVC VS 17.9

Windows Server 2019
	Kernel: 10.0.17763
	Compiler: clang 14.0 and gcc 8.1.0 (MinGW)

To view detailed results, visit:
https://lab.dpdk.org/results/dashboard/patchsets/30747/

UNH-IOL DPDK Community Lab

To manage your email subscriptions, visit: 
https://lab.dpdk.org/results/dashboard/preferences/subscriptions/