From mboxrd@z Thu Jan  1 00:00:00 1970
Return-Path: <test-report-bounces@dpdk.org>
Received: from mails.dpdk.org (mails.dpdk.org [217.70.189.124])
	by inbox.dpdk.org (Postfix) with ESMTP id AC78A45772
	for <public@inbox.dpdk.org>; Fri,  9 Aug 2024 07:30:00 +0200 (CEST)
Received: from mails.dpdk.org (localhost [127.0.0.1])
	by mails.dpdk.org (Postfix) with ESMTP id 9CDBA42D45;
	Fri,  9 Aug 2024 07:30:00 +0200 (CEST)
Received: from mail-yw1-f227.google.com (mail-yw1-f227.google.com
 [209.85.128.227])
 by mails.dpdk.org (Postfix) with ESMTP id 3C79D40279
 for <test-report@dpdk.org>; Fri,  9 Aug 2024 07:29:58 +0200 (CEST)
Received: by mail-yw1-f227.google.com with SMTP id
 00721157ae682-654cf0a069eso16179687b3.1
 for <test-report@dpdk.org>; Thu, 08 Aug 2024 22:29:58 -0700 (PDT)
DKIM-Signature: v=1; a=rsa-sha256; c=relaxed/relaxed;
 d=iol.unh.edu; s=unh-iol; t=1723181397; x=1723786197; darn=dpdk.org;
 h=references:in-reply-to:cc:to:from:subject:message-id:date:from:to
 :cc:subject:date:message-id:reply-to;
 bh=nA/q/gbi/kEfrk9GknmjeNztiVdqhGdJ8m6rQ86pIqw=;
 b=QU3no9WeWbdVFbxB2AayYURTUvODRePomW85ZjSSfDNPFEOqBsAgpMuswZ3nnonoFr
 47xa5fl7/Lbun/X6h6zaHfQXOUeYDd+OjuUKNBKdmVPpJ2hI19pK2nsw+GkNtfmqL63l
 va5GwT7D7RUjmi5Ih/njEkhX/ap5OIL1RSZSY=
X-Google-DKIM-Signature: v=1; a=rsa-sha256; c=relaxed/relaxed;
 d=1e100.net; s=20230601; t=1723181397; x=1723786197;
 h=references:in-reply-to:cc:to:from:subject:message-id:date
 :x-gm-message-state:from:to:cc:subject:date:message-id:reply-to;
 bh=nA/q/gbi/kEfrk9GknmjeNztiVdqhGdJ8m6rQ86pIqw=;
 b=Lyf/F2pDykb2OSDkdR93DMUi3VILr+xSv76NjosGC3ZknKm0K2fLcl/Gb88NGzjJLN
 5cTPqYhhExD/p29w5WsRuKpdlMT+RNi64XG9bwdHyiOlzBWv8ZIuo0YR0HjiDU8kpwg5
 p4+v3ksAzoYFNSD/f7Fnik57oViDm0pnwPaDK5U7plDoWTl1P+ZiUmrBoy3tFSNkr12a
 lBoETtc8X8Im95fS1Ht5OEr0n8kfh4/doqXrHw/hGhwQjIFVRLInkoR0gcBt+AbQHxep
 uZCtF0g5D9a57osrVel1DODOEPOdBMcijoQra0vICLNW7OQVTy9orSvytKjRElhHhsaH
 XFPQ==
X-Gm-Message-State: AOJu0Ywf2V3ZhgxGh1Xl0UfWxPJZXRsYoIz155v3ZfEVpBta1/T0tqDu
 cAWRnHvQEHc57qYn4QXtNb9Co+/z/wAq5OKHzixjryPj9SFMTC69qzYZ8rLfZO116R7jgo9Gdq2
 nmP+pI40gDVBfA6j6FsBOpKdV89OAwcRorPPr1aQEjfJCuPtA+BfRTOGh
X-Google-Smtp-Source: AGHT+IH9fLKmN7+oMXYForxMT+QesVYPav+1mgBh7/KFSvJvRBfe2hcvV1CMqn4J0p33xOS5R0OOct6V4R9a
X-Received: by 2002:a05:690c:4343:b0:648:3c1d:36d6 with SMTP id
 00721157ae682-69ec54abe80mr5011317b3.10.1723181397587; 
 Thu, 08 Aug 2024 22:29:57 -0700 (PDT)
Received: from postal.iol.unh.edu (postal.iol.unh.edu.
 [2606:4100:3880:1234::84]) by smtp-relay.gmail.com with ESMTPS id
 00721157ae682-68a116db9a8sm16830887b3.9.2024.08.08.22.29.57
 (version=TLS1_2 cipher=ECDHE-ECDSA-AES128-GCM-SHA256 bits=128/128);
 Thu, 08 Aug 2024 22:29:57 -0700 (PDT)
X-Relaying-Domain: iol.unh.edu
Date: Thu, 08 Aug 2024 22:29:57 -0700 (PDT)
Message-ID: <66b5a955.0d0a0220.11cabb.29aeSMTPIN_ADDED_MISSING@mx.google.com>
Received: from [172.21.0.7] (unknown [172.18.0.240])
 by postal.iol.unh.edu (Postfix) with ESMTP id 42407605C351;
 Fri,  9 Aug 2024 01:29:57 -0400 (EDT)
Subject: |PENDING| pw143018-143022 [PATCH] [v16,5/5] dts: add API doc generat
From: dpdklab@iol.unh.edu
To: Test Report <test-report@dpdk.org>
Cc: dpdk-test-reports@iol.unh.edu
In-Reply-To: <20240808085452.426702-6-juraj.linkes@pantheon.tech>
References: <20240808085452.426702-6-juraj.linkes@pantheon.tech>
Content-Type: text/plain
X-BeenThere: test-report@dpdk.org
X-Mailman-Version: 2.1.29
Precedence: list
List-Id: automatic DPDK test reports <test-report.dpdk.org>
List-Unsubscribe: <https://mails.dpdk.org/options/test-report>,
 <mailto:test-report-request@dpdk.org?subject=unsubscribe>
List-Archive: <http://mails.dpdk.org/archives/test-report/>
List-Post: <mailto:test-report@dpdk.org>
List-Help: <mailto:test-report-request@dpdk.org?subject=help>
List-Subscribe: <https://mails.dpdk.org/listinfo/test-report>,
 <mailto:test-report-request@dpdk.org?subject=subscribe>
Errors-To: test-report-bounces@dpdk.org

Test-Label: iol-unit-amd64-testing
Test-Status: PENDING
http://dpdk.org/patch/143022

_Testing pending_

Submitter: Juraj Linkes <juraj.linkes@pantheon.tech>
Date: Thursday, August 08 2024 08:54:52 
DPDK git baseline: Repo:dpdk
  Branch: master
  CommitID:cb9187bc5c2b4bab0ad80194ac3b60491de14e8c

143018-143022 --> testing pending

Upstream job id: Generic-Unit-Test-DPDK#250114

Test environment and result as below:

+---------------------+----------------+
|     Environment     | dpdk_unit_test |
+=====================+================+
| Debian Bullseye     | PASS           |
+---------------------+----------------+
| CentOS Stream 9     | PASS           |
+---------------------+----------------+
| Fedora 37           | PASS           |
+---------------------+----------------+
| Debian 12           | PASS           |
+---------------------+----------------+
| Fedora 38           | PASS           |
+---------------------+----------------+
| Fedora 38 (Clang)   | PASS           |
+---------------------+----------------+
| Fedora 39           | PASS           |
+---------------------+----------------+
| Fedora 39 (Clang)   | PASS           |
+---------------------+----------------+
| Fedora 40           | PASS           |
+---------------------+----------------+
| Fedora 40 (Clang)   | PASS           |
+---------------------+----------------+
| openSUSE Leap 15    | PASS           |
+---------------------+----------------+
| RHEL8               | PASS           |
+---------------------+----------------+
| RHEL9               | PASS           |
+---------------------+----------------+
| Ubuntu 20.04        | PASS           |
+---------------------+----------------+
| Ubuntu 22.04        | PASS           |
+---------------------+----------------+
| Ubuntu 24.04        | PEND           |
+---------------------+----------------+
| Windows Server 2022 | PASS           |
+---------------------+----------------+
| Windows Server 2019 | PASS           |
+---------------------+----------------+


Debian Bullseye
	Kernel: 5.4.0-167-generic
	Compiler: gcc 10.2.1-6

CentOS Stream 9
	Kernel: 5.4.0-167-generic
	Compiler: gcc 11.4.1 20230605

Fedora 37
	Kernel: Depends on container host system
	Compiler: gcc 12.3.1

Debian 12
	Kernel: Container Host Kernel
	Compiler: gcc 12.2.0

Fedora 38
	Kernel: Depends on container host
	Compiler: gcc 13.2.1

Fedora 38 (Clang)
	Kernel: Depends on container host
	Compiler: clang 16.0.6

Fedora 39
	Kernel: Depends on container host
	Compiler: gcc 13.2.1

Fedora 39 (Clang)
	Kernel: Depends on container host
	Compiler: clang 17.0.6

Fedora 40
	Kernel: Depends on container host
	Compiler: gcc 14.1.1

Fedora 40 (Clang)
	Kernel: Depends on container host
	Compiler: clang 18.1.6

openSUSE Leap 15
	Kernel: 5.4.0-167-generic
	Compiler: gcc 7.5.0

RHEL8
	Kernel: 5.4.0-167-generic
	Compiler: gcc 8.5.0 20210514 (Red Hat 8.5.0-20)

RHEL9
	Kernel: Depends on container host
	Compiler: gcc 11.4.1

Ubuntu 20.04
	Kernel: 5.4.0-167-generic
	Compiler: gcc 9.4.0-1ubuntu1~20.04.1

Ubuntu 22.04
	Kernel: 5.4.0-167-generic
	Compiler: gcc 11.4.0

Ubuntu 24.04
	Kernel: 5.4.0-167-generic
	Compiler: gcc 13.2.0

Windows Server 2022
	Kernel: 10.0.20348.2031
	Compiler: clang 15.0.7, gcc 8.1.0 (MinGW), and MSVC VS 17.9

Windows Server 2019
	Kernel: 10.0.17763
	Compiler: clang 14.0 and gcc 8.1.0 (MinGW)

To view detailed results, visit:
https://lab.dpdk.org/results/dashboard/patchsets/30747/

UNH-IOL DPDK Community Lab

To manage your email subscriptions, visit: 
https://lab.dpdk.org/results/dashboard/preferences/subscriptions/