From mboxrd@z Thu Jan  1 00:00:00 1970
Return-Path: <test-report-bounces@dpdk.org>
Received: from mails.dpdk.org (mails.dpdk.org [217.70.189.124])
	by inbox.dpdk.org (Postfix) with ESMTP id 07B7645772
	for <public@inbox.dpdk.org>; Fri,  9 Aug 2024 07:47:08 +0200 (CEST)
Received: from mails.dpdk.org (localhost [127.0.0.1])
	by mails.dpdk.org (Postfix) with ESMTP id 01CD4402A5;
	Fri,  9 Aug 2024 07:47:08 +0200 (CEST)
Received: from mail-io1-f98.google.com (mail-io1-f98.google.com
 [209.85.166.98]) by mails.dpdk.org (Postfix) with ESMTP id 2021540279
 for <test-report@dpdk.org>; Fri,  9 Aug 2024 07:47:06 +0200 (CEST)
Received: by mail-io1-f98.google.com with SMTP id
 ca18e2360f4ac-81f9339e52cso70240039f.0
 for <test-report@dpdk.org>; Thu, 08 Aug 2024 22:47:06 -0700 (PDT)
DKIM-Signature: v=1; a=rsa-sha256; c=relaxed/relaxed;
 d=iol.unh.edu; s=unh-iol; t=1723182425; x=1723787225; darn=dpdk.org;
 h=references:in-reply-to:cc:to:from:subject:message-id:date:from:to
 :cc:subject:date:message-id:reply-to;
 bh=g/iOzww+EeAXmCOoHatjej3b8+i0A+qS6T22dTnA3gk=;
 b=Y5m9Vy6Ta4GO6NXVhA/Gkpo6arYMqKG3har0uBx3aKd34UHpFP5CSzyLlJFkyRN4rs
 zBVEdPJH0JRUzb+6yqMwQA0W4fZ494JpiplzpDAjGuEBqCng0jXuSP4Shk1pp9aBn7Y7
 YNojZ48pfaloyDbGN0y3w126VhntVvA7WVCBs=
X-Google-DKIM-Signature: v=1; a=rsa-sha256; c=relaxed/relaxed;
 d=1e100.net; s=20230601; t=1723182425; x=1723787225;
 h=references:in-reply-to:cc:to:from:subject:message-id:date
 :x-gm-message-state:from:to:cc:subject:date:message-id:reply-to;
 bh=g/iOzww+EeAXmCOoHatjej3b8+i0A+qS6T22dTnA3gk=;
 b=RR5tZTKyY5zTYs7SiaUpHz0//djdn3z8kkeRBVfztsw2wmFDiHBLUWSQWpIuMSWgfo
 ZdIipXGXv6hpQlWoy/xBxUDE6HXWSzyJXWElb84R9aDSApLi1+3s6FJGcCwyDa9LOdAu
 SURRyl51o0jLFJBZR6HYW7aO8QXumuv/V2StbYDAr4nDzwRvV+QMbkpq4pyVmOqKrcuZ
 4e15K117BVuJItHrYOQWyeFLrDcWarab3fULuAIUR2ccMRrkVTP0LiOFy28D3mV3nCec
 jMtja/9Q8rhRFE9oBRSxaeKgJeQWWdfLY7+9tZH4a99IeCZhDNY65IolAOorVaYgAMJk
 6/xw==
X-Gm-Message-State: AOJu0YzVuJ4JoVJSHaAmMQ3GwU3K6g4RVAFnXv66P2cO2fkGEtwZ+aae
 7eLkZ+mIUHnjSddLPCRwSNdWy0kGFji3V56fapJYmmUyMtwB7ZDGgZVaNybQh5otYNFOFjU3Pv/
 hKqaGvCx74xXIPd67oLKf8ApP3E2MfHPJCiFvA8BGSalC+LM1scAR9JV8
X-Google-Smtp-Source: AGHT+IFnZep0ejDnde/Xds4kv4GgTxJztIyThGwqbYAc/1KcerzGILCXKbG+f3hcNTYN0Ua6OtWrNmZs0wqw
X-Received: by 2002:a05:6e02:12ef:b0:398:b998:fa3b with SMTP id
 e9e14a558f8ab-39b813349f7mr8271195ab.12.1723182425313; 
 Thu, 08 Aug 2024 22:47:05 -0700 (PDT)
Received: from postal.iol.unh.edu (postal.iol.unh.edu.
 [2606:4100:3880:1234::84]) by smtp-relay.gmail.com with ESMTPS id
 e9e14a558f8ab-39b20ac1c1bsm13676385ab.57.2024.08.08.22.47.05
 (version=TLS1_2 cipher=ECDHE-ECDSA-AES128-GCM-SHA256 bits=128/128);
 Thu, 08 Aug 2024 22:47:05 -0700 (PDT)
X-Relaying-Domain: iol.unh.edu
Date: Thu, 08 Aug 2024 22:47:05 -0700 (PDT)
Message-ID: <66b5ad59.050a0220.184842.0765SMTPIN_ADDED_MISSING@mx.google.com>
Received: from [172.17.0.3] (unknown [172.18.0.217])
 by postal.iol.unh.edu (Postfix) with ESMTP id C3572605C351;
 Fri,  9 Aug 2024 01:47:04 -0400 (EDT)
Subject: |PENDING| pw143018-143022 [PATCH] [v16,5/5] dts: add API doc generat
From: dpdklab@iol.unh.edu
To: Test Report <test-report@dpdk.org>
Cc: dpdk-test-reports@iol.unh.edu
In-Reply-To: <20240808085452.426702-6-juraj.linkes@pantheon.tech>
References: <20240808085452.426702-6-juraj.linkes@pantheon.tech>
Content-Type: text/plain
X-BeenThere: test-report@dpdk.org
X-Mailman-Version: 2.1.29
Precedence: list
List-Id: automatic DPDK test reports <test-report.dpdk.org>
List-Unsubscribe: <https://mails.dpdk.org/options/test-report>,
 <mailto:test-report-request@dpdk.org?subject=unsubscribe>
List-Archive: <http://mails.dpdk.org/archives/test-report/>
List-Post: <mailto:test-report@dpdk.org>
List-Help: <mailto:test-report-request@dpdk.org?subject=help>
List-Subscribe: <https://mails.dpdk.org/listinfo/test-report>,
 <mailto:test-report-request@dpdk.org?subject=subscribe>
Errors-To: test-report-bounces@dpdk.org

Test-Label: iol-unit-arm64-testing
Test-Status: PENDING
http://dpdk.org/patch/143022

_Testing pending_

Submitter: Juraj Linkes <juraj.linkes@pantheon.tech>
Date: Thursday, August 08 2024 08:54:52 
DPDK git baseline: Repo:dpdk
  Branch: master
  CommitID:cb9187bc5c2b4bab0ad80194ac3b60491de14e8c

143018-143022 --> testing pending

Upstream job id: Generic-Unit-Test-DPDK#250128

Test environment and result as below:

+-----------------------------+----------------+--------------+---------------------------+------------------------------+
|         Environment         | dpdk_unit_test | lpm_autotest | cryptodev_sw_zuc_autotest | cryptodev_sw_snow3g_autotest |
+=============================+================+==============+===========================+==============================+
| 32-bit Ubuntu 20.04.4 (ARM) | PASS           | SKIPPED      | SKIPPED                   | SKIPPED                      |
+-----------------------------+----------------+--------------+---------------------------+------------------------------+
| Debian 11 (Buster) (ARM)    | PASS           | SKIPPED      | SKIPPED                   | SKIPPED                      |
+-----------------------------+----------------+--------------+---------------------------+------------------------------+
| Debian 12 (arm)             | PEND           | SKIPPED      | PASS                      | PASS                         |
+-----------------------------+----------------+--------------+---------------------------+------------------------------+
| Fedora 37 (ARM)             | PEND           | SKIPPED      | SKIPPED                   | SKIPPED                      |
+-----------------------------+----------------+--------------+---------------------------+------------------------------+
| CentOS Stream 9 (ARM)       | PEND           | SKIPPED      | SKIPPED                   | SKIPPED                      |
+-----------------------------+----------------+--------------+---------------------------+------------------------------+
| Fedora 38 (ARM)             | PEND           | SKIPPED      | SKIPPED                   | SKIPPED                      |
+-----------------------------+----------------+--------------+---------------------------+------------------------------+
| Fedora 38 (ARM Clang)       | PEND           | SKIPPED      | SKIPPED                   | SKIPPED                      |
+-----------------------------+----------------+--------------+---------------------------+------------------------------+
| Fedora 39 (ARM)             | PEND           | SKIPPED      | SKIPPED                   | SKIPPED                      |
+-----------------------------+----------------+--------------+---------------------------+------------------------------+
| Fedora 39 (ARM Clang)       | PEND           | SKIPPED      | SKIPPED                   | SKIPPED                      |
+-----------------------------+----------------+--------------+---------------------------+------------------------------+
| Fedora 40 (ARM)             | PEND           | SKIPPED      | SKIPPED                   | SKIPPED                      |
+-----------------------------+----------------+--------------+---------------------------+------------------------------+
| Fedora 40 (ARM Clang)       | PEND           | SKIPPED      | SKIPPED                   | SKIPPED                      |
+-----------------------------+----------------+--------------+---------------------------+------------------------------+
| RHEL9 (ARM)                 | PEND           | SKIPPED      | SKIPPED                   | SKIPPED                      |
+-----------------------------+----------------+--------------+---------------------------+------------------------------+
| Ubuntu 20.04 (ARM)          | PEND           | SKIPPED      | SKIPPED                   | SKIPPED                      |
+-----------------------------+----------------+--------------+---------------------------+------------------------------+
| Ubuntu 22.04 (ARM)          | PEND           | SKIPPED      | SKIPPED                   | SKIPPED                      |
+-----------------------------+----------------+--------------+---------------------------+------------------------------+
| Ubuntu 20.04 ARM SVE        | SKIPPED        | PASS         | SKIPPED                   | SKIPPED                      |
+-----------------------------+----------------+--------------+---------------------------+------------------------------+


32-bit Ubuntu 20.04.4 (ARM)
	Kernel: 5.4.0-155-generic aarch64
	Compiler: gcc 9.4

Debian 11 (Buster) (ARM)
	Kernel: Container Host Kernel
	Compiler: gcc 10.2.1

Debian 12 (arm)
	Kernel: Container Host Kernel
	Compiler: gcc 12.2.0

Fedora 37 (ARM)
	Kernel: Depends on container host
	Compiler: gcc 12.3.1

CentOS Stream 9 (ARM)
	Kernel: Container Host Kernel
	Compiler: gcc 11.4.1

Fedora 38 (ARM)
	Kernel: Depends on container host
	Compiler: gcc 13.2.1

Fedora 38 (ARM Clang)
	Kernel: Depends on container host
	Compiler: clang 16.0.6

Fedora 39 (ARM)
	Kernel: Depends on container host
	Compiler: gcc 13.2.1

Fedora 39 (ARM Clang)
	Kernel: Depends on container host
	Compiler: clang 17.0.6

Fedora 40 (ARM)
	Kernel: Depends on container host
	Compiler: gcc 14.1.1

Fedora 40 (ARM Clang)
	Kernel: Depends on container host
	Compiler: clang 18.1.6

RHEL9 (ARM)
	Kernel: Depends on container host
	Compiler: gcc 11.4.1

Ubuntu 20.04 (ARM)
	Kernel: Container Host Kernel
	Compiler: gcc 9.4.0

Ubuntu 22.04 (ARM)
	Kernel: Container Host Kernel
	Compiler: gcc 11.4.0

Ubuntu 20.04 ARM SVE
	Kernel: 5.4.0-167-generic
	Compiler: gcc (Ubuntu 10.5.0-1ubuntu1~20.04) 10.5.0

To view detailed results, visit:
https://lab.dpdk.org/results/dashboard/patchsets/30747/

UNH-IOL DPDK Community Lab

To manage your email subscriptions, visit: 
https://lab.dpdk.org/results/dashboard/preferences/subscriptions/