From mboxrd@z Thu Jan  1 00:00:00 1970
Return-Path: <test-report-bounces@dpdk.org>
Received: from mails.dpdk.org (mails.dpdk.org [217.70.189.124])
	by inbox.dpdk.org (Postfix) with ESMTP id 50CB745774
	for <public@inbox.dpdk.org>; Fri,  9 Aug 2024 08:04:14 +0200 (CEST)
Received: from mails.dpdk.org (localhost [127.0.0.1])
	by mails.dpdk.org (Postfix) with ESMTP id 4CC33402A5;
	Fri,  9 Aug 2024 08:04:14 +0200 (CEST)
Received: from mail-oi1-f226.google.com (mail-oi1-f226.google.com
 [209.85.167.226])
 by mails.dpdk.org (Postfix) with ESMTP id 340AD40279
 for <test-report@dpdk.org>; Fri,  9 Aug 2024 08:03:57 +0200 (CEST)
Received: by mail-oi1-f226.google.com with SMTP id
 5614622812f47-3db18102406so1170424b6e.1
 for <test-report@dpdk.org>; Thu, 08 Aug 2024 23:03:57 -0700 (PDT)
DKIM-Signature: v=1; a=rsa-sha256; c=relaxed/relaxed;
 d=iol.unh.edu; s=unh-iol; t=1723183436; x=1723788236; darn=dpdk.org;
 h=references:in-reply-to:cc:to:from:subject:message-id:date:from:to
 :cc:subject:date:message-id:reply-to;
 bh=/pkHJlTyg0hMJezGg5gV3nEf9RJH4yCE1P4wD3iJNC4=;
 b=cAehn/ZJFFQ0fI4hNDalg0SMb+vMfYcFT188IdGeWFyO28Ix8dIRFDYjj1FRB5oN+3
 YQuxktKM28kW6T+zmnx8TA3nWT/TZeuvfzSVHf8WRqNpOllYnJX7KMgk9ATCUlRGnYi8
 cpiYRVttE9EH0j9zRYRf42rok+YY6XHrHSjcg=
X-Google-DKIM-Signature: v=1; a=rsa-sha256; c=relaxed/relaxed;
 d=1e100.net; s=20230601; t=1723183436; x=1723788236;
 h=references:in-reply-to:cc:to:from:subject:message-id:date
 :x-gm-message-state:from:to:cc:subject:date:message-id:reply-to;
 bh=/pkHJlTyg0hMJezGg5gV3nEf9RJH4yCE1P4wD3iJNC4=;
 b=XKBTYr3VCDz0PEwOTjkzhvKGV2LFijk5bVNGisZWO1+ZjsuFiBRb+g+mwz9/aIOzna
 gtuWxnQWOyk7PL/URHmqmEme86nkRaFN7kHjYuALQXXXBDRpLsp1A59JKw2Jgx8CwgdY
 E75Wy+sLP3ST9FRstUhkZLy+zExpq5Fz5EDaEZRhOwhQEsT51vjd4oNzqYVgA2f3355u
 +D95MQE4hcA8YelQKNiN6tLeo+ZWp6xaTHta4ivL0Tm9qBQ3eXJ3HRvIcIxkf9Jgda74
 eBhkqpR41dJ58xhhK5DxTqGTADuSsREGkN2uDdDw4YVnh7P6T2jL/dSloTw/FEgclbAT
 +jdg==
X-Gm-Message-State: AOJu0YxmUD2jIR3A5VNjR5H+nZXuryvaiWmCUpeDKMCO8V1jIjQk8NKL
 SPctGnK0FHDh1r7Q0ztW6kyoy5zt0fFdpKM4FEYq8h88jt+RoQzjRjFXvjew8bZ419LADaFsUed
 zzhiHaXSiywu/wRvzZ51zvnbjLhmgdNe8pT/Lr73A0Rwqym/Rj3frEIjt
X-Google-Smtp-Source: AGHT+IGVD+6xHmKlOk+9ZvUm3SXx0zZ4n+KCH/pdNuMUtqs4HnM9k1vN5XOtna8+6gpGYPG+0L73fyC6XFHn
X-Received: by 2002:a05:6830:6c0f:b0:708:8c07:c646 with SMTP id
 46e09a7af769-70b748745c5mr784592a34.33.1723183436376; 
 Thu, 08 Aug 2024 23:03:56 -0700 (PDT)
Received: from postal.iol.unh.edu (postal.iol.unh.edu.
 [2606:4100:3880:1234::84]) by smtp-relay.gmail.com with ESMTPS id
 8926c6da1cb9f-4c8d6a61438sm572659173.80.2024.08.08.23.03.56
 (version=TLS1_2 cipher=ECDHE-ECDSA-AES128-GCM-SHA256 bits=128/128);
 Thu, 08 Aug 2024 23:03:56 -0700 (PDT)
X-Relaying-Domain: iol.unh.edu
Date: Thu, 08 Aug 2024 23:03:56 -0700 (PDT)
Message-ID: <66b5b14c.050a0220.2ceb53.7743SMTPIN_ADDED_MISSING@mx.google.com>
Received: from [172.21.0.7] (unknown [172.18.0.240])
 by postal.iol.unh.edu (Postfix) with ESMTP id DDB3B605C351;
 Fri,  9 Aug 2024 02:03:55 -0400 (EDT)
Subject: |PENDING| pw143018-143022 [PATCH] [v16,5/5] dts: add API doc generat
From: dpdklab@iol.unh.edu
To: Test Report <test-report@dpdk.org>
Cc: dpdk-test-reports@iol.unh.edu
In-Reply-To: <20240808085452.426702-6-juraj.linkes@pantheon.tech>
References: <20240808085452.426702-6-juraj.linkes@pantheon.tech>
Content-Type: text/plain
X-BeenThere: test-report@dpdk.org
X-Mailman-Version: 2.1.29
Precedence: list
List-Id: automatic DPDK test reports <test-report.dpdk.org>
List-Unsubscribe: <https://mails.dpdk.org/options/test-report>,
 <mailto:test-report-request@dpdk.org?subject=unsubscribe>
List-Archive: <http://mails.dpdk.org/archives/test-report/>
List-Post: <mailto:test-report@dpdk.org>
List-Help: <mailto:test-report-request@dpdk.org?subject=help>
List-Subscribe: <https://mails.dpdk.org/listinfo/test-report>,
 <mailto:test-report-request@dpdk.org?subject=subscribe>
Errors-To: test-report-bounces@dpdk.org

Test-Label: iol-unit-amd64-testing
Test-Status: PENDING
http://dpdk.org/patch/143022

_Testing pending_

Submitter: Juraj Linkes <juraj.linkes@pantheon.tech>
Date: Thursday, August 08 2024 08:54:52 
DPDK git baseline: Repo:dpdk
  Branch: master
  CommitID:cb9187bc5c2b4bab0ad80194ac3b60491de14e8c

143018-143022 --> testing pending

Upstream job id: Generic-Unit-Test-DPDK#250139

Test environment and result as below:

+---------------------+----------------+
|     Environment     | dpdk_unit_test |
+=====================+================+
| Windows Server 2019 | PASS           |
+---------------------+----------------+
| Windows Server 2022 | PASS           |
+---------------------+----------------+
| CentOS Stream 9     | PASS           |
+---------------------+----------------+
| Debian Bullseye     | PASS           |
+---------------------+----------------+
| Debian 12           | PASS           |
+---------------------+----------------+
| Fedora 37           | PASS           |
+---------------------+----------------+
| Fedora 38           | PASS           |
+---------------------+----------------+
| Fedora 38 (Clang)   | PASS           |
+---------------------+----------------+
| Fedora 39           | PASS           |
+---------------------+----------------+
| Fedora 39 (Clang)   | PASS           |
+---------------------+----------------+
| Fedora 40           | PASS           |
+---------------------+----------------+
| Fedora 40 (Clang)   | PEND           |
+---------------------+----------------+
| openSUSE Leap 15    | PASS           |
+---------------------+----------------+
| RHEL8               | PEND           |
+---------------------+----------------+
| RHEL9               | PEND           |
+---------------------+----------------+
| Ubuntu 22.04        | PEND           |
+---------------------+----------------+
| Ubuntu 20.04        | PEND           |
+---------------------+----------------+
| Ubuntu 24.04        | PEND           |
+---------------------+----------------+


Windows Server 2019
	Kernel: 10.0.17763
	Compiler: clang 14.0 and gcc 8.1.0 (MinGW)

Windows Server 2022
	Kernel: 10.0.20348.2031
	Compiler: clang 15.0.7, gcc 8.1.0 (MinGW), and MSVC VS 17.9

CentOS Stream 9
	Kernel: 5.4.0-167-generic
	Compiler: gcc 11.4.1 20230605

Debian Bullseye
	Kernel: 5.4.0-167-generic
	Compiler: gcc 10.2.1-6

Debian 12
	Kernel: Container Host Kernel
	Compiler: gcc 12.2.0

Fedora 37
	Kernel: Depends on container host system
	Compiler: gcc 12.3.1

Fedora 38
	Kernel: Depends on container host
	Compiler: gcc 13.2.1

Fedora 38 (Clang)
	Kernel: Depends on container host
	Compiler: clang 16.0.6

Fedora 39
	Kernel: Depends on container host
	Compiler: gcc 13.2.1

Fedora 39 (Clang)
	Kernel: Depends on container host
	Compiler: clang 17.0.6

Fedora 40
	Kernel: Depends on container host
	Compiler: gcc 14.1.1

Fedora 40 (Clang)
	Kernel: Depends on container host
	Compiler: clang 18.1.6

openSUSE Leap 15
	Kernel: 5.4.0-167-generic
	Compiler: gcc 7.5.0

RHEL8
	Kernel: 5.4.0-167-generic
	Compiler: gcc 8.5.0 20210514 (Red Hat 8.5.0-20)

RHEL9
	Kernel: Depends on container host
	Compiler: gcc 11.4.1

Ubuntu 22.04
	Kernel: 5.4.0-167-generic
	Compiler: gcc 11.4.0

Ubuntu 20.04
	Kernel: 5.4.0-167-generic
	Compiler: gcc 9.4.0-1ubuntu1~20.04.1

Ubuntu 24.04
	Kernel: 5.4.0-167-generic
	Compiler: gcc 13.2.0

To view detailed results, visit:
https://lab.dpdk.org/results/dashboard/patchsets/30747/

UNH-IOL DPDK Community Lab

To manage your email subscriptions, visit: 
https://lab.dpdk.org/results/dashboard/preferences/subscriptions/