From mboxrd@z Thu Jan  1 00:00:00 1970
Return-Path: <test-report-bounces@dpdk.org>
Received: from mails.dpdk.org (mails.dpdk.org [217.70.189.124])
	by inbox.dpdk.org (Postfix) with ESMTP id 4280145777
	for <public@inbox.dpdk.org>; Fri,  9 Aug 2024 10:57:40 +0200 (CEST)
Received: from mails.dpdk.org (localhost [127.0.0.1])
	by mails.dpdk.org (Postfix) with ESMTP id 20C12402A5;
	Fri,  9 Aug 2024 10:57:40 +0200 (CEST)
Received: from mail-yw1-f227.google.com (mail-yw1-f227.google.com
 [209.85.128.227])
 by mails.dpdk.org (Postfix) with ESMTP id 4F57A40274
 for <test-report@dpdk.org>; Fri,  9 Aug 2024 10:57:38 +0200 (CEST)
Received: by mail-yw1-f227.google.com with SMTP id
 00721157ae682-6694b50a937so19956117b3.0
 for <test-report@dpdk.org>; Fri, 09 Aug 2024 01:57:38 -0700 (PDT)
DKIM-Signature: v=1; a=rsa-sha256; c=relaxed/relaxed;
 d=iol.unh.edu; s=unh-iol; t=1723193857; x=1723798657; darn=dpdk.org;
 h=references:in-reply-to:cc:to:from:subject:message-id:date:from:to
 :cc:subject:date:message-id:reply-to;
 bh=fHz7N6KPqUq0Nu/Q0xKqsRzqwjgjjkAXtRX2C0fpIl0=;
 b=ij4qzana+NhywZEnySifYqeyWEMY30AfdoKd8r/K0VzokreqXEium1mRL9+99qzMcK
 OGJIJt+YYL4docz9xy98KPEjKP+dmSnQLPPQUv7mDriqTMQ3anOZavifkzNEw606spTd
 fqunkjPteyerrH6gfLkrHvNO/PQ2pDUJhlTUo=
X-Google-DKIM-Signature: v=1; a=rsa-sha256; c=relaxed/relaxed;
 d=1e100.net; s=20230601; t=1723193857; x=1723798657;
 h=references:in-reply-to:cc:to:from:subject:message-id:date
 :x-gm-message-state:from:to:cc:subject:date:message-id:reply-to;
 bh=fHz7N6KPqUq0Nu/Q0xKqsRzqwjgjjkAXtRX2C0fpIl0=;
 b=clPiJ6XuI9rwt5gZihqD4v28M0UiPre8Qh2ovqnnEA31irIoTQqKplTr579REM6ZWz
 0HpXJqwBX6pnvBtsXnPE1UtuAbcQIZ6g41DVp8JgtgA/ZitYnZY4XPV97Jwdr+/Kzbp0
 XdL/YIurcLDgbmhBFdtWDTDIgwi8d8VlxSHb8jatXnEyGHr+xdHFSp3n5TNXQPMUIgSF
 qZ92YonKcO8M8ThogP6uplYgINSxQ+bs7NJWIOqxdkaJZvEv6SASZcQGImO5/MgAXutt
 GojScf3Tcp9/pqXyj6VpNRR81PTmfKUyubXiCBM4uGkCyZ0HdM3Rcm8MNWX9vs4OB+t/
 iGvw==
X-Gm-Message-State: AOJu0YyII/RY29xXYMxU7m7PHhMY9DbzhdzwoDhdqvLlIjOgesabE5tS
 lLy8OOrA4gsi45UiGqz+nc61+E5HU0H21i3/LF+QsG5BtN5+r2oMjXBg1ISpaUZclKhN96nCNUG
 QXaw1IjM/NYtVrypa13EBfvGXy1ifb+md0KDNk16kBt2i/1IpexvmOjje
X-Google-Smtp-Source: AGHT+IFbQx4Q9HZXd32aMM/OUoNeHzuNrzlIwByXEjQPVoIOkSTkuftAXhqSd0ZMTtkCBdRpfTW/dxf3cvJr
X-Received: by 2002:a05:690c:3008:b0:64b:f86:b7a8 with SMTP id
 00721157ae682-69ec53af88cmr8419697b3.10.1723193857712; 
 Fri, 09 Aug 2024 01:57:37 -0700 (PDT)
Received: from postal.iol.unh.edu (postal.iol.unh.edu.
 [2606:4100:3880:1234::84]) by smtp-relay.gmail.com with ESMTPS id
 00721157ae682-68a12080f45sm11609157b3.22.2024.08.09.01.57.37
 (version=TLS1_2 cipher=ECDHE-ECDSA-AES128-GCM-SHA256 bits=128/128);
 Fri, 09 Aug 2024 01:57:37 -0700 (PDT)
X-Relaying-Domain: iol.unh.edu
Date: Fri, 09 Aug 2024 01:57:37 -0700 (PDT)
Message-ID: <66b5da01.810a0220.c0eed.9ec7SMTPIN_ADDED_MISSING@mx.google.com>
Received: from [172.21.0.7] (unknown [172.18.0.240])
 by postal.iol.unh.edu (Postfix) with ESMTP id 5649D6052500;
 Fri,  9 Aug 2024 04:57:37 -0400 (EDT)
Subject: |SUCCESS| pw143028-143032 [PATCH] [5/5] eal: simplify eal alarm canc
From: dpdklab@iol.unh.edu
To: Test Report <test-report@dpdk.org>
Cc: dpdk-test-reports@iol.unh.edu
In-Reply-To: <20240808194756.167664-6-stephen@networkplumber.org>
References: <20240808194756.167664-6-stephen@networkplumber.org>
Content-Type: text/plain
X-BeenThere: test-report@dpdk.org
X-Mailman-Version: 2.1.29
Precedence: list
List-Id: automatic DPDK test reports <test-report.dpdk.org>
List-Unsubscribe: <https://mails.dpdk.org/options/test-report>,
 <mailto:test-report-request@dpdk.org?subject=unsubscribe>
List-Archive: <http://mails.dpdk.org/archives/test-report/>
List-Post: <mailto:test-report@dpdk.org>
List-Help: <mailto:test-report-request@dpdk.org?subject=help>
List-Subscribe: <https://mails.dpdk.org/listinfo/test-report>,
 <mailto:test-report-request@dpdk.org?subject=subscribe>
Errors-To: test-report-bounces@dpdk.org

Test-Label: iol-compile-amd64-testing
Test-Status: SUCCESS
http://dpdk.org/patch/143032

_Testing PASS_

Submitter: Stephen Hemminger <stephen@networkplumber.org>
Date: Thursday, August 08 2024 19:47:01 
DPDK git baseline: Repo:dpdk
  Branch: master
  CommitID:cb9187bc5c2b4bab0ad80194ac3b60491de14e8c

143028-143032 --> testing pass

Upstream job id: Windows-Compile-DPDK-Meson#24195

Test environment and result as below:

+---------------------+----------------------+--------------------+-------------------+
|     Environment     | dpdk_mingw64_compile | dpdk_meson_compile | dpdk_msvc_compile |
+=====================+======================+====================+===================+
| Windows Server 2019 | PASS                 | PASS               | SKIPPED           |
+---------------------+----------------------+--------------------+-------------------+
| Windows Server 2022 | PASS                 | PASS               | PASS              |
+---------------------+----------------------+--------------------+-------------------+
| FreeBSD 13.3        | SKIPPED              | PASS               | SKIPPED           |
+---------------------+----------------------+--------------------+-------------------+
| FreeBSD 14.1        | SKIPPED              | PASS               | SKIPPED           |
+---------------------+----------------------+--------------------+-------------------+


Windows Server 2019
	Kernel: 10.0.17763
	Compiler: clang 14.0 and gcc 8.1.0 (MinGW)

Windows Server 2022
	Kernel: 10.0.20348.2031
	Compiler: clang 15.0.7, gcc 8.1.0 (MinGW), and MSVC VS 17.9

FreeBSD 13.3
	Kernel: 13.3-RELEASE-p1
	Compiler: clang 17.0.6

FreeBSD 14.1
	Kernel: 14.1
	Compiler: clang 18.1.5

To view detailed results, visit:
https://lab.dpdk.org/results/dashboard/patchsets/30750/

UNH-IOL DPDK Community Lab

To manage your email subscriptions, visit: 
https://lab.dpdk.org/results/dashboard/preferences/subscriptions/