From mboxrd@z Thu Jan  1 00:00:00 1970
Return-Path: <test-report-bounces@dpdk.org>
Received: from mails.dpdk.org (mails.dpdk.org [217.70.189.124])
	by inbox.dpdk.org (Postfix) with ESMTP id 3C37E45777
	for <public@inbox.dpdk.org>; Fri,  9 Aug 2024 11:06:42 +0200 (CEST)
Received: from mails.dpdk.org (localhost [127.0.0.1])
	by mails.dpdk.org (Postfix) with ESMTP id 35320402A5;
	Fri,  9 Aug 2024 11:06:42 +0200 (CEST)
Received: from mail-ua1-f98.google.com (mail-ua1-f98.google.com
 [209.85.222.98]) by mails.dpdk.org (Postfix) with ESMTP id 70F6F40274
 for <test-report@dpdk.org>; Fri,  9 Aug 2024 11:06:40 +0200 (CEST)
Received: by mail-ua1-f98.google.com with SMTP id
 a1e0cc1a2514c-821b8d887b8so626719241.2
 for <test-report@dpdk.org>; Fri, 09 Aug 2024 02:06:40 -0700 (PDT)
DKIM-Signature: v=1; a=rsa-sha256; c=relaxed/relaxed;
 d=iol.unh.edu; s=unh-iol; t=1723194399; x=1723799199; darn=dpdk.org;
 h=references:in-reply-to:cc:to:from:subject:message-id:date:from:to
 :cc:subject:date:message-id:reply-to;
 bh=OqHdMsBHXWOj5Vh0QeEc4hpQOd4ya1gu3n8/D9HIUig=;
 b=WRYLttJMGF2KZYroJ9G4+6Rp72GIdvNl1rnKtgBu8E6sd4uiTcb3OIkF9sYFPTdmHc
 h30t00EVeEZjkMlp2UCHlytJWjpW7SX/lZ/bY1b938d33TyTgw8MqKmnT2D6aMdknvMJ
 R+fosBa9xIzPY10bUfbNlqKPmcw32KIMxSkj8=
X-Google-DKIM-Signature: v=1; a=rsa-sha256; c=relaxed/relaxed;
 d=1e100.net; s=20230601; t=1723194399; x=1723799199;
 h=references:in-reply-to:cc:to:from:subject:message-id:date
 :x-gm-message-state:from:to:cc:subject:date:message-id:reply-to;
 bh=OqHdMsBHXWOj5Vh0QeEc4hpQOd4ya1gu3n8/D9HIUig=;
 b=wtAnGqBOlvnKhbjEkK4k0A1Q5949RaEnV8BRChrTEJWdHkLh4ed+gbNIEibaED2Gxd
 89N4+4/khj1UGyobVrf+E5aFdfb6/EhGSvVQKPwPszfvaNZwb+2HmscAMVssln2Ns04r
 cBuVUoGkP/LHO0JGKNVanP5hpB9HWALvMFiArlKCVQu+c63yml+EwhSm5BU3bVUC0L2l
 t20q6BxEfM56Z6X41o7lG1rtMcEytrtQWkbsbmskwbYIM44fyvnuFO0lZUa7RjE2Irvt
 S+gDIK+3w9/c2hH3YAdqjLE0Gqy1khCQZMYGCNgLynp90mL/KBJyRqTxPXQjnsfDnL+e
 2Bzw==
X-Gm-Message-State: AOJu0YyfK8cs0KZMcbr3pHfhydIfEsGc/l314oqLbppNKc22+JXjNPSO
 SQF69k/1ku0tLCg4E3ZiC3fExEzUtxGwHbi9K4bzoD1zqUOTAgf9fvEPiw2aC+YQ2H8gDOIiWWb
 pNvuZ34fL8gM+8t9LlYd5Q8t4s3yQv3eGJBL+x9GD
X-Google-Smtp-Source: AGHT+IE8Ob3DsrQVDdl2IbHeO6SepQ3hA5Gky52l0opX5bI9RBtPxqHTeo/+8p3fy6VMwxLljDCCTBAPm2U3
X-Received: by 2002:a05:6102:390c:b0:493:b9a0:8ee8 with SMTP id
 ada2fe7eead31-495d85d9e7bmr708521137.22.1723194399618; 
 Fri, 09 Aug 2024 02:06:39 -0700 (PDT)
Received: from postal.iol.unh.edu (postal.iol.unh.edu. [132.177.123.84])
 by smtp-relay.gmail.com with ESMTPS id
 a1e0cc1a2514c-84117815edfsm188768241.18.2024.08.09.02.06.39
 (version=TLS1_2 cipher=ECDHE-ECDSA-AES128-GCM-SHA256 bits=128/128);
 Fri, 09 Aug 2024 02:06:39 -0700 (PDT)
X-Relaying-Domain: iol.unh.edu
Date: Fri, 09 Aug 2024 02:06:39 -0700 (PDT)
Message-ID: <66b5dc1f.050a0220.11d9b.a9d1SMTPIN_ADDED_MISSING@mx.google.com>
Received: from [172.21.0.7] (unknown [172.18.0.240])
 by postal.iol.unh.edu (Postfix) with ESMTP id 485746052500;
 Fri,  9 Aug 2024 05:06:39 -0400 (EDT)
Subject: |PENDING| pw143028-143032 [PATCH] [5/5] eal: simplify eal alarm canc
From: dpdklab@iol.unh.edu
To: Test Report <test-report@dpdk.org>
Cc: dpdk-test-reports@iol.unh.edu
In-Reply-To: <20240808194756.167664-6-stephen@networkplumber.org>
References: <20240808194756.167664-6-stephen@networkplumber.org>
Content-Type: text/plain
X-BeenThere: test-report@dpdk.org
X-Mailman-Version: 2.1.29
Precedence: list
List-Id: automatic DPDK test reports <test-report.dpdk.org>
List-Unsubscribe: <https://mails.dpdk.org/options/test-report>,
 <mailto:test-report-request@dpdk.org?subject=unsubscribe>
List-Archive: <http://mails.dpdk.org/archives/test-report/>
List-Post: <mailto:test-report@dpdk.org>
List-Help: <mailto:test-report-request@dpdk.org?subject=help>
List-Subscribe: <https://mails.dpdk.org/listinfo/test-report>,
 <mailto:test-report-request@dpdk.org?subject=subscribe>
Errors-To: test-report-bounces@dpdk.org

Test-Label: iol-unit-arm64-testing
Test-Status: PENDING
http://dpdk.org/patch/143032

_Testing pending_

Submitter: Stephen Hemminger <stephen@networkplumber.org>
Date: Thursday, August 08 2024 19:47:01 
DPDK git baseline: Repo:dpdk
  Branch: master
  CommitID:cb9187bc5c2b4bab0ad80194ac3b60491de14e8c

143028-143032 --> testing pending

Upstream job id: Generic-Unit-Test-DPDK#250219

Test environment and result as below:

+--------------------------+----------------+
|       Environment        | dpdk_unit_test |
+==========================+================+
| Debian 11 (Buster) (ARM) | PASS           |
+--------------------------+----------------+
| CentOS Stream 9 (ARM)    | PASS           |
+--------------------------+----------------+
| Fedora 37 (ARM)          | PASS           |
+--------------------------+----------------+
| Debian 12 (arm)          | PASS           |
+--------------------------+----------------+
| Fedora 38 (ARM)          | PASS           |
+--------------------------+----------------+
| Fedora 38 (ARM Clang)    | PASS           |
+--------------------------+----------------+
| Fedora 39 (ARM)          | PASS           |
+--------------------------+----------------+
| Fedora 39 (ARM Clang)    | PEND           |
+--------------------------+----------------+
| Fedora 40 (ARM)          | PASS           |
+--------------------------+----------------+
| Fedora 40 (ARM Clang)    | PEND           |
+--------------------------+----------------+
| RHEL9 (ARM)              | PASS           |
+--------------------------+----------------+
| Ubuntu 20.04 (ARM)       | PEND           |
+--------------------------+----------------+
| Ubuntu 22.04 (ARM)       | PEND           |
+--------------------------+----------------+
| Ubuntu 24.04 (ARM)       | PEND           |
+--------------------------+----------------+


Debian 11 (Buster) (ARM)
	Kernel: Container Host Kernel
	Compiler: gcc 10.2.1

CentOS Stream 9 (ARM)
	Kernel: Container Host Kernel
	Compiler: gcc 11.4.1

Fedora 37 (ARM)
	Kernel: Depends on container host
	Compiler: gcc 12.3.1

Debian 12 (arm)
	Kernel: Container Host Kernel
	Compiler: gcc 12.2.0

Fedora 38 (ARM)
	Kernel: Depends on container host
	Compiler: gcc 13.2.1

Fedora 38 (ARM Clang)
	Kernel: Depends on container host
	Compiler: clang 16.0.6

Fedora 39 (ARM)
	Kernel: Depends on container host
	Compiler: gcc 13.2.1

Fedora 39 (ARM Clang)
	Kernel: Depends on container host
	Compiler: clang 17.0.6

Fedora 40 (ARM)
	Kernel: Depends on container host
	Compiler: gcc 14.1.1

Fedora 40 (ARM Clang)
	Kernel: Depends on container host
	Compiler: clang 18.1.6

RHEL9 (ARM)
	Kernel: Depends on container host
	Compiler: gcc 11.4.1

Ubuntu 20.04 (ARM)
	Kernel: Container Host Kernel
	Compiler: gcc 9.4.0

Ubuntu 22.04 (ARM)
	Kernel: Container Host Kernel
	Compiler: gcc 11.4.0

Ubuntu 24.04 (ARM)
	Kernel: 5.4.0-167-generic
	Compiler: gcc 13.2.0

To view detailed results, visit:
https://lab.dpdk.org/results/dashboard/patchsets/30750/

UNH-IOL DPDK Community Lab

To manage your email subscriptions, visit: 
https://lab.dpdk.org/results/dashboard/preferences/subscriptions/