From mboxrd@z Thu Jan  1 00:00:00 1970
Return-Path: <test-report-bounces@dpdk.org>
Received: from mails.dpdk.org (mails.dpdk.org [217.70.189.124])
	by inbox.dpdk.org (Postfix) with ESMTP id 8F0BE45777
	for <public@inbox.dpdk.org>; Fri,  9 Aug 2024 11:08:26 +0200 (CEST)
Received: from mails.dpdk.org (localhost [127.0.0.1])
	by mails.dpdk.org (Postfix) with ESMTP id 886ED402A5;
	Fri,  9 Aug 2024 11:08:26 +0200 (CEST)
Received: from mail-oi1-f227.google.com (mail-oi1-f227.google.com
 [209.85.167.227])
 by mails.dpdk.org (Postfix) with ESMTP id 51FFA40274
 for <test-report@dpdk.org>; Fri,  9 Aug 2024 11:08:25 +0200 (CEST)
Received: by mail-oi1-f227.google.com with SMTP id
 5614622812f47-3db14339fb0so1099645b6e.2
 for <test-report@dpdk.org>; Fri, 09 Aug 2024 02:08:25 -0700 (PDT)
DKIM-Signature: v=1; a=rsa-sha256; c=relaxed/relaxed;
 d=iol.unh.edu; s=unh-iol; t=1723194504; x=1723799304; darn=dpdk.org;
 h=references:in-reply-to:cc:to:from:subject:message-id:date:from:to
 :cc:subject:date:message-id:reply-to;
 bh=YfenX1RwW/iQfBnLtJ+0wDtDPCJzFEQ7zoGxt5nD8Do=;
 b=grqSnlfNMoD5Re+p3VPYURC2BCq6hjQ+tqwpJ7Y8Qe5zEPE1b1BoR+xYYnOMZSs1lj
 g8d+1Jk2LoGDN/oI7hieZxc8KOlmDEVvWwWP7ZwRjd75J1w9KfGuHmoIphgSZHyj7UDz
 epVBkUoLrFJIOX1kYN4vZqssJB+sE/C7HWMXY=
X-Google-DKIM-Signature: v=1; a=rsa-sha256; c=relaxed/relaxed;
 d=1e100.net; s=20230601; t=1723194504; x=1723799304;
 h=references:in-reply-to:cc:to:from:subject:message-id:date
 :x-gm-message-state:from:to:cc:subject:date:message-id:reply-to;
 bh=YfenX1RwW/iQfBnLtJ+0wDtDPCJzFEQ7zoGxt5nD8Do=;
 b=XGMfVpkooET5TkjsakoUqtQyuuqSuj+TRPiZG6PBbuBf2JiveCq1tOfPootxHslLW0
 O5Fk8V/nw9DmzrJmr3UyosUBUW5H74ODFdsRA2sRX43i6A0mWRP+SAxkrNC7DtmGyBed
 8iWesNLkLyccUKcLt4Bt56mCjF04csElbk2pOz7xedaCw87vnIt5Xg8AVQ4eT8rgmC4B
 49kHcGgpr92IYRzC9+R/ZAOElkcTBf1wTv2DdYSS+MUoiVawXnnnAR9z5TzpCfw9qBLx
 gdCWcdIyKSAbcFclbQ32l9otX/SIk5KcIxCdeZ0wtXWUrA+5pDybUuZX6zkZGRm+EsE/
 eL/Q==
X-Gm-Message-State: AOJu0Yzpus2brfoxsbixWnwelg7pqfBLM/NgrDHiOPCcpcLHqG490tCX
 lVajM20hO8WvDwAMNzNARS4AHnekpJujppcTUfHPPH8nVCxS+PBR8VYloVBsl68m/vRdZHYpPy8
 rJivbcoEA13ZhvtRod61FslVGrQyEQNahq31EjDl+
X-Google-Smtp-Source: AGHT+IFtSnrAowXYqJPGa6tnESOV7NkfB1XQzRRIujAY7X+BFChI4Fn3eHdNRWLvj+TjBwPXbawVR8qGZdFR
X-Received: by 2002:a05:6870:f6a5:b0:25e:fb:af8c with SMTP id
 586e51a60fabf-26c62c6d278mr1032686fac.18.1723194504442; 
 Fri, 09 Aug 2024 02:08:24 -0700 (PDT)
Received: from postal.iol.unh.edu (postal.iol.unh.edu. [132.177.123.84])
 by smtp-relay.gmail.com with ESMTPS id
 586e51a60fabf-2689a2a7263sm1228921fac.8.2024.08.09.02.08.24
 (version=TLS1_2 cipher=ECDHE-ECDSA-AES128-GCM-SHA256 bits=128/128);
 Fri, 09 Aug 2024 02:08:24 -0700 (PDT)
X-Relaying-Domain: iol.unh.edu
Date: Fri, 09 Aug 2024 02:08:24 -0700 (PDT)
Message-ID: <66b5dc88.050a0220.1797b0.1183SMTPIN_ADDED_MISSING@mx.google.com>
Received: from [172.21.0.6] (unknown [172.18.0.240])
 by postal.iol.unh.edu (Postfix) with ESMTP id DA4686052500;
 Fri,  9 Aug 2024 05:08:23 -0400 (EDT)
Subject: |PENDING| pw143028-143032 [PATCH] [5/5] eal: simplify eal alarm canc
From: dpdklab@iol.unh.edu
To: Test Report <test-report@dpdk.org>
Cc: dpdk-test-reports@iol.unh.edu
In-Reply-To: <20240808194756.167664-6-stephen@networkplumber.org>
References: <20240808194756.167664-6-stephen@networkplumber.org>
Content-Type: text/plain
X-BeenThere: test-report@dpdk.org
X-Mailman-Version: 2.1.29
Precedence: list
List-Id: automatic DPDK test reports <test-report.dpdk.org>
List-Unsubscribe: <https://mails.dpdk.org/options/test-report>,
 <mailto:test-report-request@dpdk.org?subject=unsubscribe>
List-Archive: <http://mails.dpdk.org/archives/test-report/>
List-Post: <mailto:test-report@dpdk.org>
List-Help: <mailto:test-report-request@dpdk.org?subject=help>
List-Subscribe: <https://mails.dpdk.org/listinfo/test-report>,
 <mailto:test-report-request@dpdk.org?subject=subscribe>
Errors-To: test-report-bounces@dpdk.org

Test-Label: iol-unit-arm64-testing
Test-Status: PENDING
http://dpdk.org/patch/143032

_Testing pending_

Submitter: Stephen Hemminger <stephen@networkplumber.org>
Date: Thursday, August 08 2024 19:47:01 
DPDK git baseline: Repo:dpdk
  Branch: master
  CommitID:cb9187bc5c2b4bab0ad80194ac3b60491de14e8c

143028-143032 --> testing pending

Upstream job id: Generic-Unit-Test-DPDK#250233

Test environment and result as below:

+--------------------------+----------------+
|       Environment        | dpdk_unit_test |
+==========================+================+
| Debian 11 (Buster) (ARM) | PASS           |
+--------------------------+----------------+
| CentOS Stream 9 (ARM)    | PASS           |
+--------------------------+----------------+
| Fedora 37 (ARM)          | PASS           |
+--------------------------+----------------+
| Debian 12 (arm)          | PASS           |
+--------------------------+----------------+
| Fedora 38 (ARM)          | PASS           |
+--------------------------+----------------+
| Fedora 38 (ARM Clang)    | PASS           |
+--------------------------+----------------+
| Fedora 39 (ARM)          | PASS           |
+--------------------------+----------------+
| Fedora 39 (ARM Clang)    | PASS           |
+--------------------------+----------------+
| Fedora 40 (ARM)          | PASS           |
+--------------------------+----------------+
| Fedora 40 (ARM Clang)    | PEND           |
+--------------------------+----------------+
| RHEL9 (ARM)              | PASS           |
+--------------------------+----------------+
| Ubuntu 20.04 (ARM)       | PASS           |
+--------------------------+----------------+
| Ubuntu 22.04 (ARM)       | PEND           |
+--------------------------+----------------+
| Ubuntu 24.04 (ARM)       | PEND           |
+--------------------------+----------------+


Debian 11 (Buster) (ARM)
	Kernel: Container Host Kernel
	Compiler: gcc 10.2.1

CentOS Stream 9 (ARM)
	Kernel: Container Host Kernel
	Compiler: gcc 11.4.1

Fedora 37 (ARM)
	Kernel: Depends on container host
	Compiler: gcc 12.3.1

Debian 12 (arm)
	Kernel: Container Host Kernel
	Compiler: gcc 12.2.0

Fedora 38 (ARM)
	Kernel: Depends on container host
	Compiler: gcc 13.2.1

Fedora 38 (ARM Clang)
	Kernel: Depends on container host
	Compiler: clang 16.0.6

Fedora 39 (ARM)
	Kernel: Depends on container host
	Compiler: gcc 13.2.1

Fedora 39 (ARM Clang)
	Kernel: Depends on container host
	Compiler: clang 17.0.6

Fedora 40 (ARM)
	Kernel: Depends on container host
	Compiler: gcc 14.1.1

Fedora 40 (ARM Clang)
	Kernel: Depends on container host
	Compiler: clang 18.1.6

RHEL9 (ARM)
	Kernel: Depends on container host
	Compiler: gcc 11.4.1

Ubuntu 20.04 (ARM)
	Kernel: Container Host Kernel
	Compiler: gcc 9.4.0

Ubuntu 22.04 (ARM)
	Kernel: Container Host Kernel
	Compiler: gcc 11.4.0

Ubuntu 24.04 (ARM)
	Kernel: 5.4.0-167-generic
	Compiler: gcc 13.2.0

To view detailed results, visit:
https://lab.dpdk.org/results/dashboard/patchsets/30750/

UNH-IOL DPDK Community Lab

To manage your email subscriptions, visit: 
https://lab.dpdk.org/results/dashboard/preferences/subscriptions/