From mboxrd@z Thu Jan  1 00:00:00 1970
Return-Path: <test-report-bounces@dpdk.org>
Received: from mails.dpdk.org (mails.dpdk.org [217.70.189.124])
	by inbox.dpdk.org (Postfix) with ESMTP id CFD9745777
	for <public@inbox.dpdk.org>; Fri,  9 Aug 2024 11:09:15 +0200 (CEST)
Received: from mails.dpdk.org (localhost [127.0.0.1])
	by mails.dpdk.org (Postfix) with ESMTP id CD3B2402A5;
	Fri,  9 Aug 2024 11:09:15 +0200 (CEST)
Received: from mail-pf1-f225.google.com (mail-pf1-f225.google.com
 [209.85.210.225])
 by mails.dpdk.org (Postfix) with ESMTP id A627C40274
 for <test-report@dpdk.org>; Fri,  9 Aug 2024 11:09:13 +0200 (CEST)
Received: by mail-pf1-f225.google.com with SMTP id
 d2e1a72fcca58-7107b16be12so1540335b3a.3
 for <test-report@dpdk.org>; Fri, 09 Aug 2024 02:09:13 -0700 (PDT)
DKIM-Signature: v=1; a=rsa-sha256; c=relaxed/relaxed;
 d=iol.unh.edu; s=unh-iol; t=1723194553; x=1723799353; darn=dpdk.org;
 h=references:in-reply-to:cc:to:from:subject:message-id:date:from:to
 :cc:subject:date:message-id:reply-to;
 bh=llgXUDiPpb3O8SCfnswLxLCAngwmR/6PKFB/y4fruxM=;
 b=ScrWN4rQWWur1xkalgjLYr/3AZyFkix8a02iig6P4CV8kSOMPCC2m7+YIbuHEne/QX
 tPNz7/9wDt6BV59fu63DaRcXYtef4NyRtMHdgFruaOk8ND/643NaYEHIIjyNxOTmjzPh
 MuRXczXRIZKyj9cXuMIs7MB0s0qHTxdLcKKPc=
X-Google-DKIM-Signature: v=1; a=rsa-sha256; c=relaxed/relaxed;
 d=1e100.net; s=20230601; t=1723194553; x=1723799353;
 h=references:in-reply-to:cc:to:from:subject:message-id:date
 :x-gm-message-state:from:to:cc:subject:date:message-id:reply-to;
 bh=llgXUDiPpb3O8SCfnswLxLCAngwmR/6PKFB/y4fruxM=;
 b=v//iVUqn5bvNpZl2luj8KErjK8PY/sUpquQOtah6wJW48LNwj8jve191GRVVOEKmQp
 3BRKsCFUJVxNBUYVicawNa+vj+TJn4DkFDzLyP3L18yB1z2EqEYj+aJwBTldAGebeTm+
 oD7DzeQvtBvqc1owdDAi2SYgQOWbjtZZ3n+QHH467r7nzUs75HYNApbK3JMUbFOnow/6
 YGu8RV5M9YfWKtfks/xnnZK/jdYD0V0xbHcSsQu6H0IL8KoPsPubUdaksy4O+lcvnywy
 quO0eYsG5wPpoiJQ3LSWs95bEUZF5XXJZ8ZBUTuagO5bqOgEgeGtbD69D8SKinQXpf4e
 xcUg==
X-Gm-Message-State: AOJu0YyfAZVACReru7jyAv7SjAuniCwc73jGDNpUIS4YnnLHkCZ8/qLy
 hQpfLtwn83R+6hwvo/y/BbdtE9u3EMib5Jl4rYtEActlo+4lS8iEQb2FmXHIi80PTtPYfQ3ABNS
 awXbIcLZJ8R9AN2o9NzoQXSjiQ3OgomReocRjnWFMpNI/TaNMboiuDuP9
X-Google-Smtp-Source: AGHT+IFv5Mn2tBsEmp2o9LvNNHQahLiexeOkjhn9HWEZJO0JIf1z5PGhSrXDDA+tfraCXEBoIiA/WXwzFEFR
X-Received: by 2002:a05:6a21:9786:b0:1c4:9ce8:e6ca with SMTP id
 adf61e73a8af0-1c8a0137770mr1000046637.54.1723194552660; 
 Fri, 09 Aug 2024 02:09:12 -0700 (PDT)
Received: from postal.iol.unh.edu (postal.iol.unh.edu.
 [2606:4100:3880:1234::84]) by smtp-relay.gmail.com with ESMTPS id
 98e67ed59e1d1-2d1c9daf73asm133201a91.14.2024.08.09.02.09.12
 (version=TLS1_2 cipher=ECDHE-ECDSA-AES128-GCM-SHA256 bits=128/128);
 Fri, 09 Aug 2024 02:09:12 -0700 (PDT)
X-Relaying-Domain: iol.unh.edu
Date: Fri, 09 Aug 2024 02:09:12 -0700 (PDT)
Message-ID: <66b5dcb8.170a0220.36b0ce.9e18SMTPIN_ADDED_MISSING@mx.google.com>
Received: from [172.21.0.6] (unknown [172.18.0.240])
 by postal.iol.unh.edu (Postfix) with ESMTP id D5D516052500;
 Fri,  9 Aug 2024 05:09:11 -0400 (EDT)
Subject: |PENDING| pw143028-143032 [PATCH] [5/5] eal: simplify eal alarm canc
From: dpdklab@iol.unh.edu
To: Test Report <test-report@dpdk.org>
Cc: dpdk-test-reports@iol.unh.edu
In-Reply-To: <20240808194756.167664-6-stephen@networkplumber.org>
References: <20240808194756.167664-6-stephen@networkplumber.org>
Content-Type: text/plain
X-BeenThere: test-report@dpdk.org
X-Mailman-Version: 2.1.29
Precedence: list
List-Id: automatic DPDK test reports <test-report.dpdk.org>
List-Unsubscribe: <https://mails.dpdk.org/options/test-report>,
 <mailto:test-report-request@dpdk.org?subject=unsubscribe>
List-Archive: <http://mails.dpdk.org/archives/test-report/>
List-Post: <mailto:test-report@dpdk.org>
List-Help: <mailto:test-report-request@dpdk.org?subject=help>
List-Subscribe: <https://mails.dpdk.org/listinfo/test-report>,
 <mailto:test-report-request@dpdk.org?subject=subscribe>
Errors-To: test-report-bounces@dpdk.org

Test-Label: iol-unit-arm64-testing
Test-Status: PENDING
http://dpdk.org/patch/143032

_Testing pending_

Submitter: Stephen Hemminger <stephen@networkplumber.org>
Date: Thursday, August 08 2024 19:47:01 
DPDK git baseline: Repo:dpdk
  Branch: master
  CommitID:cb9187bc5c2b4bab0ad80194ac3b60491de14e8c

143028-143032 --> testing pending

Upstream job id: Generic-Unit-Test-DPDK#250223

Test environment and result as below:

+--------------------------+----------------+
|       Environment        | dpdk_unit_test |
+==========================+================+
| Debian 11 (Buster) (ARM) | PASS           |
+--------------------------+----------------+
| CentOS Stream 9 (ARM)    | PASS           |
+--------------------------+----------------+
| Fedora 37 (ARM)          | PASS           |
+--------------------------+----------------+
| Debian 12 (arm)          | PASS           |
+--------------------------+----------------+
| Fedora 38 (ARM)          | PASS           |
+--------------------------+----------------+
| Fedora 38 (ARM Clang)    | PASS           |
+--------------------------+----------------+
| Fedora 39 (ARM)          | PASS           |
+--------------------------+----------------+
| Fedora 39 (ARM Clang)    | PASS           |
+--------------------------+----------------+
| Fedora 40 (ARM)          | PASS           |
+--------------------------+----------------+
| Fedora 40 (ARM Clang)    | PEND           |
+--------------------------+----------------+
| RHEL9 (ARM)              | PASS           |
+--------------------------+----------------+
| Ubuntu 20.04 (ARM)       | PASS           |
+--------------------------+----------------+
| Ubuntu 22.04 (ARM)       | PEND           |
+--------------------------+----------------+
| Ubuntu 24.04 (ARM)       | PEND           |
+--------------------------+----------------+


Debian 11 (Buster) (ARM)
	Kernel: Container Host Kernel
	Compiler: gcc 10.2.1

CentOS Stream 9 (ARM)
	Kernel: Container Host Kernel
	Compiler: gcc 11.4.1

Fedora 37 (ARM)
	Kernel: Depends on container host
	Compiler: gcc 12.3.1

Debian 12 (arm)
	Kernel: Container Host Kernel
	Compiler: gcc 12.2.0

Fedora 38 (ARM)
	Kernel: Depends on container host
	Compiler: gcc 13.2.1

Fedora 38 (ARM Clang)
	Kernel: Depends on container host
	Compiler: clang 16.0.6

Fedora 39 (ARM)
	Kernel: Depends on container host
	Compiler: gcc 13.2.1

Fedora 39 (ARM Clang)
	Kernel: Depends on container host
	Compiler: clang 17.0.6

Fedora 40 (ARM)
	Kernel: Depends on container host
	Compiler: gcc 14.1.1

Fedora 40 (ARM Clang)
	Kernel: Depends on container host
	Compiler: clang 18.1.6

RHEL9 (ARM)
	Kernel: Depends on container host
	Compiler: gcc 11.4.1

Ubuntu 20.04 (ARM)
	Kernel: Container Host Kernel
	Compiler: gcc 9.4.0

Ubuntu 22.04 (ARM)
	Kernel: Container Host Kernel
	Compiler: gcc 11.4.0

Ubuntu 24.04 (ARM)
	Kernel: 5.4.0-167-generic
	Compiler: gcc 13.2.0

To view detailed results, visit:
https://lab.dpdk.org/results/dashboard/patchsets/30750/

UNH-IOL DPDK Community Lab

To manage your email subscriptions, visit: 
https://lab.dpdk.org/results/dashboard/preferences/subscriptions/