From mboxrd@z Thu Jan  1 00:00:00 1970
Return-Path: <test-report-bounces@dpdk.org>
Received: from mails.dpdk.org (mails.dpdk.org [217.70.189.124])
	by inbox.dpdk.org (Postfix) with ESMTP id 0DE4145777
	for <public@inbox.dpdk.org>; Fri,  9 Aug 2024 11:22:07 +0200 (CEST)
Received: from mails.dpdk.org (localhost [127.0.0.1])
	by mails.dpdk.org (Postfix) with ESMTP id D935F42EA0;
	Fri,  9 Aug 2024 11:22:06 +0200 (CEST)
Received: from mail-pg1-f228.google.com (mail-pg1-f228.google.com
 [209.85.215.228])
 by mails.dpdk.org (Postfix) with ESMTP id 9EB6A42E9B
 for <test-report@dpdk.org>; Fri,  9 Aug 2024 11:22:01 +0200 (CEST)
Received: by mail-pg1-f228.google.com with SMTP id
 41be03b00d2f7-7b8884631c4so882119a12.2
 for <test-report@dpdk.org>; Fri, 09 Aug 2024 02:22:01 -0700 (PDT)
DKIM-Signature: v=1; a=rsa-sha256; c=relaxed/relaxed;
 d=iol.unh.edu; s=unh-iol; t=1723195321; x=1723800121; darn=dpdk.org;
 h=references:in-reply-to:cc:to:from:subject:message-id:date:from:to
 :cc:subject:date:message-id:reply-to;
 bh=DibFxrmeru2SMzjJ1zmORPFrHAiyyf5h4fEhfXZpeOY=;
 b=KeA70REJCTEM2PiPadBGAzkkx3hTWhu3LZUCQVd2q/VXvEv3aydnnONbpZTFen7Slt
 /LRJfxt/aKPVy/0cUPwhJ9sxa903VDGovLdtSyjJdJ5FUlPUN1Xo4JJHi3qfMT5tj9qi
 dl/g+o9uT9D15o566r5tIsWap2si0+Zgss1PI=
X-Google-DKIM-Signature: v=1; a=rsa-sha256; c=relaxed/relaxed;
 d=1e100.net; s=20230601; t=1723195321; x=1723800121;
 h=references:in-reply-to:cc:to:from:subject:message-id:date
 :x-gm-message-state:from:to:cc:subject:date:message-id:reply-to;
 bh=DibFxrmeru2SMzjJ1zmORPFrHAiyyf5h4fEhfXZpeOY=;
 b=L7rttAnyYXC7Tb6QHF+2kP7KqtmadrX1ydnAZ/+pEkz+/AHQuQzGaAeQXr1hbKW5jy
 t1XPXfID1dacugzbSDqV2Y3WJ3BxUW6YVX6fxAgzChj+frE4GMdKIi4CiRkj6713YZD2
 2K76kDj72NbRrVfpx+AqL84UQ+leeVeSrmLYeDA3KjeUvRVKXFetZCvA9OcKORnkDfDz
 RJdHQ5mxuN+F4b22Nea4ehwH9rHreIOvUbooBpMaTXNLoF5bMOFfgcJeGnKJaQPuLYa/
 sXlAn+jFizZfJoFVNCiRuv+909s3xaUs9RfmMl6dWa/N+eGa4Yth2esrkLzg0oNLS2FK
 PA+Q==
X-Gm-Message-State: AOJu0Ywi3/ATW3I3gMktefhzBLuWQS7lR4I/69lAqNRvVQDoMiBQc1Np
 KrtYZbrs806+NEEwbUyl1CJ9byWnehjjqIRpRYn0+H0uplml5KDaSWCesimafIzpzOXCL3D4Ari
 VlRLMAtH6KuHio9EAs4t6j6avA9bIcZUDdVPzQSqx
X-Google-Smtp-Source: AGHT+IEaOrscrJzrTTjDqhGYdK1VcuaW9LAoz6ThtacItntNm8VRLo3Jp5oMPHDlqzjVdS3tiKQhh0/Y6NZh
X-Received: by 2002:a05:6a21:6e4a:b0:1c6:9e5e:2ec4 with SMTP id
 adf61e73a8af0-1c8a03a81d9mr1203066637.50.1723195308863; 
 Fri, 09 Aug 2024 02:21:48 -0700 (PDT)
Received: from postal.iol.unh.edu (postal.iol.unh.edu. [132.177.123.84])
 by smtp-relay.gmail.com with ESMTPS id
 d9443c01a7336-1ff58f3772asm10751425ad.12.2024.08.09.02.21.48
 (version=TLS1_2 cipher=ECDHE-ECDSA-AES128-GCM-SHA256 bits=128/128);
 Fri, 09 Aug 2024 02:21:48 -0700 (PDT)
X-Relaying-Domain: iol.unh.edu
Date: Fri, 09 Aug 2024 02:21:48 -0700 (PDT)
Message-ID: <66b5dfac.170a0220.9507b.57bfSMTPIN_ADDED_MISSING@mx.google.com>
Received: from [172.21.0.6] (unknown [172.18.0.240])
 by postal.iol.unh.edu (Postfix) with ESMTP id 435346052500;
 Fri,  9 Aug 2024 05:21:48 -0400 (EDT)
Subject: |PENDING| pw143028-143032 [PATCH] [5/5] eal: simplify eal alarm canc
From: dpdklab@iol.unh.edu
To: Test Report <test-report@dpdk.org>
Cc: dpdk-test-reports@iol.unh.edu
In-Reply-To: <20240808194756.167664-6-stephen@networkplumber.org>
References: <20240808194756.167664-6-stephen@networkplumber.org>
Content-Type: text/plain
X-BeenThere: test-report@dpdk.org
X-Mailman-Version: 2.1.29
Precedence: list
List-Id: automatic DPDK test reports <test-report.dpdk.org>
List-Unsubscribe: <https://mails.dpdk.org/options/test-report>,
 <mailto:test-report-request@dpdk.org?subject=unsubscribe>
List-Archive: <http://mails.dpdk.org/archives/test-report/>
List-Post: <mailto:test-report@dpdk.org>
List-Help: <mailto:test-report-request@dpdk.org?subject=help>
List-Subscribe: <https://mails.dpdk.org/listinfo/test-report>,
 <mailto:test-report-request@dpdk.org?subject=subscribe>
Errors-To: test-report-bounces@dpdk.org

Test-Label: iol-compile-amd64-testing
Test-Status: PENDING
http://dpdk.org/patch/143032

_Testing pending_

Submitter: Stephen Hemminger <stephen@networkplumber.org>
Date: Thursday, August 08 2024 19:47:01 
DPDK git baseline: Repo:dpdk
  Branch: master
  CommitID:cb9187bc5c2b4bab0ad80194ac3b60491de14e8c

143028-143032 --> testing pending

Upstream job id: Generic-DPDK-Compile-Meson#286145

Test environment and result as below:

+---------------------+----------------------+--------------------+-------------------+------------------+-------------------+
|     Environment     | dpdk_mingw64_compile | dpdk_meson_compile | dpdk_msvc_compile | dpdk_compile_ovs | dpdk_compile_spdk |
+=====================+======================+====================+===================+==================+===================+
| Windows Server 2019 | PASS                 | PASS               | SKIPPED           | SKIPPED          | SKIPPED           |
+---------------------+----------------------+--------------------+-------------------+------------------+-------------------+
| Windows Server 2022 | PASS                 | PASS               | PASS              | SKIPPED          | SKIPPED           |
+---------------------+----------------------+--------------------+-------------------+------------------+-------------------+
| FreeBSD 13.3        | SKIPPED              | PASS               | SKIPPED           | SKIPPED          | SKIPPED           |
+---------------------+----------------------+--------------------+-------------------+------------------+-------------------+
| FreeBSD 14.1        | SKIPPED              | PASS               | SKIPPED           | SKIPPED          | SKIPPED           |
+---------------------+----------------------+--------------------+-------------------+------------------+-------------------+
| CentOS Stream 9     | SKIPPED              | PEND               | SKIPPED           | PEND             | PEND              |
+---------------------+----------------------+--------------------+-------------------+------------------+-------------------+
| Debian Bullseye     | SKIPPED              | PASS               | SKIPPED           | PEND             | PEND              |
+---------------------+----------------------+--------------------+-------------------+------------------+-------------------+
| Debian 12           | SKIPPED              | PASS               | SKIPPED           | PASS             | PASS              |
+---------------------+----------------------+--------------------+-------------------+------------------+-------------------+
| Fedora 37           | SKIPPED              | PASS               | SKIPPED           | PASS             | PASS              |
+---------------------+----------------------+--------------------+-------------------+------------------+-------------------+
| Fedora 38 (Clang)   | SKIPPED              | PEND               | SKIPPED           | PEND             | PEND              |
+---------------------+----------------------+--------------------+-------------------+------------------+-------------------+
| Fedora 38           | SKIPPED              | PASS               | SKIPPED           | PASS             | PASS              |
+---------------------+----------------------+--------------------+-------------------+------------------+-------------------+
| Fedora 39 (Clang)   | SKIPPED              | PEND               | SKIPPED           | PEND             | PEND              |
+---------------------+----------------------+--------------------+-------------------+------------------+-------------------+
| Fedora 39           | SKIPPED              | PASS               | SKIPPED           | PASS             | PEND              |
+---------------------+----------------------+--------------------+-------------------+------------------+-------------------+
| Fedora 40 (Clang)   | SKIPPED              | PEND               | SKIPPED           | PEND             | PEND              |
+---------------------+----------------------+--------------------+-------------------+------------------+-------------------+
| Fedora 40           | SKIPPED              | PEND               | SKIPPED           | PEND             | PEND              |
+---------------------+----------------------+--------------------+-------------------+------------------+-------------------+
| openSUSE Leap 15    | SKIPPED              | PEND               | SKIPPED           | PEND             | SKIPPED           |
+---------------------+----------------------+--------------------+-------------------+------------------+-------------------+
| RHEL8               | SKIPPED              | PEND               | SKIPPED           | PEND             | SKIPPED           |
+---------------------+----------------------+--------------------+-------------------+------------------+-------------------+
| Ubuntu 20.04        | SKIPPED              | PEND               | SKIPPED           | PEND             | SKIPPED           |
+---------------------+----------------------+--------------------+-------------------+------------------+-------------------+
| Ubuntu 22.04        | SKIPPED              | PEND               | SKIPPED           | PEND             | PEND              |
+---------------------+----------------------+--------------------+-------------------+------------------+-------------------+
| Ubuntu 24.04        | SKIPPED              | PEND               | SKIPPED           | PEND             | PEND              |
+---------------------+----------------------+--------------------+-------------------+------------------+-------------------+
| Alpine              | SKIPPED              | PEND               | SKIPPED           | PEND             | SKIPPED           |
+---------------------+----------------------+--------------------+-------------------+------------------+-------------------+


Windows Server 2019
	Kernel: 10.0.17763
	Compiler: clang 14.0 and gcc 8.1.0 (MinGW)

Windows Server 2022
	Kernel: 10.0.20348.2031
	Compiler: clang 15.0.7, gcc 8.1.0 (MinGW), and MSVC VS 17.9

FreeBSD 13.3
	Kernel: 13.3-RELEASE-p1
	Compiler: clang 17.0.6

FreeBSD 14.1
	Kernel: 14.1
	Compiler: clang 18.1.5

CentOS Stream 9
	Kernel: 5.4.0-167-generic
	Compiler: gcc 11.4.1 20230605

Debian Bullseye
	Kernel: 5.4.0-167-generic
	Compiler: gcc 10.2.1-6

Debian 12
	Kernel: Container Host Kernel
	Compiler: gcc 12.2.0

Fedora 37
	Kernel: Depends on container host system
	Compiler: gcc 12.3.1

Fedora 38 (Clang)
	Kernel: Depends on container host
	Compiler: clang 16.0.6

Fedora 38
	Kernel: Depends on container host
	Compiler: gcc 13.2.1

Fedora 39 (Clang)
	Kernel: Depends on container host
	Compiler: clang 17.0.6

Fedora 39
	Kernel: Depends on container host
	Compiler: gcc 13.2.1

Fedora 40 (Clang)
	Kernel: Depends on container host
	Compiler: clang 18.1.6

Fedora 40
	Kernel: Depends on container host
	Compiler: gcc 14.1.1

openSUSE Leap 15
	Kernel: 5.4.0-167-generic
	Compiler: gcc 7.5.0

RHEL8
	Kernel: 5.4.0-167-generic
	Compiler: gcc 8.5.0 20210514 (Red Hat 8.5.0-20)

Ubuntu 20.04
	Kernel: 5.4.0-167-generic
	Compiler: gcc 9.4.0-1ubuntu1~20.04.1

Ubuntu 22.04
	Kernel: 5.4.0-167-generic
	Compiler: gcc 11.4.0

Ubuntu 24.04
	Kernel: 5.4.0-167-generic
	Compiler: gcc 13.2.0

Alpine
	Kernel: 5.4.0-167-generic
	Compiler: gcc (Alpine 13.2.1_git20231014) 13.2.1 20231014

To view detailed results, visit:
https://lab.dpdk.org/results/dashboard/patchsets/30750/

UNH-IOL DPDK Community Lab

To manage your email subscriptions, visit: 
https://lab.dpdk.org/results/dashboard/preferences/subscriptions/