From mboxrd@z Thu Jan  1 00:00:00 1970
Return-Path: <test-report-bounces@dpdk.org>
Received: from mails.dpdk.org (mails.dpdk.org [217.70.189.124])
	by inbox.dpdk.org (Postfix) with ESMTP id 76C9645777
	for <public@inbox.dpdk.org>; Fri,  9 Aug 2024 11:27:10 +0200 (CEST)
Received: from mails.dpdk.org (localhost [127.0.0.1])
	by mails.dpdk.org (Postfix) with ESMTP id 739BF42DC9;
	Fri,  9 Aug 2024 11:27:10 +0200 (CEST)
Received: from mail-yb1-f226.google.com (mail-yb1-f226.google.com
 [209.85.219.226])
 by mails.dpdk.org (Postfix) with ESMTP id 4DAF1402A5
 for <test-report@dpdk.org>; Fri,  9 Aug 2024 11:27:09 +0200 (CEST)
Received: by mail-yb1-f226.google.com with SMTP id
 3f1490d57ef6-e0b9589a72dso1700172276.3
 for <test-report@dpdk.org>; Fri, 09 Aug 2024 02:27:09 -0700 (PDT)
DKIM-Signature: v=1; a=rsa-sha256; c=relaxed/relaxed;
 d=iol.unh.edu; s=unh-iol; t=1723195628; x=1723800428; darn=dpdk.org;
 h=references:in-reply-to:cc:to:from:subject:message-id:date:from:to
 :cc:subject:date:message-id:reply-to;
 bh=9lW4V/E0syxt7JPqxs9BZi4QJrPGqWjGfPQchhQpoEM=;
 b=c7nj8gioaCUTxLNwKeWojp95sg8SvRWKqBfn+oVMp43ca17h6jqBG6S4K/zezwU+Wh
 VLm8+splbfh4G10nomO1NjOz65DU63xsoCBvF42O1GRUT44byebn78KFydsJYFeLdtWb
 2isa890Dg9RyfgVeSelIc/2CZaXeV0IPiAZ+c=
X-Google-DKIM-Signature: v=1; a=rsa-sha256; c=relaxed/relaxed;
 d=1e100.net; s=20230601; t=1723195628; x=1723800428;
 h=references:in-reply-to:cc:to:from:subject:message-id:date
 :x-gm-message-state:from:to:cc:subject:date:message-id:reply-to;
 bh=9lW4V/E0syxt7JPqxs9BZi4QJrPGqWjGfPQchhQpoEM=;
 b=fIWG3KiCUR8eWdn01fmMWG4OwyD5gGa4ecScP/lohKO++dw57Tf31XFm4I3B1P2H1q
 hHQxRA4gocdeARMg0N8Sx1ORRGHQ/RQaC5J3M+O0ekvpC97o0+r9UeL/WiYDF0rTfSWc
 qc4whucjfJIGzzRsVMfrF2y7Feje37sb7w3xm34uEEu8qtFf3SRotYZd7n+51uNaSShC
 N/9Hv/6ViBHBwS61u6lP3zneH/b5NAMy5QHie44DWmYp4OBe43nYRH6N/LFvHqhuzwLQ
 2/3MSxOcBK/80R5owbhLk9mmiEhgA7fA5RoAirlTgdHiMevGwRJGcURTGRcN9SMv0kQa
 rGJg==
X-Gm-Message-State: AOJu0YxzT1etwWoQPWueh5eyInUt5kTggq6SeUpCcgLnSXQ0ePL+LyAx
 qqI6KlgpO2qMBLUIiAQgBTE3SJXAIQfsC0o0IPRZhsD3EZcy3v3QGK0P8OynIMTwz8Sn7BqlJyi
 PdAY/5nLD+HlT7Ui0+PJ0v+0mW7Sypz2RrqJlkMV6
X-Google-Smtp-Source: AGHT+IHbuiVppSzAJOAvu2gogXkj1MGG8Eum9gqNVllDzqavTwyZxlHyIw2XeZt2+U8kdHfDPgJIp5XQfT9N
X-Received: by 2002:a05:6902:1b90:b0:e08:79b8:fce5 with SMTP id
 3f1490d57ef6-e0eb99605acmr1031161276.21.1723195628663; 
 Fri, 09 Aug 2024 02:27:08 -0700 (PDT)
Received: from postal.iol.unh.edu (postal.iol.unh.edu. [132.177.123.84])
 by smtp-relay.gmail.com with ESMTPS id
 3f1490d57ef6-e0be55926a5sm590100276.31.2024.08.09.02.27.08
 (version=TLS1_2 cipher=ECDHE-ECDSA-AES128-GCM-SHA256 bits=128/128);
 Fri, 09 Aug 2024 02:27:08 -0700 (PDT)
X-Relaying-Domain: iol.unh.edu
Date: Fri, 09 Aug 2024 02:27:08 -0700 (PDT)
Message-ID: <66b5e0ec.050a0220.32c449.34dbSMTPIN_ADDED_MISSING@mx.google.com>
Received: from [172.17.0.3] (unknown [172.18.0.217])
 by postal.iol.unh.edu (Postfix) with ESMTP id 4BA1A6052500;
 Fri,  9 Aug 2024 05:27:08 -0400 (EDT)
Subject: |PENDING| pw143028-143032 [PATCH] [5/5] eal: simplify eal alarm canc
From: dpdklab@iol.unh.edu
To: Test Report <test-report@dpdk.org>
Cc: dpdk-test-reports@iol.unh.edu
In-Reply-To: <20240808194756.167664-6-stephen@networkplumber.org>
References: <20240808194756.167664-6-stephen@networkplumber.org>
Content-Type: text/plain
X-BeenThere: test-report@dpdk.org
X-Mailman-Version: 2.1.29
Precedence: list
List-Id: automatic DPDK test reports <test-report.dpdk.org>
List-Unsubscribe: <https://mails.dpdk.org/options/test-report>,
 <mailto:test-report-request@dpdk.org?subject=unsubscribe>
List-Archive: <http://mails.dpdk.org/archives/test-report/>
List-Post: <mailto:test-report@dpdk.org>
List-Help: <mailto:test-report-request@dpdk.org?subject=help>
List-Subscribe: <https://mails.dpdk.org/listinfo/test-report>,
 <mailto:test-report-request@dpdk.org?subject=subscribe>
Errors-To: test-report-bounces@dpdk.org

Test-Label: iol-compile-arm64-testing
Test-Status: PENDING
http://dpdk.org/patch/143032

_Testing pending_

Submitter: Stephen Hemminger <stephen@networkplumber.org>
Date: Thursday, August 08 2024 19:47:01 
DPDK git baseline: Repo:dpdk
  Branch: master
  CommitID:cb9187bc5c2b4bab0ad80194ac3b60491de14e8c

143028-143032 --> testing pending

Upstream job id: Generic-DPDK-Compile-Meson#286159

Test environment and result as below:

+------------------------------------+--------------------+
|            Environment             | dpdk_meson_compile |
+====================================+====================+
| RHEL9 (ARM)                        | PASS               |
+------------------------------------+--------------------+
| Ubuntu 20.04 ARM GCC Cross Compile | PASS               |
+------------------------------------+--------------------+
| Ubuntu 20.04 ARM SVE               | PASS               |
+------------------------------------+--------------------+
| Debian 12 with MUSDK               | PASS               |
+------------------------------------+--------------------+
| Fedora 37 (ARM)                    | PEND               |
+------------------------------------+--------------------+
| Fedora 38 (ARM)                    | PEND               |
+------------------------------------+--------------------+
| Fedora 38 (ARM Clang)              | PEND               |
+------------------------------------+--------------------+
| Fedora 39 (ARM)                    | PEND               |
+------------------------------------+--------------------+
| Fedora 39 (ARM Clang)              | PEND               |
+------------------------------------+--------------------+
| Fedora 40 (ARM)                    | PEND               |
+------------------------------------+--------------------+
| Fedora 40 (ARM Clang)              | PEND               |
+------------------------------------+--------------------+


RHEL9 (ARM)
	Kernel: Depends on container host
	Compiler: gcc 11.4.1

Ubuntu 20.04 ARM GCC Cross Compile
	Kernel: 5.4.0-167-generic
	Compiler: aarch64-linux-gnu-gcc (Ubuntu 9.4.0-1ubuntu1~20.04.2) 9.4.0

Ubuntu 20.04 ARM SVE
	Kernel: 5.4.0-167-generic
	Compiler: gcc (Ubuntu 10.5.0-1ubuntu1~20.04) 10.5.0

Debian 12 with MUSDK
	Kernel: Container Host Kernel
	Compiler: gcc 12.2.0

Fedora 37 (ARM)
	Kernel: Depends on container host
	Compiler: gcc 12.3.1

Fedora 38 (ARM)
	Kernel: Depends on container host
	Compiler: gcc 13.2.1

Fedora 38 (ARM Clang)
	Kernel: Depends on container host
	Compiler: clang 16.0.6

Fedora 39 (ARM)
	Kernel: Depends on container host
	Compiler: gcc 13.2.1

Fedora 39 (ARM Clang)
	Kernel: Depends on container host
	Compiler: clang 17.0.6

Fedora 40 (ARM)
	Kernel: Depends on container host
	Compiler: gcc 14.1.1

Fedora 40 (ARM Clang)
	Kernel: Depends on container host
	Compiler: clang 18.1.6

To view detailed results, visit:
https://lab.dpdk.org/results/dashboard/patchsets/30750/

UNH-IOL DPDK Community Lab

To manage your email subscriptions, visit: 
https://lab.dpdk.org/results/dashboard/preferences/subscriptions/