From mboxrd@z Thu Jan  1 00:00:00 1970
Return-Path: <test-report-bounces@dpdk.org>
Received: from mails.dpdk.org (mails.dpdk.org [217.70.189.124])
	by inbox.dpdk.org (Postfix) with ESMTP id 551BB45777
	for <public@inbox.dpdk.org>; Fri,  9 Aug 2024 11:40:41 +0200 (CEST)
Received: from mails.dpdk.org (localhost [127.0.0.1])
	by mails.dpdk.org (Postfix) with ESMTP id 39ECE402C4;
	Fri,  9 Aug 2024 11:40:41 +0200 (CEST)
Received: from mail-qv1-f99.google.com (mail-qv1-f99.google.com
 [209.85.219.99]) by mails.dpdk.org (Postfix) with ESMTP id CC983402A5
 for <test-report@dpdk.org>; Fri,  9 Aug 2024 11:40:39 +0200 (CEST)
Received: by mail-qv1-f99.google.com with SMTP id
 6a1803df08f44-6b7a8cada97so11163596d6.3
 for <test-report@dpdk.org>; Fri, 09 Aug 2024 02:40:39 -0700 (PDT)
DKIM-Signature: v=1; a=rsa-sha256; c=relaxed/relaxed;
 d=iol.unh.edu; s=unh-iol; t=1723196439; x=1723801239; darn=dpdk.org;
 h=references:in-reply-to:cc:to:from:subject:message-id:date:from:to
 :cc:subject:date:message-id:reply-to;
 bh=ja9X6yiRQVsWuqXC4wSQ3Tqz9z0pQhyTvSTRCpNXAwA=;
 b=eXu9JYD+4Lc97TwHWViAr4cKg8x/ANJnyArH6ZAEwfdLyJOz6vWLyybWrZJhcyJmhA
 fP5ATZXDgRwH/ueXMNXcckK/zoyUcjUDXjazGsoADfGzAa7FhahSyBrlXdAPuACdxYZq
 052N24DeQ1PC4gxUm2YCc5YpKMvZ3j1aLjUno=
X-Google-DKIM-Signature: v=1; a=rsa-sha256; c=relaxed/relaxed;
 d=1e100.net; s=20230601; t=1723196439; x=1723801239;
 h=references:in-reply-to:cc:to:from:subject:message-id:date
 :x-gm-message-state:from:to:cc:subject:date:message-id:reply-to;
 bh=ja9X6yiRQVsWuqXC4wSQ3Tqz9z0pQhyTvSTRCpNXAwA=;
 b=teQh4oeyEhrei1dlddiEa3gnDob/XHHOVQq4L5KJQmeesid2iaVNodH18bLYeR4zAp
 8JMyRf8rFGRJzvhXB0gf7Pw3iq2e0bDAQjHJWte+M4DRSRFCnu1xz0XKZBFzCAQobgd1
 uSq0r6lJyFtt5yv9W2MR1seLjnIIm9jbFizkFOKlhiDSC3yV0M5e3w75g5wc5AbzZfNK
 7v3acLwO4UJG7J4dU74Ni4T/K0s9hqwQbG1ilsUr3nLFv+uFkKhJtR7DxRK0Vcck5b7P
 WRX07HzC+JVk4dWKUqcWxMtqlI87YBYPnnWCVG2LLQ75TB1q6FQ+XE5dyFy9NLHd0MPF
 xp3g==
X-Gm-Message-State: AOJu0YxoHN//NO1gwY7UU9mHNsahxixj5FP0EAhLCkabiG/Sy6rTXym6
 IVET54gc1YV8pTXa3P57gtON09VPwhMtm6uhwsmB8l3s0GMUrSKWZJIReEE+7fazA8IdIXf+ETi
 jSXu08K2iwcatWsGfKgpZKeuWVjws0USRef3knreZ
X-Google-Smtp-Source: AGHT+IEcuHfYXImmH3JnnBUzVblkNsdiTmMZHrLHDqOpqa9QrWOpvmRU+Xo0SBpClZRGBbVS6whXODCSEliS
X-Received: by 2002:a05:6214:588b:b0:6bb:79b0:14e2 with SMTP id
 6a1803df08f44-6bd78d8abc8mr9861516d6.31.1723196439088; 
 Fri, 09 Aug 2024 02:40:39 -0700 (PDT)
Received: from postal.iol.unh.edu (postal.iol.unh.edu. [132.177.123.84])
 by smtp-relay.gmail.com with ESMTPS id
 6a1803df08f44-6bb9c76e639sm11633216d6.2.2024.08.09.02.40.39
 (version=TLS1_2 cipher=ECDHE-ECDSA-AES128-GCM-SHA256 bits=128/128);
 Fri, 09 Aug 2024 02:40:39 -0700 (PDT)
X-Relaying-Domain: iol.unh.edu
Date: Fri, 09 Aug 2024 02:40:39 -0700 (PDT)
Message-ID: <66b5e417.050a0220.ce961.d16cSMTPIN_ADDED_MISSING@mx.google.com>
Received: from [172.21.0.7] (unknown [172.18.0.240])
 by postal.iol.unh.edu (Postfix) with ESMTP id BFC366052500;
 Fri,  9 Aug 2024 05:40:38 -0400 (EDT)
Subject: |PENDING| pw143028-143032 [PATCH] [5/5] eal: simplify eal alarm canc
From: dpdklab@iol.unh.edu
To: Test Report <test-report@dpdk.org>
Cc: dpdk-test-reports@iol.unh.edu
In-Reply-To: <20240808194756.167664-6-stephen@networkplumber.org>
References: <20240808194756.167664-6-stephen@networkplumber.org>
Content-Type: text/plain
X-BeenThere: test-report@dpdk.org
X-Mailman-Version: 2.1.29
Precedence: list
List-Id: automatic DPDK test reports <test-report.dpdk.org>
List-Unsubscribe: <https://mails.dpdk.org/options/test-report>,
 <mailto:test-report-request@dpdk.org?subject=unsubscribe>
List-Archive: <http://mails.dpdk.org/archives/test-report/>
List-Post: <mailto:test-report@dpdk.org>
List-Help: <mailto:test-report-request@dpdk.org?subject=help>
List-Subscribe: <https://mails.dpdk.org/listinfo/test-report>,
 <mailto:test-report-request@dpdk.org?subject=subscribe>
Errors-To: test-report-bounces@dpdk.org

Test-Label: iol-compile-arm64-testing
Test-Status: PENDING
http://dpdk.org/patch/143032

_Testing pending_

Submitter: Stephen Hemminger <stephen@networkplumber.org>
Date: Thursday, August 08 2024 19:47:01 
DPDK git baseline: Repo:dpdk
  Branch: master
  CommitID:cb9187bc5c2b4bab0ad80194ac3b60491de14e8c

143028-143032 --> testing pending

Upstream job id: Generic-DPDK-Compile-Meson#286173

Test environment and result as below:

+----------------------------------------+--------------------+
|              Environment               | dpdk_meson_compile |
+========================================+====================+
| RHEL9 (ARM)                            | PASS               |
+----------------------------------------+--------------------+
| Ubuntu 20.04 ARM GCC Cross Compile     | PASS               |
+----------------------------------------+--------------------+
| Ubuntu 20.04 ARM SVE                   | PASS               |
+----------------------------------------+--------------------+
| Debian 12 with MUSDK                   | PASS               |
+----------------------------------------+--------------------+
| Fedora 37 (ARM)                        | PASS               |
+----------------------------------------+--------------------+
| Fedora 38 (ARM)                        | PASS               |
+----------------------------------------+--------------------+
| Fedora 38 (ARM Clang)                  | PEND               |
+----------------------------------------+--------------------+
| Fedora 39 (ARM)                        | PASS               |
+----------------------------------------+--------------------+
| Fedora 39 (ARM Clang)                  | PEND               |
+----------------------------------------+--------------------+
| Fedora 40 (ARM)                        | PASS               |
+----------------------------------------+--------------------+
| Fedora 40 (ARM Clang)                  | PEND               |
+----------------------------------------+--------------------+
| Ubuntu 20.04 (ARM)                     | PASS               |
+----------------------------------------+--------------------+
| Ubuntu 22.04 (ARM)                     | PASS               |
+----------------------------------------+--------------------+
| Ubuntu 24.04 (ARM)                     | PASS               |
+----------------------------------------+--------------------+
| CentOS Stream 9 (ARM)                  | PASS               |
+----------------------------------------+--------------------+
| Debian 11 (Buster) (ARM)               | PEND               |
+----------------------------------------+--------------------+
| Debian 12 (arm)                        | PASS               |
+----------------------------------------+--------------------+
| Ubuntu 20.04 ARM Clang Cross Compile   | PEND               |
+----------------------------------------+--------------------+
| Ubuntu 20.04 aarch32 GCC Cross Compile | PEND               |
+----------------------------------------+--------------------+


RHEL9 (ARM)
	Kernel: Depends on container host
	Compiler: gcc 11.4.1

Ubuntu 20.04 ARM GCC Cross Compile
	Kernel: 5.4.0-167-generic
	Compiler: aarch64-linux-gnu-gcc (Ubuntu 9.4.0-1ubuntu1~20.04.2) 9.4.0

Ubuntu 20.04 ARM SVE
	Kernel: 5.4.0-167-generic
	Compiler: gcc (Ubuntu 10.5.0-1ubuntu1~20.04) 10.5.0

Debian 12 with MUSDK
	Kernel: Container Host Kernel
	Compiler: gcc 12.2.0

Fedora 37 (ARM)
	Kernel: Depends on container host
	Compiler: gcc 12.3.1

Fedora 38 (ARM)
	Kernel: Depends on container host
	Compiler: gcc 13.2.1

Fedora 38 (ARM Clang)
	Kernel: Depends on container host
	Compiler: clang 16.0.6

Fedora 39 (ARM)
	Kernel: Depends on container host
	Compiler: gcc 13.2.1

Fedora 39 (ARM Clang)
	Kernel: Depends on container host
	Compiler: clang 17.0.6

Fedora 40 (ARM)
	Kernel: Depends on container host
	Compiler: gcc 14.1.1

Fedora 40 (ARM Clang)
	Kernel: Depends on container host
	Compiler: clang 18.1.6

Ubuntu 20.04 (ARM)
	Kernel: Container Host Kernel
	Compiler: gcc 9.4.0

Ubuntu 22.04 (ARM)
	Kernel: Container Host Kernel
	Compiler: gcc 11.4.0

Ubuntu 24.04 (ARM)
	Kernel: 5.4.0-167-generic
	Compiler: gcc 13.2.0

CentOS Stream 9 (ARM)
	Kernel: Container Host Kernel
	Compiler: gcc 11.4.1

Debian 11 (Buster) (ARM)
	Kernel: Container Host Kernel
	Compiler: gcc 10.2.1

Debian 12 (arm)
	Kernel: Container Host Kernel
	Compiler: gcc 12.2.0

Ubuntu 20.04 ARM Clang Cross Compile
	Kernel: 5.4.0-72-generic
	Compiler: clang 10.0.0-4ubuntu1

Ubuntu 20.04 aarch32 GCC Cross Compile
	Kernel: 5.4.0-167-generic
	Compiler: gcc 9.4.0

To view detailed results, visit:
https://lab.dpdk.org/results/dashboard/patchsets/30750/

UNH-IOL DPDK Community Lab

To manage your email subscriptions, visit: 
https://lab.dpdk.org/results/dashboard/preferences/subscriptions/