From mboxrd@z Thu Jan  1 00:00:00 1970
Return-Path: <test-report-bounces@dpdk.org>
Received: from mails.dpdk.org (mails.dpdk.org [217.70.189.124])
	by inbox.dpdk.org (Postfix) with ESMTP id 0FEA945777
	for <public@inbox.dpdk.org>; Fri,  9 Aug 2024 11:44:58 +0200 (CEST)
Received: from mails.dpdk.org (localhost [127.0.0.1])
	by mails.dpdk.org (Postfix) with ESMTP id DF013402C4;
	Fri,  9 Aug 2024 11:44:57 +0200 (CEST)
Received: from mail-yw1-f226.google.com (mail-yw1-f226.google.com
 [209.85.128.226])
 by mails.dpdk.org (Postfix) with ESMTP id 8C72A402A5
 for <test-report@dpdk.org>; Fri,  9 Aug 2024 11:44:56 +0200 (CEST)
Received: by mail-yw1-f226.google.com with SMTP id
 00721157ae682-69df49d92b8so6481917b3.3
 for <test-report@dpdk.org>; Fri, 09 Aug 2024 02:44:56 -0700 (PDT)
DKIM-Signature: v=1; a=rsa-sha256; c=relaxed/relaxed;
 d=iol.unh.edu; s=unh-iol; t=1723196696; x=1723801496; darn=dpdk.org;
 h=references:in-reply-to:cc:to:from:subject:message-id:date:from:to
 :cc:subject:date:message-id:reply-to;
 bh=cZWXNFyc7lrVCoLLSZuT/bFCI375Ep/mOyHKvkERbk8=;
 b=VPZw3NYjeVT7TCQ46JuWFWeFQKZ/aRPDvfIabZ10GMdULkdLyn57+67Yj8INRBOrW+
 LRI1arfZbHRclaNXZK2XcSAz5r4hin4GTTxRlNh+Lo7dh0CE4uO37FGCrIWuNQ97Dqrm
 Ht0bVHsflpIwdAV/2QtHj6Wm2Ch2eKt1Xgzvk=
X-Google-DKIM-Signature: v=1; a=rsa-sha256; c=relaxed/relaxed;
 d=1e100.net; s=20230601; t=1723196696; x=1723801496;
 h=references:in-reply-to:cc:to:from:subject:message-id:date
 :x-gm-message-state:from:to:cc:subject:date:message-id:reply-to;
 bh=cZWXNFyc7lrVCoLLSZuT/bFCI375Ep/mOyHKvkERbk8=;
 b=r8dl8EsVqFREsS2NU722ixfaj2BGYsvOIVbrY/olor/sEP46gnbH+XCx3IhVM4YbR5
 vzuLhqCv9xXxnUeoGHwbrlU7GWhB254K+FBDSuZvLf1v6i+cvnjXCPJSAuSUcqgU56RX
 keRDmXPxMf73T455cJvM1n+UjtdS3y65IKIfevn9G0P5xsB4g43emeYHmTowukw6sx/R
 sc37ffGvNuzpNUNxuLTUDa2T9YlgUJtV3Tlt++AfGm5GIKe5Ohid+QMxSsWFAetuWmPX
 +O9PxODbQAMHbzisaC3LfC2lWeONGNy7g1Pt+TE6+XwKCmS7EEsVzJk16jZlUdHrNG3I
 J1qA==
X-Gm-Message-State: AOJu0YyO1dPk8L7+XQGt4+KCJlT1BQoo6SytkD6PTOTv5deEw6HZnvP8
 xmK3Xhkr9XboeMMxlNE4R1y8k5JU+QMPR7ue2DgySU6IlNuxv2scIxwQI8pAANO8F0+hY3kHLrj
 wwL1HfyWmHYm7AVDA4YJNt7Lb1ZV+f6pxkCPsbQfeAlwOCKYv7JVqZ7nk
X-Google-Smtp-Source: AGHT+IHCTMi8xFXMw0xEDcENIBPCRuxCA3Fml0T4cVr/MlFDIDTyHC+5lfp4ppJ6DR8INM5A7BftYhihJiRb
X-Received: by 2002:a05:690c:3102:b0:63b:d055:6a7f with SMTP id
 00721157ae682-69ec8e7c1c0mr9756327b3.38.1723196695816; 
 Fri, 09 Aug 2024 02:44:55 -0700 (PDT)
Received: from postal.iol.unh.edu (postal.iol.unh.edu.
 [2606:4100:3880:1234::84]) by smtp-relay.gmail.com with ESMTPS id
 00721157ae682-68a168d8814sm16949147b3.73.2024.08.09.02.44.55
 (version=TLS1_2 cipher=ECDHE-ECDSA-AES128-GCM-SHA256 bits=128/128);
 Fri, 09 Aug 2024 02:44:55 -0700 (PDT)
X-Relaying-Domain: iol.unh.edu
Date: Fri, 09 Aug 2024 02:44:55 -0700 (PDT)
Message-ID: <66b5e517.0d0a0220.1a2df8.36f5SMTPIN_ADDED_MISSING@mx.google.com>
Received: from [172.21.0.6] (unknown [172.18.0.240])
 by postal.iol.unh.edu (Postfix) with ESMTP id 720096052500;
 Fri,  9 Aug 2024 05:44:55 -0400 (EDT)
Subject: |PENDING| pw143028-143032 [PATCH] [5/5] eal: simplify eal alarm canc
From: dpdklab@iol.unh.edu
To: Test Report <test-report@dpdk.org>
Cc: dpdk-test-reports@iol.unh.edu
In-Reply-To: <20240808194756.167664-6-stephen@networkplumber.org>
References: <20240808194756.167664-6-stephen@networkplumber.org>
Content-Type: text/plain
X-BeenThere: test-report@dpdk.org
X-Mailman-Version: 2.1.29
Precedence: list
List-Id: automatic DPDK test reports <test-report.dpdk.org>
List-Unsubscribe: <https://mails.dpdk.org/options/test-report>,
 <mailto:test-report-request@dpdk.org?subject=unsubscribe>
List-Archive: <http://mails.dpdk.org/archives/test-report/>
List-Post: <mailto:test-report@dpdk.org>
List-Help: <mailto:test-report-request@dpdk.org?subject=help>
List-Subscribe: <https://mails.dpdk.org/listinfo/test-report>,
 <mailto:test-report-request@dpdk.org?subject=subscribe>
Errors-To: test-report-bounces@dpdk.org

Test-Label: iol-compile-arm64-testing
Test-Status: PENDING
http://dpdk.org/patch/143032

_Testing pending_

Submitter: Stephen Hemminger <stephen@networkplumber.org>
Date: Thursday, August 08 2024 19:47:01 
DPDK git baseline: Repo:dpdk
  Branch: master
  CommitID:cb9187bc5c2b4bab0ad80194ac3b60491de14e8c

143028-143032 --> testing pending

Upstream job id: Generic-DPDK-Compile-Meson#286174

Test environment and result as below:

+----------------------------------------+--------------------+
|              Environment               | dpdk_meson_compile |
+========================================+====================+
| RHEL9 (ARM)                            | PASS               |
+----------------------------------------+--------------------+
| Ubuntu 20.04 ARM GCC Cross Compile     | PASS               |
+----------------------------------------+--------------------+
| Ubuntu 20.04 ARM SVE                   | PASS               |
+----------------------------------------+--------------------+
| Debian 12 with MUSDK                   | PASS               |
+----------------------------------------+--------------------+
| Fedora 37 (ARM)                        | PASS               |
+----------------------------------------+--------------------+
| Fedora 38 (ARM)                        | PASS               |
+----------------------------------------+--------------------+
| Fedora 38 (ARM Clang)                  | PEND               |
+----------------------------------------+--------------------+
| Fedora 39 (ARM)                        | PASS               |
+----------------------------------------+--------------------+
| Fedora 39 (ARM Clang)                  | PEND               |
+----------------------------------------+--------------------+
| Fedora 40 (ARM)                        | PASS               |
+----------------------------------------+--------------------+
| Fedora 40 (ARM Clang)                  | PEND               |
+----------------------------------------+--------------------+
| Ubuntu 20.04 (ARM)                     | PASS               |
+----------------------------------------+--------------------+
| Ubuntu 22.04 (ARM)                     | PASS               |
+----------------------------------------+--------------------+
| Ubuntu 24.04 (ARM)                     | PASS               |
+----------------------------------------+--------------------+
| CentOS Stream 9 (ARM)                  | PASS               |
+----------------------------------------+--------------------+
| Debian 11 (Buster) (ARM)               | PASS               |
+----------------------------------------+--------------------+
| Debian 12 (arm)                        | PASS               |
+----------------------------------------+--------------------+
| Ubuntu 20.04 ARM Clang Cross Compile   | PEND               |
+----------------------------------------+--------------------+
| Ubuntu 20.04 aarch32 GCC Cross Compile | PEND               |
+----------------------------------------+--------------------+


RHEL9 (ARM)
	Kernel: Depends on container host
	Compiler: gcc 11.4.1

Ubuntu 20.04 ARM GCC Cross Compile
	Kernel: 5.4.0-167-generic
	Compiler: aarch64-linux-gnu-gcc (Ubuntu 9.4.0-1ubuntu1~20.04.2) 9.4.0

Ubuntu 20.04 ARM SVE
	Kernel: 5.4.0-167-generic
	Compiler: gcc (Ubuntu 10.5.0-1ubuntu1~20.04) 10.5.0

Debian 12 with MUSDK
	Kernel: Container Host Kernel
	Compiler: gcc 12.2.0

Fedora 37 (ARM)
	Kernel: Depends on container host
	Compiler: gcc 12.3.1

Fedora 38 (ARM)
	Kernel: Depends on container host
	Compiler: gcc 13.2.1

Fedora 38 (ARM Clang)
	Kernel: Depends on container host
	Compiler: clang 16.0.6

Fedora 39 (ARM)
	Kernel: Depends on container host
	Compiler: gcc 13.2.1

Fedora 39 (ARM Clang)
	Kernel: Depends on container host
	Compiler: clang 17.0.6

Fedora 40 (ARM)
	Kernel: Depends on container host
	Compiler: gcc 14.1.1

Fedora 40 (ARM Clang)
	Kernel: Depends on container host
	Compiler: clang 18.1.6

Ubuntu 20.04 (ARM)
	Kernel: Container Host Kernel
	Compiler: gcc 9.4.0

Ubuntu 22.04 (ARM)
	Kernel: Container Host Kernel
	Compiler: gcc 11.4.0

Ubuntu 24.04 (ARM)
	Kernel: 5.4.0-167-generic
	Compiler: gcc 13.2.0

CentOS Stream 9 (ARM)
	Kernel: Container Host Kernel
	Compiler: gcc 11.4.1

Debian 11 (Buster) (ARM)
	Kernel: Container Host Kernel
	Compiler: gcc 10.2.1

Debian 12 (arm)
	Kernel: Container Host Kernel
	Compiler: gcc 12.2.0

Ubuntu 20.04 ARM Clang Cross Compile
	Kernel: 5.4.0-72-generic
	Compiler: clang 10.0.0-4ubuntu1

Ubuntu 20.04 aarch32 GCC Cross Compile
	Kernel: 5.4.0-167-generic
	Compiler: gcc 9.4.0

To view detailed results, visit:
https://lab.dpdk.org/results/dashboard/patchsets/30750/

UNH-IOL DPDK Community Lab

To manage your email subscriptions, visit: 
https://lab.dpdk.org/results/dashboard/preferences/subscriptions/