From mboxrd@z Thu Jan  1 00:00:00 1970
Return-Path: <test-report-bounces@dpdk.org>
Received: from mails.dpdk.org (mails.dpdk.org [217.70.189.124])
	by inbox.dpdk.org (Postfix) with ESMTP id 5084045778
	for <public@inbox.dpdk.org>; Fri,  9 Aug 2024 12:26:15 +0200 (CEST)
Received: from mails.dpdk.org (localhost [127.0.0.1])
	by mails.dpdk.org (Postfix) with ESMTP id 4C95742D78;
	Fri,  9 Aug 2024 12:26:15 +0200 (CEST)
Received: from mail-yw1-f226.google.com (mail-yw1-f226.google.com
 [209.85.128.226])
 by mails.dpdk.org (Postfix) with ESMTP id 71A46402C4
 for <test-report@dpdk.org>; Fri,  9 Aug 2024 12:26:13 +0200 (CEST)
Received: by mail-yw1-f226.google.com with SMTP id
 00721157ae682-685cc5415e8so18652897b3.3
 for <test-report@dpdk.org>; Fri, 09 Aug 2024 03:26:13 -0700 (PDT)
DKIM-Signature: v=1; a=rsa-sha256; c=relaxed/relaxed;
 d=iol.unh.edu; s=unh-iol; t=1723199173; x=1723803973; darn=dpdk.org;
 h=references:in-reply-to:cc:to:from:subject:message-id:date:from:to
 :cc:subject:date:message-id:reply-to;
 bh=y+zgc7JjryXQxWarCE0vpJPV9W2Wsw/QIp2YUW/YQAE=;
 b=T1hECo2F1w1fG+QFMgIwP19lv/ydzF5VO4nrwxg/PiA0WCAljqSvTUwTOA/qjU07ym
 z6jAZUCj61+c+7o60pNnbsoXHUdW1Uw4fxSxKNUMt4vToo+iXbsRj3cj2Os4EdWLCWI2
 qVCMed0Bn4BQnjOSE3Qj1V8zm4I71W/W75Yog=
X-Google-DKIM-Signature: v=1; a=rsa-sha256; c=relaxed/relaxed;
 d=1e100.net; s=20230601; t=1723199173; x=1723803973;
 h=references:in-reply-to:cc:to:from:subject:message-id:date
 :x-gm-message-state:from:to:cc:subject:date:message-id:reply-to;
 bh=y+zgc7JjryXQxWarCE0vpJPV9W2Wsw/QIp2YUW/YQAE=;
 b=Szl/MpOylHAGvdRBHYHW9Rl9AORazroKpCDsHMfXIog0aBUhZEeZ+pxViuVrUhrJBp
 UVQxXsTfYgwTvcPFzjNswfXGrd56bCE6RJWIxBEFwiKLpvHwYz7uTxlGeowE272DzZRe
 ABLXnx6j9ZFIEQkaW4rPBEBxLkqYVT6ejWk1I10oeZBqURf4pPfvY3KErKTgp7w/4/as
 dpKHoyYz/1p/VGIicv6jR8lC6KXukzyTGYf1PkQojrlkpH/6MZ0gZemGzf9/gueOu+7Y
 0uLIxTrneGrawWK8YgkcYcfsaQpkgB/cqk6PTTymoPpDp8z8g79eEliwLSTycV50xo9n
 h3JA==
X-Gm-Message-State: AOJu0YxYCoWtpd8eWoM88v2LX6xBsGiHvOb1Curb96z+uVoYx7Ek/hCq
 MBVJqgbqGkFCnIpL33UFfm7BLL0gmP39oEH9SawcZOhTssdu35viegdth3L/J95wmOmiDbhr2FY
 TUk7cqbhyoLPTzhdxaHer1CW0y1IGn6Su/Yzt1wZFZeBt+g1n61Z/H8Y+
X-Google-Smtp-Source: AGHT+IGeHSlY0YPwBlnSzPJ+x10ppDhQLlADMGK5Oi5XwwXThYxTgt8B24QfINOIrYytsEjdGZsx1dK8xmxy
X-Received: by 2002:a05:690c:6710:b0:64a:3d6c:476d with SMTP id
 00721157ae682-69ec67f4298mr10885797b3.25.1723199172800; 
 Fri, 09 Aug 2024 03:26:12 -0700 (PDT)
Received: from postal.iol.unh.edu (postal.iol.unh.edu.
 [2606:4100:3880:1234::84]) by smtp-relay.gmail.com with ESMTPS id
 00721157ae682-68a15c538f1sm16469147b3.56.2024.08.09.03.26.12
 (version=TLS1_2 cipher=ECDHE-ECDSA-AES128-GCM-SHA256 bits=128/128);
 Fri, 09 Aug 2024 03:26:12 -0700 (PDT)
X-Relaying-Domain: iol.unh.edu
Date: Fri, 09 Aug 2024 03:26:12 -0700 (PDT)
Message-ID: <66b5eec4.0d0a0220.25aff6.2215SMTPIN_ADDED_MISSING@mx.google.com>
Received: from [172.17.0.3] (unknown [172.18.0.217])
 by postal.iol.unh.edu (Postfix) with ESMTP id 71B766052500;
 Fri,  9 Aug 2024 06:26:12 -0400 (EDT)
Subject: |PENDING| pw143028-143032 [PATCH] [5/5] eal: simplify eal alarm canc
From: dpdklab@iol.unh.edu
To: Test Report <test-report@dpdk.org>
Cc: dpdk-test-reports@iol.unh.edu
In-Reply-To: <20240808194756.167664-6-stephen@networkplumber.org>
References: <20240808194756.167664-6-stephen@networkplumber.org>
Content-Type: text/plain
X-BeenThere: test-report@dpdk.org
X-Mailman-Version: 2.1.29
Precedence: list
List-Id: automatic DPDK test reports <test-report.dpdk.org>
List-Unsubscribe: <https://mails.dpdk.org/options/test-report>,
 <mailto:test-report-request@dpdk.org?subject=unsubscribe>
List-Archive: <http://mails.dpdk.org/archives/test-report/>
List-Post: <mailto:test-report@dpdk.org>
List-Help: <mailto:test-report-request@dpdk.org?subject=help>
List-Subscribe: <https://mails.dpdk.org/listinfo/test-report>,
 <mailto:test-report-request@dpdk.org?subject=subscribe>
Errors-To: test-report-bounces@dpdk.org

Test-Label: iol-unit-arm64-testing
Test-Status: PENDING
http://dpdk.org/patch/143032

_Testing pending_

Submitter: Stephen Hemminger <stephen@networkplumber.org>
Date: Thursday, August 08 2024 19:47:01 
DPDK git baseline: Repo:dpdk
  Branch: master
  CommitID:cb9187bc5c2b4bab0ad80194ac3b60491de14e8c

143028-143032 --> testing pending

Upstream job id: Generic-Unit-Test-DPDK#250247

Test environment and result as below:

+-----------------------------+----------------+--------------+---------------------------+------------------------------+
|         Environment         | dpdk_unit_test | lpm_autotest | cryptodev_sw_zuc_autotest | cryptodev_sw_snow3g_autotest |
+=============================+================+==============+===========================+==============================+
| CentOS Stream 9 (ARM)       | PASS           | SKIPPED      | SKIPPED                   | SKIPPED                      |
+-----------------------------+----------------+--------------+---------------------------+------------------------------+
| Debian 11 (Buster) (ARM)    | PASS           | SKIPPED      | SKIPPED                   | SKIPPED                      |
+-----------------------------+----------------+--------------+---------------------------+------------------------------+
| Debian 12 (arm)             | PASS           | SKIPPED      | PASS                      | PEND                         |
+-----------------------------+----------------+--------------+---------------------------+------------------------------+
| 32-bit Ubuntu 20.04.4 (ARM) | PEND           | SKIPPED      | SKIPPED                   | SKIPPED                      |
+-----------------------------+----------------+--------------+---------------------------+------------------------------+
| Fedora 37 (ARM)             | PEND           | SKIPPED      | SKIPPED                   | SKIPPED                      |
+-----------------------------+----------------+--------------+---------------------------+------------------------------+
| Fedora 38 (ARM)             | PEND           | SKIPPED      | SKIPPED                   | SKIPPED                      |
+-----------------------------+----------------+--------------+---------------------------+------------------------------+
| Fedora 38 (ARM Clang)       | PEND           | SKIPPED      | SKIPPED                   | SKIPPED                      |
+-----------------------------+----------------+--------------+---------------------------+------------------------------+
| Fedora 39 (ARM)             | PEND           | SKIPPED      | SKIPPED                   | SKIPPED                      |
+-----------------------------+----------------+--------------+---------------------------+------------------------------+
| Fedora 39 (ARM Clang)       | PEND           | SKIPPED      | SKIPPED                   | SKIPPED                      |
+-----------------------------+----------------+--------------+---------------------------+------------------------------+
| Fedora 40 (ARM)             | PEND           | SKIPPED      | SKIPPED                   | SKIPPED                      |
+-----------------------------+----------------+--------------+---------------------------+------------------------------+
| Fedora 40 (ARM Clang)       | PEND           | SKIPPED      | SKIPPED                   | SKIPPED                      |
+-----------------------------+----------------+--------------+---------------------------+------------------------------+
| RHEL9 (ARM)                 | PEND           | SKIPPED      | SKIPPED                   | SKIPPED                      |
+-----------------------------+----------------+--------------+---------------------------+------------------------------+
| Ubuntu 20.04 (ARM)          | PEND           | SKIPPED      | SKIPPED                   | SKIPPED                      |
+-----------------------------+----------------+--------------+---------------------------+------------------------------+
| Ubuntu 20.04 ARM SVE        | SKIPPED        | PASS         | SKIPPED                   | SKIPPED                      |
+-----------------------------+----------------+--------------+---------------------------+------------------------------+


CentOS Stream 9 (ARM)
	Kernel: Container Host Kernel
	Compiler: gcc 11.4.1

Debian 11 (Buster) (ARM)
	Kernel: Container Host Kernel
	Compiler: gcc 10.2.1

Debian 12 (arm)
	Kernel: Container Host Kernel
	Compiler: gcc 12.2.0

32-bit Ubuntu 20.04.4 (ARM)
	Kernel: 5.4.0-155-generic aarch64
	Compiler: gcc 9.4

Fedora 37 (ARM)
	Kernel: Depends on container host
	Compiler: gcc 12.3.1

Fedora 38 (ARM)
	Kernel: Depends on container host
	Compiler: gcc 13.2.1

Fedora 38 (ARM Clang)
	Kernel: Depends on container host
	Compiler: clang 16.0.6

Fedora 39 (ARM)
	Kernel: Depends on container host
	Compiler: gcc 13.2.1

Fedora 39 (ARM Clang)
	Kernel: Depends on container host
	Compiler: clang 17.0.6

Fedora 40 (ARM)
	Kernel: Depends on container host
	Compiler: gcc 14.1.1

Fedora 40 (ARM Clang)
	Kernel: Depends on container host
	Compiler: clang 18.1.6

RHEL9 (ARM)
	Kernel: Depends on container host
	Compiler: gcc 11.4.1

Ubuntu 20.04 (ARM)
	Kernel: Container Host Kernel
	Compiler: gcc 9.4.0

Ubuntu 20.04 ARM SVE
	Kernel: 5.4.0-167-generic
	Compiler: gcc (Ubuntu 10.5.0-1ubuntu1~20.04) 10.5.0

To view detailed results, visit:
https://lab.dpdk.org/results/dashboard/patchsets/30750/

UNH-IOL DPDK Community Lab

To manage your email subscriptions, visit: 
https://lab.dpdk.org/results/dashboard/preferences/subscriptions/