From mboxrd@z Thu Jan  1 00:00:00 1970
Return-Path: <test-report-bounces@dpdk.org>
Received: from mails.dpdk.org (mails.dpdk.org [217.70.189.124])
	by inbox.dpdk.org (Postfix) with ESMTP id 93DC84577C
	for <public@inbox.dpdk.org>; Fri,  9 Aug 2024 20:15:59 +0200 (CEST)
Received: from mails.dpdk.org (localhost [127.0.0.1])
	by mails.dpdk.org (Postfix) with ESMTP id 8F24942E54;
	Fri,  9 Aug 2024 20:15:59 +0200 (CEST)
Received: from mail-oi1-f228.google.com (mail-oi1-f228.google.com
 [209.85.167.228])
 by mails.dpdk.org (Postfix) with ESMTP id 44A6442DE9
 for <test-report@dpdk.org>; Fri,  9 Aug 2024 20:15:58 +0200 (CEST)
Received: by mail-oi1-f228.google.com with SMTP id
 5614622812f47-3dab336717fso1570991b6e.0
 for <test-report@dpdk.org>; Fri, 09 Aug 2024 11:15:58 -0700 (PDT)
DKIM-Signature: v=1; a=rsa-sha256; c=relaxed/relaxed;
 d=iol.unh.edu; s=unh-iol; t=1723227357; x=1723832157; darn=dpdk.org;
 h=references:in-reply-to:cc:to:from:subject:message-id:date:from:to
 :cc:subject:date:message-id:reply-to;
 bh=tV3rKBv8ybGlyoQ4nK0mdxc4zxxK4VE+DN3tb/n2SaU=;
 b=OtpK3u4UFrm2srCCKMpHO6HkouKh7TaihoYrQViTHDk8n/6h0K8yxdnO1mKa59n1xR
 46ntqDMNDSpxzNjwP15S59DNJWKQaGr+xyTZ7bnz3D3NhqjxddSJb4Kl62Bhpw2QmWz0
 djIxdv9EQ/bVztWqm/Z0CSVXoTBdX+Yi+FZ2I=
X-Google-DKIM-Signature: v=1; a=rsa-sha256; c=relaxed/relaxed;
 d=1e100.net; s=20230601; t=1723227357; x=1723832157;
 h=references:in-reply-to:cc:to:from:subject:message-id:date
 :x-gm-message-state:from:to:cc:subject:date:message-id:reply-to;
 bh=tV3rKBv8ybGlyoQ4nK0mdxc4zxxK4VE+DN3tb/n2SaU=;
 b=DBixpFm9VXcGmkHYP+UrZjZEkUFlXdcXAzeHPGhgntytLVMcX/z+bf9PRbhrejALj4
 MYmN4Zj1kI/R8XWx+CYDiFVoOjeImS1iUnxdjkdi5wjtKFlAmSUGMBOHskLTjYiUdNAc
 +aRCFV/KsWmejLE3shNismwq374rMuHE/aSmliv/UJo4Mu9jrxy/dlV7qzivoOGd7omb
 wlIDdiDwG8xFf8YHwRBaNx5ZSKI+A9/lS2sQS41LwVSQwK7v97IJEOfbko9sN1b+v/9W
 NG8uz55lUaeGa34kzqeQpKbJAlST25T5fL9wM8RZXi8GmGmcrvEq3FqUwqCIrYb4VtO3
 7ySQ==
X-Gm-Message-State: AOJu0Yz8mbApgyMPpXzO2wtrwzvo58sHI5XQiwFT+pBo2nUiM+27PCs+
 atd3hqhD+OKs3OyhG37l6qa5JDByFFEJI6tLTpvuHoBWE6EdbjOlvH3ntvPsUtoKMX8ScUzY2yQ
 fuFhKyeZ2dzHNtoEqfacfO5/04SVVxSqv0u17rr5MnSID2e2hgtT7xgog
X-Google-Smtp-Source: AGHT+IGvaikWIaOojLY9wNYPUZ5iERsteSVc6B/6E1qG7IXm2P6lFAmMzHFOq3e7FEeexqdHYdHf2iEH3tOR
X-Received: by 2002:a05:6808:4498:b0:3da:a0a5:a26a with SMTP id
 5614622812f47-3dc41689b3bmr3422766b6e.20.1723227357445; 
 Fri, 09 Aug 2024 11:15:57 -0700 (PDT)
Received: from postal.iol.unh.edu (postal.iol.unh.edu.
 [2606:4100:3880:1234::84]) by smtp-relay.gmail.com with ESMTPS id
 af79cd13be357-7a4c7e083bfsm166785a.7.2024.08.09.11.15.57
 (version=TLS1_2 cipher=ECDHE-ECDSA-AES128-GCM-SHA256 bits=128/128);
 Fri, 09 Aug 2024 11:15:57 -0700 (PDT)
X-Relaying-Domain: iol.unh.edu
Date: Fri, 09 Aug 2024 11:15:57 -0700 (PDT)
Message-ID: <66b65cdd.050a0220.214792.01d7SMTPIN_ADDED_MISSING@mx.google.com>
Received: from [172.21.0.8] (unknown [172.18.0.240])
 by postal.iol.unh.edu (Postfix) with ESMTP id 233A6605C351;
 Fri,  9 Aug 2024 14:15:57 -0400 (EDT)
Subject: |PENDING| pw143034-143036 [PATCH] [v3,3/3] net/enic: allow multicast
From: dpdklab@iol.unh.edu
To: Test Report <test-report@dpdk.org>
Cc: dpdk-test-reports@iol.unh.edu
In-Reply-To: <20240809070754.26128-4-hyonkim@cisco.com>
References: <20240809070754.26128-4-hyonkim@cisco.com>
Content-Type: text/plain
X-BeenThere: test-report@dpdk.org
X-Mailman-Version: 2.1.29
Precedence: list
List-Id: automatic DPDK test reports <test-report.dpdk.org>
List-Unsubscribe: <https://mails.dpdk.org/options/test-report>,
 <mailto:test-report-request@dpdk.org?subject=unsubscribe>
List-Archive: <http://mails.dpdk.org/archives/test-report/>
List-Post: <mailto:test-report@dpdk.org>
List-Help: <mailto:test-report-request@dpdk.org?subject=help>
List-Subscribe: <https://mails.dpdk.org/listinfo/test-report>,
 <mailto:test-report-request@dpdk.org?subject=subscribe>
Errors-To: test-report-bounces@dpdk.org

Test-Label: iol-compile-arm64-testing
Test-Status: PENDING
http://dpdk.org/patch/143036

_Testing pending_

Submitter: Hyong Youb Kim <hyonkim@cisco.com>
Date: Friday, August 09 2024 07:07:54 
DPDK git baseline: Repo:dpdk
  Branch: master
  CommitID:e0f7ebe88ab4588dd352e9ec14270ce4e3b1470b

143034-143036 --> testing pending

Upstream job id: Generic-DPDK-Compile-Meson#286373

Test environment and result as below:

+----------------------------------------+--------------------+
|              Environment               | dpdk_meson_compile |
+========================================+====================+
| RHEL9 (ARM)                            | PASS               |
+----------------------------------------+--------------------+
| Ubuntu 20.04 ARM GCC Cross Compile     | PEND               |
+----------------------------------------+--------------------+
| Ubuntu 20.04 ARM SVE                   | PASS               |
+----------------------------------------+--------------------+
| Debian 12 with MUSDK                   | PASS               |
+----------------------------------------+--------------------+
| Fedora 37 (ARM)                        | PASS               |
+----------------------------------------+--------------------+
| Fedora 38 (ARM)                        | PASS               |
+----------------------------------------+--------------------+
| Fedora 38 (ARM Clang)                  | PEND               |
+----------------------------------------+--------------------+
| Fedora 39 (ARM)                        | PEND               |
+----------------------------------------+--------------------+
| Fedora 39 (ARM Clang)                  | PEND               |
+----------------------------------------+--------------------+
| Fedora 40 (ARM)                        | PEND               |
+----------------------------------------+--------------------+
| Fedora 40 (ARM Clang)                  | PEND               |
+----------------------------------------+--------------------+
| Ubuntu 20.04 (ARM)                     | PEND               |
+----------------------------------------+--------------------+
| Ubuntu 22.04 (ARM)                     | PEND               |
+----------------------------------------+--------------------+
| Ubuntu 24.04 (ARM)                     | PEND               |
+----------------------------------------+--------------------+
| CentOS Stream 9 (ARM)                  | PEND               |
+----------------------------------------+--------------------+
| Debian 11 (Buster) (ARM)               | PEND               |
+----------------------------------------+--------------------+
| Debian 12 (arm)                        | PEND               |
+----------------------------------------+--------------------+
| Ubuntu 20.04 ARM Clang Cross Compile   | PEND               |
+----------------------------------------+--------------------+
| Ubuntu 20.04 aarch32 GCC Cross Compile | PEND               |
+----------------------------------------+--------------------+


RHEL9 (ARM)
	Kernel: Depends on container host
	Compiler: gcc 11.4.1

Ubuntu 20.04 ARM GCC Cross Compile
	Kernel: 5.4.0-167-generic
	Compiler: aarch64-linux-gnu-gcc (Ubuntu 9.4.0-1ubuntu1~20.04.2) 9.4.0

Ubuntu 20.04 ARM SVE
	Kernel: 5.4.0-167-generic
	Compiler: gcc (Ubuntu 10.5.0-1ubuntu1~20.04) 10.5.0

Debian 12 with MUSDK
	Kernel: Container Host Kernel
	Compiler: gcc 12.2.0

Fedora 37 (ARM)
	Kernel: Depends on container host
	Compiler: gcc 12.3.1

Fedora 38 (ARM)
	Kernel: Depends on container host
	Compiler: gcc 13.2.1

Fedora 38 (ARM Clang)
	Kernel: Depends on container host
	Compiler: clang 16.0.6

Fedora 39 (ARM)
	Kernel: Depends on container host
	Compiler: gcc 13.2.1

Fedora 39 (ARM Clang)
	Kernel: Depends on container host
	Compiler: clang 17.0.6

Fedora 40 (ARM)
	Kernel: Depends on container host
	Compiler: gcc 14.1.1

Fedora 40 (ARM Clang)
	Kernel: Depends on container host
	Compiler: clang 18.1.6

Ubuntu 20.04 (ARM)
	Kernel: Container Host Kernel
	Compiler: gcc 9.4.0

Ubuntu 22.04 (ARM)
	Kernel: Container Host Kernel
	Compiler: gcc 11.4.0

Ubuntu 24.04 (ARM)
	Kernel: 5.4.0-167-generic
	Compiler: gcc 13.2.0

CentOS Stream 9 (ARM)
	Kernel: Container Host Kernel
	Compiler: gcc 11.4.1

Debian 11 (Buster) (ARM)
	Kernel: Container Host Kernel
	Compiler: gcc 10.2.1

Debian 12 (arm)
	Kernel: Container Host Kernel
	Compiler: gcc 12.2.0

Ubuntu 20.04 ARM Clang Cross Compile
	Kernel: 5.4.0-72-generic
	Compiler: clang 10.0.0-4ubuntu1

Ubuntu 20.04 aarch32 GCC Cross Compile
	Kernel: 5.4.0-167-generic
	Compiler: gcc 9.4.0

To view detailed results, visit:
https://lab.dpdk.org/results/dashboard/patchsets/30752/

UNH-IOL DPDK Community Lab

To manage your email subscriptions, visit: 
https://lab.dpdk.org/results/dashboard/preferences/subscriptions/