From mboxrd@z Thu Jan  1 00:00:00 1970
Return-Path: <test-report-bounces@dpdk.org>
Received: from mails.dpdk.org (mails.dpdk.org [217.70.189.124])
	by inbox.dpdk.org (Postfix) with ESMTP id E69E94577C
	for <public@inbox.dpdk.org>; Fri,  9 Aug 2024 20:50:13 +0200 (CEST)
Received: from mails.dpdk.org (localhost [127.0.0.1])
	by mails.dpdk.org (Postfix) with ESMTP id E2905432C6;
	Fri,  9 Aug 2024 20:50:13 +0200 (CEST)
Received: from mail-yw1-f228.google.com (mail-yw1-f228.google.com
 [209.85.128.228])
 by mails.dpdk.org (Postfix) with ESMTP id AF2DD40291
 for <test-report@dpdk.org>; Fri,  9 Aug 2024 20:50:12 +0200 (CEST)
Received: by mail-yw1-f228.google.com with SMTP id
 00721157ae682-65f9708c50dso24644877b3.2
 for <test-report@dpdk.org>; Fri, 09 Aug 2024 11:50:12 -0700 (PDT)
DKIM-Signature: v=1; a=rsa-sha256; c=relaxed/relaxed;
 d=iol.unh.edu; s=unh-iol; t=1723229412; x=1723834212; darn=dpdk.org;
 h=references:in-reply-to:cc:to:from:subject:message-id:date:from:to
 :cc:subject:date:message-id:reply-to;
 bh=rOcXz2A9eVL8JBhvyG+z6W1J2EhxYrGnLi1H3a4aci4=;
 b=F4yXjJoPdZF75bzhwWdv/TlaIHTqrMh/tMx5phKLruJ42Z8kQRpHxXJKbkLUGtd5db
 iVjxM9HVtcu8xoB3fgcilqQ60JbxFLVrthRRM6tgKFYnv5kLopvK7oGobCE39b4yiqqz
 p3zFFCsZR1vAzONjSmHDyzhFZO1A0JVpIyCw0=
X-Google-DKIM-Signature: v=1; a=rsa-sha256; c=relaxed/relaxed;
 d=1e100.net; s=20230601; t=1723229412; x=1723834212;
 h=references:in-reply-to:cc:to:from:subject:message-id:date
 :x-gm-message-state:from:to:cc:subject:date:message-id:reply-to;
 bh=rOcXz2A9eVL8JBhvyG+z6W1J2EhxYrGnLi1H3a4aci4=;
 b=amH+6ADLUvPeeDO5ZZsgut/x3Hr0y+H63HIRgnd4EVNnGfi65/FZ33lAApz6yKdpKJ
 p/3ugkzrD4HXTj3X8/EKbJk1H7vIL047Kjwnnn6q7voXMSv+xB7eLBQtVx9Q80CpRbmF
 JrWbhnzhbj6cNc8m39pi5ckU3Fii89DkKwhvW8wdIRvKrlCrYmJcWuF6bEpNIEkBL6R7
 TlG8f1SM3ZbcqhA3/3RQuT60212y3wxmakL9oVpdaM2J5y/wFumzRjGl4XIn/iTbwwX4
 fZmazPj1PkJ5u2iHZoXQrTmHMzDGlUxA58PdORsRjuyUOBh+SsxW/9RRdFMaPxmx5gOj
 drkw==
X-Gm-Message-State: AOJu0YxIWERNdUhCs7fl7ABa1dbS5KMKkTx5nfw9VgI3Ay0oplREMzhr
 /fnqT3ptngRr7eF5YEGwUA+y1ILNtnAC0vHIIrTz89vdD+TDaob94sXv6+qxktoWUhbEqzE7IcM
 uRpEF3p7Teisdlr4wD4Hdtb5uH7ieMHsCF7+JIktmdeUj0BnGMDWFGDoh
X-Google-Smtp-Source: AGHT+IFsZ59nKIzeXTqCW+xL6xMCdbs7wu0PrS+3WiVGcsx5PaeuQHNK3Lia2Yb7LDSQwsfjM5nhyHt1mTCH
X-Received: by 2002:a05:690c:82:b0:643:aef1:fb9d with SMTP id
 00721157ae682-69ec4c0465amr39916107b3.4.1723229412155; 
 Fri, 09 Aug 2024 11:50:12 -0700 (PDT)
Received: from postal.iol.unh.edu (postal.iol.unh.edu.
 [2606:4100:3880:1234::84]) by smtp-relay.gmail.com with ESMTPS id
 00721157ae682-6a0a3c759cbsm12707b3.61.2024.08.09.11.50.12
 (version=TLS1_2 cipher=ECDHE-ECDSA-AES128-GCM-SHA256 bits=128/128);
 Fri, 09 Aug 2024 11:50:12 -0700 (PDT)
X-Relaying-Domain: iol.unh.edu
Date: Fri, 09 Aug 2024 11:50:12 -0700 (PDT)
Message-ID: <66b664e4.0d0a0220.ccc6e.0146SMTPIN_ADDED_MISSING@mx.google.com>
Received: from [172.21.0.9] (unknown [172.18.0.240])
 by postal.iol.unh.edu (Postfix) with ESMTP id CB8B1605C351;
 Fri,  9 Aug 2024 14:50:11 -0400 (EDT)
Subject: |PENDING| pw143034-143036 [PATCH] [v3,3/3] net/enic: allow multicast
From: dpdklab@iol.unh.edu
To: Test Report <test-report@dpdk.org>
Cc: dpdk-test-reports@iol.unh.edu
In-Reply-To: <20240809070754.26128-4-hyonkim@cisco.com>
References: <20240809070754.26128-4-hyonkim@cisco.com>
Content-Type: text/plain
X-BeenThere: test-report@dpdk.org
X-Mailman-Version: 2.1.29
Precedence: list
List-Id: automatic DPDK test reports <test-report.dpdk.org>
List-Unsubscribe: <https://mails.dpdk.org/options/test-report>,
 <mailto:test-report-request@dpdk.org?subject=unsubscribe>
List-Archive: <http://mails.dpdk.org/archives/test-report/>
List-Post: <mailto:test-report@dpdk.org>
List-Help: <mailto:test-report-request@dpdk.org?subject=help>
List-Subscribe: <https://mails.dpdk.org/listinfo/test-report>,
 <mailto:test-report-request@dpdk.org?subject=subscribe>
Errors-To: test-report-bounces@dpdk.org

Test-Label: iol-unit-amd64-testing
Test-Status: PENDING
http://dpdk.org/patch/143036

_Testing pending_

Submitter: Hyong Youb Kim <hyonkim@cisco.com>
Date: Friday, August 09 2024 07:07:54 
DPDK git baseline: Repo:dpdk
  Branch: master
  CommitID:e0f7ebe88ab4588dd352e9ec14270ce4e3b1470b

143034-143036 --> testing pending

Upstream job id: Generic-Unit-Test-DPDK#250409

Test environment and result as below:

+---------------------+----------------+
|     Environment     | dpdk_unit_test |
+=====================+================+
| CentOS Stream 9     | PASS           |
+---------------------+----------------+
| Debian Bullseye     | PASS           |
+---------------------+----------------+
| Fedora 37           | PASS           |
+---------------------+----------------+
| Debian 12           | PASS           |
+---------------------+----------------+
| Windows Server 2022 | PEND           |
+---------------------+----------------+
| Fedora 38 (Clang)   | PASS           |
+---------------------+----------------+
| Windows Server 2019 | PASS           |
+---------------------+----------------+
| Fedora 39 (Clang)   | PASS           |
+---------------------+----------------+
| openSUSE Leap 15    | PASS           |
+---------------------+----------------+
| RHEL9               | PASS           |
+---------------------+----------------+
| RHEL8               | PASS           |
+---------------------+----------------+
| Ubuntu 20.04        | PASS           |
+---------------------+----------------+
| Ubuntu 22.04        | PASS           |
+---------------------+----------------+
| Ubuntu 24.04        | PASS           |
+---------------------+----------------+
| Fedora 39           | PEND           |
+---------------------+----------------+
| Fedora 40 (Clang)   | PEND           |
+---------------------+----------------+


CentOS Stream 9
	Kernel: 5.4.0-167-generic
	Compiler: gcc 11.4.1 20230605

Debian Bullseye
	Kernel: 5.4.0-167-generic
	Compiler: gcc 10.2.1-6

Fedora 37
	Kernel: Depends on container host system
	Compiler: gcc 12.3.1

Debian 12
	Kernel: Container Host Kernel
	Compiler: gcc 12.2.0

Windows Server 2022
	Kernel: 10.0.20348.2031
	Compiler: clang 15.0.7, gcc 8.1.0 (MinGW), and MSVC VS 17.9

Fedora 38 (Clang)
	Kernel: Depends on container host
	Compiler: clang 16.0.6

Windows Server 2019
	Kernel: 10.0.17763
	Compiler: clang 14.0 and gcc 8.1.0 (MinGW)

Fedora 39 (Clang)
	Kernel: Depends on container host
	Compiler: clang 17.0.6

openSUSE Leap 15
	Kernel: 5.4.0-167-generic
	Compiler: gcc 7.5.0

RHEL9
	Kernel: Depends on container host
	Compiler: gcc 11.4.1

RHEL8
	Kernel: 5.4.0-167-generic
	Compiler: gcc 8.5.0 20210514 (Red Hat 8.5.0-20)

Ubuntu 20.04
	Kernel: 5.4.0-167-generic
	Compiler: gcc 9.4.0-1ubuntu1~20.04.1

Ubuntu 22.04
	Kernel: 5.4.0-167-generic
	Compiler: gcc 11.4.0

Ubuntu 24.04
	Kernel: 5.4.0-167-generic
	Compiler: gcc 13.2.0

Fedora 39
	Kernel: Depends on container host
	Compiler: gcc 13.2.1

Fedora 40 (Clang)
	Kernel: Depends on container host
	Compiler: clang 18.1.6

To view detailed results, visit:
https://lab.dpdk.org/results/dashboard/patchsets/30752/

UNH-IOL DPDK Community Lab

To manage your email subscriptions, visit: 
https://lab.dpdk.org/results/dashboard/preferences/subscriptions/