From mboxrd@z Thu Jan  1 00:00:00 1970
Return-Path: <test-report-bounces@dpdk.org>
Received: from mails.dpdk.org (mails.dpdk.org [217.70.189.124])
	by inbox.dpdk.org (Postfix) with ESMTP id 581634577C
	for <public@inbox.dpdk.org>; Fri,  9 Aug 2024 21:22:24 +0200 (CEST)
Received: from mails.dpdk.org (localhost [127.0.0.1])
	by mails.dpdk.org (Postfix) with ESMTP id 50DF442E5C;
	Fri,  9 Aug 2024 21:22:24 +0200 (CEST)
Received: from mail-oo1-f100.google.com (mail-oo1-f100.google.com
 [209.85.161.100])
 by mails.dpdk.org (Postfix) with ESMTP id DDBA542E56
 for <test-report@dpdk.org>; Fri,  9 Aug 2024 21:22:22 +0200 (CEST)
Received: by mail-oo1-f100.google.com with SMTP id
 006d021491bc7-5d5af743b8fso1403643eaf.3
 for <test-report@dpdk.org>; Fri, 09 Aug 2024 12:22:22 -0700 (PDT)
DKIM-Signature: v=1; a=rsa-sha256; c=relaxed/relaxed;
 d=iol.unh.edu; s=unh-iol; t=1723231342; x=1723836142; darn=dpdk.org;
 h=references:in-reply-to:cc:to:from:subject:message-id:date:from:to
 :cc:subject:date:message-id:reply-to;
 bh=J5PwGhByoFRmURibvsV/uuKV7kDdJNJbquXMNVPzJsA=;
 b=Bgmed0t0u1Uw/EkOtMsWjLdpxuGTRJoPuuBDvwb3fLvk2UTqCKkHInODxgciyUoiTx
 hqn9kJq3aoUMSyLgd9pi8yGW+f0K/TMnrxziG7Oi2ccGd5UJlYumNnSz220url+uzqlU
 Y2zhnBd35JY3HYMn1nUMK53a2hSsZQkuWXbl0=
X-Google-DKIM-Signature: v=1; a=rsa-sha256; c=relaxed/relaxed;
 d=1e100.net; s=20230601; t=1723231342; x=1723836142;
 h=references:in-reply-to:cc:to:from:subject:message-id:date
 :x-gm-message-state:from:to:cc:subject:date:message-id:reply-to;
 bh=J5PwGhByoFRmURibvsV/uuKV7kDdJNJbquXMNVPzJsA=;
 b=slS4UG1Woh1eZgIOCkgsaYjtElFHIXf9AANB+kdCLbBv7aPmQ+gPAldgUqu2cmybGq
 vpsURk5XmD6AR1FF8f1lEwXxF6EVABJfoNrhz2xUGNPp6R2FNW3brapM29/Jjnj2LQ0u
 IFVM57B9W2JkmwwomvYNZsNsu1uVRkD5+HSMEyuVZ5uFxdxE2aNTVkL4WtzYIlWKQg0j
 YBpYV/Vqvc6Hr8iO9GRHgSJqUXVbWwyw3ArErlIQXVBY3qULY44c2XBAqLdzGwdZ8aZj
 6jU2bGL/Ca45aKlowYonlAX/Qi9zsUs0QmDsKMQ8NQ1a53gtVhqXGUeqy4q4nUgqczty
 OjtA==
X-Gm-Message-State: AOJu0Yx4HNubyTV5eQ0gC+MvhbAnWGRF4knT+8d2fk/PluGYceWzCz6e
 K9jp2/sfsPa40fbKaYdYp+EKKV4G+L6kwWuaakzce6ZZ9ro7PffEnCMvBREqGc2SVivoVPxZLZY
 90ofjnDwXKdZNYOJRSO7j5BpbQs3AtauuUpq/CZmw
X-Google-Smtp-Source: AGHT+IGz3vTkwx0veMUG+7YpRr4wQNq73JoSztOH6TZoywLMU8Y/aNElibCvG2ucQuqQvl4fG6B4aC9UNXZn
X-Received: by 2002:a05:6358:41a1:b0:1ac:f13e:49ab with SMTP id
 e5c5f4694b2df-1b1771e3642mr270877655d.26.1723231341955; 
 Fri, 09 Aug 2024 12:22:21 -0700 (PDT)
Received: from postal.iol.unh.edu (postal.iol.unh.edu. [132.177.123.84])
 by smtp-relay.gmail.com with ESMTPS id
 00721157ae682-6a0a0878888sm43497b3.29.2024.08.09.12.22.21
 (version=TLS1_2 cipher=ECDHE-ECDSA-AES128-GCM-SHA256 bits=128/128);
 Fri, 09 Aug 2024 12:22:21 -0700 (PDT)
X-Relaying-Domain: iol.unh.edu
Date: Fri, 09 Aug 2024 12:22:21 -0700 (PDT)
Message-ID: <66b66c6d.0d0a0220.e18db.04c1SMTPIN_ADDED_MISSING@mx.google.com>
Received: from [172.21.0.7] (unknown [172.18.0.240])
 by postal.iol.unh.edu (Postfix) with ESMTP id 9E609605C351;
 Fri,  9 Aug 2024 15:22:21 -0400 (EDT)
Subject: |PENDING| pw143049 [PATCH] net/bnxt: fix issue reading sff8436 sfp e
From: dpdklab@iol.unh.edu
To: Test Report <test-report@dpdk.org>
Cc: dpdk-test-reports@iol.unh.edu
In-Reply-To: <20240809102115.629429-1-pdmorrow@gmail.com>
References: <20240809102115.629429-1-pdmorrow@gmail.com>
Content-Type: text/plain
X-BeenThere: test-report@dpdk.org
X-Mailman-Version: 2.1.29
Precedence: list
List-Id: automatic DPDK test reports <test-report.dpdk.org>
List-Unsubscribe: <https://mails.dpdk.org/options/test-report>,
 <mailto:test-report-request@dpdk.org?subject=unsubscribe>
List-Archive: <http://mails.dpdk.org/archives/test-report/>
List-Post: <mailto:test-report@dpdk.org>
List-Help: <mailto:test-report-request@dpdk.org?subject=help>
List-Subscribe: <https://mails.dpdk.org/listinfo/test-report>,
 <mailto:test-report-request@dpdk.org?subject=subscribe>
Errors-To: test-report-bounces@dpdk.org

Test-Label: iol-unit-amd64-testing
Test-Status: PENDING
http://dpdk.org/patch/143049

_Testing pending_

Submitter: Peter Morrow <pdmorrow@gmail.com>
Date: Friday, August 09 2024 10:21:15 
DPDK git baseline: Repo:dpdk
  Branch: master
  CommitID:b3485f4293997d35b6daecc3437bb0c183a51fb3

143049 --> testing pending

Upstream job id: Generic-Unit-Test-DPDK#250462

Test environment and result as below:

+-------------------+----------------+
|    Environment    | dpdk_unit_test |
+===================+================+
| Debian 12         | PASS           |
+-------------------+----------------+
| Fedora 37         | PASS           |
+-------------------+----------------+
| Fedora 38 (Clang) | PASS           |
+-------------------+----------------+
| Fedora 40 (Clang) | PASS           |
+-------------------+----------------+
| openSUSE Leap 15  | PASS           |
+-------------------+----------------+
| RHEL8             | PEND           |
+-------------------+----------------+
| RHEL9             | PEND           |
+-------------------+----------------+
| Ubuntu 20.04      | PEND           |
+-------------------+----------------+
| Ubuntu 22.04      | PEND           |
+-------------------+----------------+


Debian 12
	Kernel: Container Host Kernel
	Compiler: gcc 12.2.0

Fedora 37
	Kernel: Depends on container host system
	Compiler: gcc 12.3.1

Fedora 38 (Clang)
	Kernel: Depends on container host
	Compiler: clang 16.0.6

Fedora 40 (Clang)
	Kernel: Depends on container host
	Compiler: clang 18.1.6

openSUSE Leap 15
	Kernel: 5.4.0-167-generic
	Compiler: gcc 7.5.0

RHEL8
	Kernel: 5.4.0-167-generic
	Compiler: gcc 8.5.0 20210514 (Red Hat 8.5.0-20)

RHEL9
	Kernel: Depends on container host
	Compiler: gcc 11.4.1

Ubuntu 20.04
	Kernel: 5.4.0-167-generic
	Compiler: gcc 9.4.0-1ubuntu1~20.04.1

Ubuntu 22.04
	Kernel: 5.4.0-167-generic
	Compiler: gcc 11.4.0

To view detailed results, visit:
https://lab.dpdk.org/results/dashboard/patchsets/30756/

UNH-IOL DPDK Community Lab

To manage your email subscriptions, visit: 
https://lab.dpdk.org/results/dashboard/preferences/subscriptions/