From mboxrd@z Thu Jan  1 00:00:00 1970
Return-Path: <test-report-bounces@dpdk.org>
Received: from mails.dpdk.org (mails.dpdk.org [217.70.189.124])
	by inbox.dpdk.org (Postfix) with ESMTP id 7EC724577C
	for <public@inbox.dpdk.org>; Fri,  9 Aug 2024 21:23:29 +0200 (CEST)
Received: from mails.dpdk.org (localhost [127.0.0.1])
	by mails.dpdk.org (Postfix) with ESMTP id 79F0042E5C;
	Fri,  9 Aug 2024 21:23:29 +0200 (CEST)
Received: from mail-il1-f226.google.com (mail-il1-f226.google.com
 [209.85.166.226])
 by mails.dpdk.org (Postfix) with ESMTP id 1FD4D42E56
 for <test-report@dpdk.org>; Fri,  9 Aug 2024 21:23:29 +0200 (CEST)
Received: by mail-il1-f226.google.com with SMTP id
 e9e14a558f8ab-39b06af1974so8341895ab.2
 for <test-report@dpdk.org>; Fri, 09 Aug 2024 12:23:29 -0700 (PDT)
DKIM-Signature: v=1; a=rsa-sha256; c=relaxed/relaxed;
 d=iol.unh.edu; s=unh-iol; t=1723231408; x=1723836208; darn=dpdk.org;
 h=references:in-reply-to:cc:to:from:subject:message-id:date:from:to
 :cc:subject:date:message-id:reply-to;
 bh=sKCAAvmJxypPS6u/E2iXPXQfKdvglM58UGoREQYbmGs=;
 b=X00GlVhQQqYDkNNNiJfZ3aMTsnnXbodHStV4AlzyTy8hb6JbzWBt5mPZJpaek/coDG
 IWFRSm8D6dX8QtyYU2uN7MI6lrlwQ+snBUuvmRO+r9K2z2QLpSNOyU7jACYmcWGmgWW3
 mg9iscCBjHTPxaCrI4T4wSVDjgorUUq+xEzKo=
X-Google-DKIM-Signature: v=1; a=rsa-sha256; c=relaxed/relaxed;
 d=1e100.net; s=20230601; t=1723231408; x=1723836208;
 h=references:in-reply-to:cc:to:from:subject:message-id:date
 :x-gm-message-state:from:to:cc:subject:date:message-id:reply-to;
 bh=sKCAAvmJxypPS6u/E2iXPXQfKdvglM58UGoREQYbmGs=;
 b=QeC+Gc5k9MDHtZ8HUZgkFFDwIXZNZ4xI5EH3yWopJeja5CiE9q80kAMhOX5lx5qCG9
 gvVqMMWRPUlZBFaslf3btj8w/hBbEL0PWZCwOBsQupc0mUwGBAmVN9grMM5NIFxWk2w8
 G4FGZXKOZpiff5WrjA+B7KwmjHh+Q6SPDmBdsVq5bayZeK89vM20/GrkC81PJ4SmjgUe
 tCQxRF7keqVa6Yn/7qMtCGpO2HttrHW4aZdAgyC3chS07m/dcpZ/Z/uN/EvUp91tuhtG
 V6zCB142tdzMJtCD5O7NdxPV4eUIvZNCpdxSAgaiB4m8iaJth1GZwZ6d0TJAVmIAToG5
 Ni6Q==
X-Gm-Message-State: AOJu0YzuWbmx7qx3D7AgB2Mku6Athk5CdaFmXDCL9n6JDAzDVx+8Z/n/
 A15mQcL6gKbcUm4jvkstQEyAb6gwZ4UQKxbHe8WtUn6x1zH8JfJiwEv8L3wlq3v/k4BM0tAeAMu
 sjyeIWMxe3nLelEb0j+PYWh05PfC2WUAi7zkjFKQfODuAlSECB58XtGIq
X-Google-Smtp-Source: AGHT+IFJtgh1hLhP8QP2asS1g4FXdPq36oGmXOibaqNNINYVcxJFid87w4R5pH4fEqtEeePEhUgEbsef+mXM
X-Received: by 2002:a92:c269:0:b0:39a:ea86:d615 with SMTP id
 e9e14a558f8ab-39b74853908mr36180785ab.6.1723231408397; 
 Fri, 09 Aug 2024 12:23:28 -0700 (PDT)
Received: from postal.iol.unh.edu (postal.iol.unh.edu.
 [2606:4100:3880:1234::84]) by smtp-relay.gmail.com with ESMTPS id
 e9e14a558f8ab-39c30aa7542sm60375ab.33.2024.08.09.12.23.28
 (version=TLS1_2 cipher=ECDHE-ECDSA-AES128-GCM-SHA256 bits=128/128);
 Fri, 09 Aug 2024 12:23:28 -0700 (PDT)
X-Relaying-Domain: iol.unh.edu
Date: Fri, 09 Aug 2024 12:23:28 -0700 (PDT)
Message-ID: <66b66cb0.050a0220.29b04f.0648SMTPIN_ADDED_MISSING@mx.google.com>
Received: from [172.21.0.7] (unknown [172.18.0.240])
 by postal.iol.unh.edu (Postfix) with ESMTP id E0BDF605C351;
 Fri,  9 Aug 2024 15:23:27 -0400 (EDT)
Subject: |PENDING| pw143049 [PATCH] net/bnxt: fix issue reading sff8436 sfp e
From: dpdklab@iol.unh.edu
To: Test Report <test-report@dpdk.org>
Cc: dpdk-test-reports@iol.unh.edu
In-Reply-To: <20240809102115.629429-1-pdmorrow@gmail.com>
References: <20240809102115.629429-1-pdmorrow@gmail.com>
Content-Type: text/plain
X-BeenThere: test-report@dpdk.org
X-Mailman-Version: 2.1.29
Precedence: list
List-Id: automatic DPDK test reports <test-report.dpdk.org>
List-Unsubscribe: <https://mails.dpdk.org/options/test-report>,
 <mailto:test-report-request@dpdk.org?subject=unsubscribe>
List-Archive: <http://mails.dpdk.org/archives/test-report/>
List-Post: <mailto:test-report@dpdk.org>
List-Help: <mailto:test-report-request@dpdk.org?subject=help>
List-Subscribe: <https://mails.dpdk.org/listinfo/test-report>,
 <mailto:test-report-request@dpdk.org?subject=subscribe>
Errors-To: test-report-bounces@dpdk.org

Test-Label: iol-unit-amd64-testing
Test-Status: PENDING
http://dpdk.org/patch/143049

_Testing pending_

Submitter: Peter Morrow <pdmorrow@gmail.com>
Date: Friday, August 09 2024 10:21:15 
DPDK git baseline: Repo:dpdk
  Branch: master
  CommitID:b3485f4293997d35b6daecc3437bb0c183a51fb3

143049 --> testing pending

Upstream job id: Generic-Unit-Test-DPDK#250454

Test environment and result as below:

+-------------------+----------------+
|    Environment    | dpdk_unit_test |
+===================+================+
| Debian 12         | PASS           |
+-------------------+----------------+
| Fedora 37         | PASS           |
+-------------------+----------------+
| Fedora 38 (Clang) | PASS           |
+-------------------+----------------+
| Fedora 40 (Clang) | PASS           |
+-------------------+----------------+
| openSUSE Leap 15  | PASS           |
+-------------------+----------------+
| RHEL8             | PEND           |
+-------------------+----------------+
| RHEL9             | PEND           |
+-------------------+----------------+
| Ubuntu 20.04      | PEND           |
+-------------------+----------------+
| Ubuntu 22.04      | PEND           |
+-------------------+----------------+


Debian 12
	Kernel: Container Host Kernel
	Compiler: gcc 12.2.0

Fedora 37
	Kernel: Depends on container host system
	Compiler: gcc 12.3.1

Fedora 38 (Clang)
	Kernel: Depends on container host
	Compiler: clang 16.0.6

Fedora 40 (Clang)
	Kernel: Depends on container host
	Compiler: clang 18.1.6

openSUSE Leap 15
	Kernel: 5.4.0-167-generic
	Compiler: gcc 7.5.0

RHEL8
	Kernel: 5.4.0-167-generic
	Compiler: gcc 8.5.0 20210514 (Red Hat 8.5.0-20)

RHEL9
	Kernel: Depends on container host
	Compiler: gcc 11.4.1

Ubuntu 20.04
	Kernel: 5.4.0-167-generic
	Compiler: gcc 9.4.0-1ubuntu1~20.04.1

Ubuntu 22.04
	Kernel: 5.4.0-167-generic
	Compiler: gcc 11.4.0

To view detailed results, visit:
https://lab.dpdk.org/results/dashboard/patchsets/30756/

UNH-IOL DPDK Community Lab

To manage your email subscriptions, visit: 
https://lab.dpdk.org/results/dashboard/preferences/subscriptions/