From mboxrd@z Thu Jan  1 00:00:00 1970
Return-Path: <test-report-bounces@dpdk.org>
Received: from mails.dpdk.org (mails.dpdk.org [217.70.189.124])
	by inbox.dpdk.org (Postfix) with ESMTP id C84124577C
	for <public@inbox.dpdk.org>; Fri,  9 Aug 2024 21:53:07 +0200 (CEST)
Received: from mails.dpdk.org (localhost [127.0.0.1])
	by mails.dpdk.org (Postfix) with ESMTP id C3CC542E58;
	Fri,  9 Aug 2024 21:53:07 +0200 (CEST)
Received: from mail-il1-f227.google.com (mail-il1-f227.google.com
 [209.85.166.227])
 by mails.dpdk.org (Postfix) with ESMTP id 50EEE42E56
 for <test-report@dpdk.org>; Fri,  9 Aug 2024 21:53:06 +0200 (CEST)
Received: by mail-il1-f227.google.com with SMTP id
 e9e14a558f8ab-3737dc4a669so8924205ab.0
 for <test-report@dpdk.org>; Fri, 09 Aug 2024 12:53:06 -0700 (PDT)
DKIM-Signature: v=1; a=rsa-sha256; c=relaxed/relaxed;
 d=iol.unh.edu; s=unh-iol; t=1723233185; x=1723837985; darn=dpdk.org;
 h=references:in-reply-to:cc:to:from:subject:message-id:date:from:to
 :cc:subject:date:message-id:reply-to;
 bh=JBN4z75wbyk/RQNERourTze1/4MwxKJzZpRV45WlVGo=;
 b=Eb3/ekGa/xKmVvx0LRhQAqC2EXaXndhKrWfS4L56NUVcptDSPRce0dRoTQNMjU0dUO
 s+0ksexKnnLaYeM8u4yPdnP1Vbu0hl9rm1CUbvnGnalRRqzg7FUPgvWwnntiOP40Thm6
 moM5COifXN3TlclxJ/7MmmZd8EW2KLqqedLOk=
X-Google-DKIM-Signature: v=1; a=rsa-sha256; c=relaxed/relaxed;
 d=1e100.net; s=20230601; t=1723233185; x=1723837985;
 h=references:in-reply-to:cc:to:from:subject:message-id:date
 :x-gm-message-state:from:to:cc:subject:date:message-id:reply-to;
 bh=JBN4z75wbyk/RQNERourTze1/4MwxKJzZpRV45WlVGo=;
 b=ERn+oMbVKyfPsFBaalTHxAGvQgg9XjU5Cr5FZuqxg4D4DHAmWdwkZJDn6xB0VlxKTQ
 VoknRrMfmA+5RuxyXofCrrRdAQGMBlLYewNINlpYVHS2GFJD/RGKv+d/MqPLNSSoMMAC
 Uk9Y0Hs8/SIBsbazRiGMMtiz7AjlMQwjk+SE19+hpP3g4lf5AycdWR3lc1us/qwekwEj
 d7wdcFXz0aHusiB3WgdL0q0zlt5pTbWHNMzzNr8KwqSgYHvtRG/FwZWNDxVyl/UxQlsS
 gio6qauXpJoe5PXMguKFmvdGCdgdVMsjdw4OB7lSlZ+2IntaMKZDcKsjLm554KLaYsb8
 AntA==
X-Gm-Message-State: AOJu0YyNQJIcfzzV6wXa4o9oDB//S5pbJ1u0cVJXJSOSr63A5svM2xmE
 y/VyWaKov8M7vtPj/RHq1bpPB3cfd+SYsJ3giCZePjp7jx0wi3lbAJWNfQvxAGoV/e54GXJV79/
 CBVJ2hCjB3zrsn89nEADNKkIz6yFF65M3n1td4fQ/
X-Google-Smtp-Source: AGHT+IHndeiOGryAj0LU+lqBDefl+pIORWx1YChiWILyYjLhQKaQhKZGC82sKQFzqH8mOyah4zYlCTvmKE9a
X-Received: by 2002:a05:6e02:1d8d:b0:39a:16f7:f9d3 with SMTP id
 e9e14a558f8ab-39b74968573mr29788495ab.9.1723233185530; 
 Fri, 09 Aug 2024 12:53:05 -0700 (PDT)
Received: from postal.iol.unh.edu (postal.iol.unh.edu. [132.177.123.84])
 by smtp-relay.gmail.com with ESMTPS id
 e9e14a558f8ab-39c30aa9d6esm80035ab.46.2024.08.09.12.53.05
 (version=TLS1_2 cipher=ECDHE-ECDSA-AES128-GCM-SHA256 bits=128/128);
 Fri, 09 Aug 2024 12:53:05 -0700 (PDT)
X-Relaying-Domain: iol.unh.edu
Date: Fri, 09 Aug 2024 12:53:05 -0700 (PDT)
Message-ID: <66b673a1.920a0220.37829b.086dSMTPIN_ADDED_MISSING@mx.google.com>
Received: from [172.21.0.8] (unknown [172.18.0.240])
 by postal.iol.unh.edu (Postfix) with ESMTP id 26922605C351;
 Fri,  9 Aug 2024 15:53:05 -0400 (EDT)
Subject: |PENDING| pw143034-143036 [PATCH] [v3,3/3] net/enic: allow multicast
From: dpdklab@iol.unh.edu
To: Test Report <test-report@dpdk.org>
Cc: dpdk-test-reports@iol.unh.edu
In-Reply-To: <20240809070754.26128-4-hyonkim@cisco.com>
References: <20240809070754.26128-4-hyonkim@cisco.com>
Content-Type: text/plain
X-BeenThere: test-report@dpdk.org
X-Mailman-Version: 2.1.29
Precedence: list
List-Id: automatic DPDK test reports <test-report.dpdk.org>
List-Unsubscribe: <https://mails.dpdk.org/options/test-report>,
 <mailto:test-report-request@dpdk.org?subject=unsubscribe>
List-Archive: <http://mails.dpdk.org/archives/test-report/>
List-Post: <mailto:test-report@dpdk.org>
List-Help: <mailto:test-report-request@dpdk.org?subject=help>
List-Subscribe: <https://mails.dpdk.org/listinfo/test-report>,
 <mailto:test-report-request@dpdk.org?subject=subscribe>
Errors-To: test-report-bounces@dpdk.org

Test-Label: iol-unit-amd64-testing
Test-Status: PENDING
http://dpdk.org/patch/143036

_Testing pending_

Submitter: Hyong Youb Kim <hyonkim@cisco.com>
Date: Friday, August 09 2024 07:07:54 
DPDK git baseline: Repo:dpdk
  Branch: master
  CommitID:e0f7ebe88ab4588dd352e9ec14270ce4e3b1470b

143034-143036 --> testing pending

Upstream job id: Generic-Unit-Test-DPDK#250477

Test environment and result as below:

+---------------------+----------------+
|     Environment     | dpdk_unit_test |
+=====================+================+
| CentOS Stream 9     | PASS           |
+---------------------+----------------+
| Debian Bullseye     | PASS           |
+---------------------+----------------+
| Fedora 37           | PASS           |
+---------------------+----------------+
| Debian 12           | PASS           |
+---------------------+----------------+
| Windows Server 2022 | PEND           |
+---------------------+----------------+
| Fedora 38 (Clang)   | PASS           |
+---------------------+----------------+
| Windows Server 2019 | PASS           |
+---------------------+----------------+
| Fedora 39 (Clang)   | PASS           |
+---------------------+----------------+
| openSUSE Leap 15    | PASS           |
+---------------------+----------------+
| RHEL9               | PASS           |
+---------------------+----------------+
| RHEL8               | PASS           |
+---------------------+----------------+
| Ubuntu 20.04        | PASS           |
+---------------------+----------------+
| Ubuntu 22.04        | PASS           |
+---------------------+----------------+
| Ubuntu 24.04        | PASS           |
+---------------------+----------------+
| Fedora 39           | PASS           |
+---------------------+----------------+
| Fedora 40 (Clang)   | PEND           |
+---------------------+----------------+


CentOS Stream 9
	Kernel: 5.4.0-167-generic
	Compiler: gcc 11.4.1 20230605

Debian Bullseye
	Kernel: 5.4.0-167-generic
	Compiler: gcc 10.2.1-6

Fedora 37
	Kernel: Depends on container host system
	Compiler: gcc 12.3.1

Debian 12
	Kernel: Container Host Kernel
	Compiler: gcc 12.2.0

Windows Server 2022
	Kernel: 10.0.20348.2031
	Compiler: clang 15.0.7, gcc 8.1.0 (MinGW), and MSVC VS 17.9

Fedora 38 (Clang)
	Kernel: Depends on container host
	Compiler: clang 16.0.6

Windows Server 2019
	Kernel: 10.0.17763
	Compiler: clang 14.0 and gcc 8.1.0 (MinGW)

Fedora 39 (Clang)
	Kernel: Depends on container host
	Compiler: clang 17.0.6

openSUSE Leap 15
	Kernel: 5.4.0-167-generic
	Compiler: gcc 7.5.0

RHEL9
	Kernel: Depends on container host
	Compiler: gcc 11.4.1

RHEL8
	Kernel: 5.4.0-167-generic
	Compiler: gcc 8.5.0 20210514 (Red Hat 8.5.0-20)

Ubuntu 20.04
	Kernel: 5.4.0-167-generic
	Compiler: gcc 9.4.0-1ubuntu1~20.04.1

Ubuntu 22.04
	Kernel: 5.4.0-167-generic
	Compiler: gcc 11.4.0

Ubuntu 24.04
	Kernel: 5.4.0-167-generic
	Compiler: gcc 13.2.0

Fedora 39
	Kernel: Depends on container host
	Compiler: gcc 13.2.1

Fedora 40 (Clang)
	Kernel: Depends on container host
	Compiler: clang 18.1.6

To view detailed results, visit:
https://lab.dpdk.org/results/dashboard/patchsets/30752/

UNH-IOL DPDK Community Lab

To manage your email subscriptions, visit: 
https://lab.dpdk.org/results/dashboard/preferences/subscriptions/