From mboxrd@z Thu Jan  1 00:00:00 1970
Return-Path: <test-report-bounces@dpdk.org>
Received: from mails.dpdk.org (mails.dpdk.org [217.70.189.124])
	by inbox.dpdk.org (Postfix) with ESMTP id 4E51F4577D
	for <public@inbox.dpdk.org>; Fri,  9 Aug 2024 22:57:44 +0200 (CEST)
Received: from mails.dpdk.org (localhost [127.0.0.1])
	by mails.dpdk.org (Postfix) with ESMTP id 49CC642E4A;
	Fri,  9 Aug 2024 22:57:44 +0200 (CEST)
Received: from mail-ot1-f97.google.com (mail-ot1-f97.google.com
 [209.85.210.97]) by mails.dpdk.org (Postfix) with ESMTP id BF09442D9F
 for <test-report@dpdk.org>; Fri,  9 Aug 2024 22:57:42 +0200 (CEST)
Received: by mail-ot1-f97.google.com with SMTP id
 46e09a7af769-70945a007f0so1366414a34.2
 for <test-report@dpdk.org>; Fri, 09 Aug 2024 13:57:42 -0700 (PDT)
DKIM-Signature: v=1; a=rsa-sha256; c=relaxed/relaxed;
 d=iol.unh.edu; s=unh-iol; t=1723237062; x=1723841862; darn=dpdk.org;
 h=references:in-reply-to:cc:to:from:subject:message-id:date:from:to
 :cc:subject:date:message-id:reply-to;
 bh=38gFVjLBuEjYtJNVy85lucjK8GFkRwcaKlvD1brk6aA=;
 b=GcFdG0FVD4I2xgGHCfNmOMTF0wwxjcav1m43F1v43Fcpum/YSTDLVV1duj8wkHYRt+
 URmWi11FV8B+iW/W0NtVUdxMyZ1z8tMQSTFWhqpkiWIkej/Kg0ymD2t577QS3n2JFeTK
 BJPwRMKx/eLyuCy/nQOVYK86Kg/DzH8JlhQUI=
X-Google-DKIM-Signature: v=1; a=rsa-sha256; c=relaxed/relaxed;
 d=1e100.net; s=20230601; t=1723237062; x=1723841862;
 h=references:in-reply-to:cc:to:from:subject:message-id:date
 :x-gm-message-state:from:to:cc:subject:date:message-id:reply-to;
 bh=38gFVjLBuEjYtJNVy85lucjK8GFkRwcaKlvD1brk6aA=;
 b=AgZ4r0usIV3xZxJB/kEymMdMm5lMrpUHk+qqoWgOnG6WgR9ET0NA65l3FkJSBd2qB/
 9U7aeST5VcFhfc5o4UfJrXHyh881dEnzwREfu0yCjZgy1QhEV2L0VlobcxQeQ1GkU3l0
 gRfTkCosmLUWPz6V8GYhHl3Lt7AQ8FzzMMkKND5uCPJvKDCjiqOPTanaPm/pV2kuMddr
 2xf8fgOye85guDfww6DAeHDdgMLhliKPL07aF5wUf2ytFqLEehLkiWrBMRvSVHPUWFdJ
 eemtCI8hJIKJJZ2oMwXrAbV4x3UOh8DBi7S9YCpemCk6bWGFsIIJb/HN2epmH4NhU0z0
 94+Q==
X-Gm-Message-State: AOJu0YwgDWIsaJaoVhwjVoB8L20zKCtC1qEWf2eAauWCy9n6P5gFpBPz
 no1CJxFMj6/Aoj3GdYQUXolkSBYv+ePA0xWSFzlDBO83OPW55npsvXQJ8ogsYMAmsgmJBYgcstI
 NfMQYmr4gzu7cghWmY7ymYLFXcEqpwnzr2BCZXbzP
X-Google-Smtp-Source: AGHT+IEA6CooT1bxMYXdtutnBLFgmVcFjx/g3P8oIsaUWCsGYnOqSpEmB8mLLaoBKBTE1AyqK/vM+NeWo+Cu
X-Received: by 2002:a05:6358:27a3:b0:1aa:b9f2:a0d2 with SMTP id
 e5c5f4694b2df-1b176f25295mr360653355d.10.1723237061743; 
 Fri, 09 Aug 2024 13:57:41 -0700 (PDT)
Received: from postal.iol.unh.edu (postal.iol.unh.edu. [132.177.123.84])
 by smtp-relay.gmail.com with ESMTPS id
 6a1803df08f44-6bd82e78a78sm109226d6.70.2024.08.09.13.57.41
 (version=TLS1_2 cipher=ECDHE-ECDSA-AES128-GCM-SHA256 bits=128/128);
 Fri, 09 Aug 2024 13:57:41 -0700 (PDT)
X-Relaying-Domain: iol.unh.edu
Date: Fri, 09 Aug 2024 13:57:41 -0700 (PDT)
Message-ID: <66b682c5.d40a0220.258106.0c01SMTPIN_ADDED_MISSING@mx.google.com>
Received: from [172.21.0.7] (unknown [172.18.0.240])
 by postal.iol.unh.edu (Postfix) with ESMTP id 6D1DB605C351;
 Fri,  9 Aug 2024 16:57:41 -0400 (EDT)
Subject: |PENDING| pw143046-143048 [PATCH] [v2,5/5] eal: extend bitops to han
From: dpdklab@iol.unh.edu
To: Test Report <test-report@dpdk.org>
Cc: dpdk-test-reports@iol.unh.edu
In-Reply-To: <20240809095829.589396-6-mattias.ronnblom@ericsson.com>
References: <20240809095829.589396-6-mattias.ronnblom@ericsson.com>
Content-Type: text/plain
X-BeenThere: test-report@dpdk.org
X-Mailman-Version: 2.1.29
Precedence: list
List-Id: automatic DPDK test reports <test-report.dpdk.org>
List-Unsubscribe: <https://mails.dpdk.org/options/test-report>,
 <mailto:test-report-request@dpdk.org?subject=unsubscribe>
List-Archive: <http://mails.dpdk.org/archives/test-report/>
List-Post: <mailto:test-report@dpdk.org>
List-Help: <mailto:test-report-request@dpdk.org?subject=help>
List-Subscribe: <https://mails.dpdk.org/listinfo/test-report>,
 <mailto:test-report-request@dpdk.org?subject=subscribe>
Errors-To: test-report-bounces@dpdk.org

Test-Label: iol-compile-arm64-testing
Test-Status: PENDING
http://dpdk.org/patch/143048

_Testing pending_

Submitter: Mattias Ronnblom <mattias.ronnblom@ericsson.com>
Date: Friday, August 09 2024 09:58:29 
DPDK git baseline: Repo:dpdk
  Branch: master
  CommitID:cb9187bc5c2b4bab0ad80194ac3b60491de14e8c

143046-143048 --> testing pending

Upstream job id: Generic-DPDK-Compile-Meson#286484

Test environment and result as below:

+----------------------------------------+--------------------+
|              Environment               | dpdk_meson_compile |
+========================================+====================+
| RHEL9 (ARM)                            | PEND               |
+----------------------------------------+--------------------+
| Ubuntu 20.04 ARM GCC Cross Compile     | PEND               |
+----------------------------------------+--------------------+
| Ubuntu 20.04 ARM SVE                   | PASS               |
+----------------------------------------+--------------------+
| Debian 12 with MUSDK                   | PASS               |
+----------------------------------------+--------------------+
| Fedora 37 (ARM)                        | PEND               |
+----------------------------------------+--------------------+
| Fedora 38 (ARM)                        | PASS               |
+----------------------------------------+--------------------+
| Fedora 38 (ARM Clang)                  | PEND               |
+----------------------------------------+--------------------+
| Fedora 39 (ARM)                        | PASS               |
+----------------------------------------+--------------------+
| Fedora 39 (ARM Clang)                  | PEND               |
+----------------------------------------+--------------------+
| Fedora 40 (ARM)                        | PEND               |
+----------------------------------------+--------------------+
| Ubuntu 20.04 (ARM)                     | PEND               |
+----------------------------------------+--------------------+
| Ubuntu 22.04 (ARM)                     | PEND               |
+----------------------------------------+--------------------+
| Ubuntu 24.04 (ARM)                     | PEND               |
+----------------------------------------+--------------------+
| CentOS Stream 9 (ARM)                  | PEND               |
+----------------------------------------+--------------------+
| Debian 11 (Buster) (ARM)               | PEND               |
+----------------------------------------+--------------------+
| Debian 12 (arm)                        | PEND               |
+----------------------------------------+--------------------+
| Ubuntu 20.04 ARM Clang Cross Compile   | PEND               |
+----------------------------------------+--------------------+
| Ubuntu 20.04 aarch32 GCC Cross Compile | PEND               |
+----------------------------------------+--------------------+
| Fedora 40 (ARM Clang)                  | PEND               |
+----------------------------------------+--------------------+


RHEL9 (ARM)
	Kernel: Depends on container host
	Compiler: gcc 11.4.1

Ubuntu 20.04 ARM GCC Cross Compile
	Kernel: 5.4.0-167-generic
	Compiler: aarch64-linux-gnu-gcc (Ubuntu 9.4.0-1ubuntu1~20.04.2) 9.4.0

Ubuntu 20.04 ARM SVE
	Kernel: 5.4.0-167-generic
	Compiler: gcc (Ubuntu 10.5.0-1ubuntu1~20.04) 10.5.0

Debian 12 with MUSDK
	Kernel: Container Host Kernel
	Compiler: gcc 12.2.0

Fedora 37 (ARM)
	Kernel: Depends on container host
	Compiler: gcc 12.3.1

Fedora 38 (ARM)
	Kernel: Depends on container host
	Compiler: gcc 13.2.1

Fedora 38 (ARM Clang)
	Kernel: Depends on container host
	Compiler: clang 16.0.6

Fedora 39 (ARM)
	Kernel: Depends on container host
	Compiler: gcc 13.2.1

Fedora 39 (ARM Clang)
	Kernel: Depends on container host
	Compiler: clang 17.0.6

Fedora 40 (ARM)
	Kernel: Depends on container host
	Compiler: gcc 14.1.1

Ubuntu 20.04 (ARM)
	Kernel: Container Host Kernel
	Compiler: gcc 9.4.0

Ubuntu 22.04 (ARM)
	Kernel: Container Host Kernel
	Compiler: gcc 11.4.0

Ubuntu 24.04 (ARM)
	Kernel: 5.4.0-167-generic
	Compiler: gcc 13.2.0

CentOS Stream 9 (ARM)
	Kernel: Container Host Kernel
	Compiler: gcc 11.4.1

Debian 11 (Buster) (ARM)
	Kernel: Container Host Kernel
	Compiler: gcc 10.2.1

Debian 12 (arm)
	Kernel: Container Host Kernel
	Compiler: gcc 12.2.0

Ubuntu 20.04 ARM Clang Cross Compile
	Kernel: 5.4.0-72-generic
	Compiler: clang 10.0.0-4ubuntu1

Ubuntu 20.04 aarch32 GCC Cross Compile
	Kernel: 5.4.0-167-generic
	Compiler: gcc 9.4.0

Fedora 40 (ARM Clang)
	Kernel: Depends on container host
	Compiler: clang 18.1.6

To view detailed results, visit:
https://lab.dpdk.org/results/dashboard/patchsets/30755/

UNH-IOL DPDK Community Lab

To manage your email subscriptions, visit: 
https://lab.dpdk.org/results/dashboard/preferences/subscriptions/