From mboxrd@z Thu Jan  1 00:00:00 1970
Return-Path: <test-report-bounces@dpdk.org>
Received: from mails.dpdk.org (mails.dpdk.org [217.70.189.124])
	by inbox.dpdk.org (Postfix) with ESMTP id 9E5ED4577D
	for <public@inbox.dpdk.org>; Fri,  9 Aug 2024 23:29:54 +0200 (CEST)
Received: from mails.dpdk.org (localhost [127.0.0.1])
	by mails.dpdk.org (Postfix) with ESMTP id 7EE154025C;
	Fri,  9 Aug 2024 23:29:54 +0200 (CEST)
Received: from mail-pf1-f226.google.com (mail-pf1-f226.google.com
 [209.85.210.226])
 by mails.dpdk.org (Postfix) with ESMTP id 80182400D7
 for <test-report@dpdk.org>; Fri,  9 Aug 2024 23:29:53 +0200 (CEST)
Received: by mail-pf1-f226.google.com with SMTP id
 d2e1a72fcca58-70eaf5874ddso2094530b3a.3
 for <test-report@dpdk.org>; Fri, 09 Aug 2024 14:29:53 -0700 (PDT)
DKIM-Signature: v=1; a=rsa-sha256; c=relaxed/relaxed;
 d=iol.unh.edu; s=unh-iol; t=1723238992; x=1723843792; darn=dpdk.org;
 h=references:in-reply-to:cc:to:from:subject:message-id:date:from:to
 :cc:subject:date:message-id:reply-to;
 bh=R7pwTKCxmT2uzvEMB+bcBWGoWIZmdDzoZzrvqJxyngA=;
 b=Ase9AZ6VPtawlS9O5xgjjprBUiye3VaMf/ElZIni/Pv9b7vBag9s2eZe+pWFxi6n92
 xBG7U98zyfCBMRjVG/+LcYK4eLMIIjeJwlzDSupo1vzJBoiMN/dA5xjyTequvaOpTo49
 YHbgeEjm6nZ7UAIiwhNpbXAuky5nGWvhCoJTE=
X-Google-DKIM-Signature: v=1; a=rsa-sha256; c=relaxed/relaxed;
 d=1e100.net; s=20230601; t=1723238992; x=1723843792;
 h=references:in-reply-to:cc:to:from:subject:message-id:date
 :x-gm-message-state:from:to:cc:subject:date:message-id:reply-to;
 bh=R7pwTKCxmT2uzvEMB+bcBWGoWIZmdDzoZzrvqJxyngA=;
 b=NpRpLqDNWcFXkm3Y6FqV2lYIUigrlLeGKdwcpiGhRtdyEheYgjL8Whm56zN2DbfezE
 lSfe0GAtkZ2sScBKHgSQKzVjR4QNpty9TqDwtmomoFA3Q3ISzFK0/MVQOGUb+Bj+btEi
 xR/aoR62XrYH4R7cXwJD5nYgk4dASdvs2bSoW+2Efektgq1wlnxMsGZTw8vASOrKG5bW
 Wg+RzCw+r6Hrcl86350b6ZIRDF+9WeJmRbJRHq7/3WIaYvdTRR1oiGedckmRES1Y8WxQ
 JrIxwlgfMbtNcb3ZIfnaUuIv/nOOPWM5HdXALErlCrMfQb6yNBh63CEWnGQsDQe73RHB
 Be5g==
X-Gm-Message-State: AOJu0Yx1sU++pMhXuG378pPmvV+9BVO15GZVTXv8KfWkxVdOzUxVMwW6
 QShqdsY+JgwplpKzZh1xqU1yod5gKJmIBz4tIP+tJo+itf7tQt2CLnsA1Sv3nscyCLhLavW5xtt
 bAgQ+ZtC0wFERk1a6ES3Hu5hjIgsqK2XNLsxrzX8m
X-Google-Smtp-Source: AGHT+IHYsZXG+2gODomcLzpG2ympYasaJaYydBw7dlIJk7RiKcfHQr5/T5fgpG4qF1hoHp6kY7Ha47G4noGr
X-Received: by 2002:a05:6a00:4642:b0:70d:2b23:a720 with SMTP id
 d2e1a72fcca58-710dc6cf35bmr3003831b3a.5.1723238992314; 
 Fri, 09 Aug 2024 14:29:52 -0700 (PDT)
Received: from postal.iol.unh.edu (postal.iol.unh.edu. [132.177.123.84])
 by smtp-relay.gmail.com with ESMTPS id
 d2e1a72fcca58-710e58abc0dsm19856b3a.8.2024.08.09.14.29.52
 (version=TLS1_2 cipher=ECDHE-ECDSA-AES128-GCM-SHA256 bits=128/128);
 Fri, 09 Aug 2024 14:29:52 -0700 (PDT)
X-Relaying-Domain: iol.unh.edu
Date: Fri, 09 Aug 2024 14:29:52 -0700 (PDT)
Message-ID: <66b68a50.050a0220.09e3.1ba6SMTPIN_ADDED_MISSING@mx.google.com>
Received: from [172.21.0.7] (unknown [172.18.0.240])
 by postal.iol.unh.edu (Postfix) with ESMTP id 69D42605C351;
 Fri,  9 Aug 2024 17:29:51 -0400 (EDT)
Subject: |PENDING| pw143043-143042 [PATCH] [v9,2/2] examples/l3fwd-power: add
From: dpdklab@iol.unh.edu
To: Test Report <test-report@dpdk.org>
Cc: dpdk-test-reports@iol.unh.edu
In-Reply-To: <20240809095012.16717-3-lihuisong@huawei.com>
References: <20240809095012.16717-3-lihuisong@huawei.com>
Content-Type: text/plain
X-BeenThere: test-report@dpdk.org
X-Mailman-Version: 2.1.29
Precedence: list
List-Id: automatic DPDK test reports <test-report.dpdk.org>
List-Unsubscribe: <https://mails.dpdk.org/options/test-report>,
 <mailto:test-report-request@dpdk.org?subject=unsubscribe>
List-Archive: <http://mails.dpdk.org/archives/test-report/>
List-Post: <mailto:test-report@dpdk.org>
List-Help: <mailto:test-report-request@dpdk.org?subject=help>
List-Subscribe: <https://mails.dpdk.org/listinfo/test-report>,
 <mailto:test-report-request@dpdk.org?subject=subscribe>
Errors-To: test-report-bounces@dpdk.org

Test-Label: iol-unit-amd64-testing
Test-Status: PENDING
http://dpdk.org/patch/143042

_Testing pending_

Submitter: Huisong Li <lihuisong@huawei.com>
Date: Friday, August 09 2024 09:50:12 
DPDK git baseline: Repo:dpdk
  Branch: master
  CommitID:cb9187bc5c2b4bab0ad80194ac3b60491de14e8c

143043-143042 --> testing pending

Upstream job id: Generic-Unit-Test-DPDK#250522

Test environment and result as below:

+---------------------+----------------+
|     Environment     | dpdk_unit_test |
+=====================+================+
| Windows Server 2022 | PEND           |
+---------------------+----------------+
| Windows Server 2019 | PASS           |
+---------------------+----------------+
| CentOS Stream 9     | PASS           |
+---------------------+----------------+
| Debian Bullseye     | PASS           |
+---------------------+----------------+
| Fedora 37           | PASS           |
+---------------------+----------------+
| Debian 12           | PEND           |
+---------------------+----------------+
| Fedora 38           | PASS           |
+---------------------+----------------+
| Fedora 38 (Clang)   | PEND           |
+---------------------+----------------+
| Fedora 39           | PEND           |
+---------------------+----------------+
| Fedora 39 (Clang)   | PEND           |
+---------------------+----------------+
| Fedora 40           | PEND           |
+---------------------+----------------+
| Fedora 40 (Clang)   | PEND           |
+---------------------+----------------+
| RHEL8               | PEND           |
+---------------------+----------------+
| RHEL9               | PEND           |
+---------------------+----------------+
| openSUSE Leap 15    | PEND           |
+---------------------+----------------+
| Ubuntu 20.04        | PEND           |
+---------------------+----------------+
| Ubuntu 22.04        | PEND           |
+---------------------+----------------+
| Ubuntu 24.04        | PEND           |
+---------------------+----------------+


Windows Server 2022
	Kernel: 10.0.20348.2031
	Compiler: clang 15.0.7, gcc 8.1.0 (MinGW), and MSVC VS 17.9

Windows Server 2019
	Kernel: 10.0.17763
	Compiler: clang 14.0 and gcc 8.1.0 (MinGW)

CentOS Stream 9
	Kernel: 5.4.0-167-generic
	Compiler: gcc 11.4.1 20230605

Debian Bullseye
	Kernel: 5.4.0-167-generic
	Compiler: gcc 10.2.1-6

Fedora 37
	Kernel: Depends on container host system
	Compiler: gcc 12.3.1

Debian 12
	Kernel: Container Host Kernel
	Compiler: gcc 12.2.0

Fedora 38
	Kernel: Depends on container host
	Compiler: gcc 13.2.1

Fedora 38 (Clang)
	Kernel: Depends on container host
	Compiler: clang 16.0.6

Fedora 39
	Kernel: Depends on container host
	Compiler: gcc 13.2.1

Fedora 39 (Clang)
	Kernel: Depends on container host
	Compiler: clang 17.0.6

Fedora 40
	Kernel: Depends on container host
	Compiler: gcc 14.1.1

Fedora 40 (Clang)
	Kernel: Depends on container host
	Compiler: clang 18.1.6

RHEL8
	Kernel: 5.4.0-167-generic
	Compiler: gcc 8.5.0 20210514 (Red Hat 8.5.0-20)

RHEL9
	Kernel: Depends on container host
	Compiler: gcc 11.4.1

openSUSE Leap 15
	Kernel: 5.4.0-167-generic
	Compiler: gcc 7.5.0

Ubuntu 20.04
	Kernel: 5.4.0-167-generic
	Compiler: gcc 9.4.0-1ubuntu1~20.04.1

Ubuntu 22.04
	Kernel: 5.4.0-167-generic
	Compiler: gcc 11.4.0

Ubuntu 24.04
	Kernel: 5.4.0-167-generic
	Compiler: gcc 13.2.0

To view detailed results, visit:
https://lab.dpdk.org/results/dashboard/patchsets/30754/

UNH-IOL DPDK Community Lab

To manage your email subscriptions, visit: 
https://lab.dpdk.org/results/dashboard/preferences/subscriptions/