From mboxrd@z Thu Jan  1 00:00:00 1970
Return-Path: <test-report-bounces@dpdk.org>
Received: from mails.dpdk.org (mails.dpdk.org [217.70.189.124])
	by inbox.dpdk.org (Postfix) with ESMTP id 543D24577D
	for <public@inbox.dpdk.org>; Sat, 10 Aug 2024 01:05:56 +0200 (CEST)
Received: from mails.dpdk.org (localhost [127.0.0.1])
	by mails.dpdk.org (Postfix) with ESMTP id 2F7944025C;
	Sat, 10 Aug 2024 01:05:56 +0200 (CEST)
Received: from mail-oa1-f99.google.com (mail-oa1-f99.google.com
 [209.85.160.99]) by mails.dpdk.org (Postfix) with ESMTP id CA4FA400D7
 for <test-report@dpdk.org>; Sat, 10 Aug 2024 01:05:54 +0200 (CEST)
Received: by mail-oa1-f99.google.com with SMTP id
 586e51a60fabf-26875acdf72so1625306fac.0
 for <test-report@dpdk.org>; Fri, 09 Aug 2024 16:05:54 -0700 (PDT)
DKIM-Signature: v=1; a=rsa-sha256; c=relaxed/relaxed;
 d=iol.unh.edu; s=unh-iol; t=1723244754; x=1723849554; darn=dpdk.org;
 h=references:in-reply-to:cc:to:from:subject:message-id:date:from:to
 :cc:subject:date:message-id:reply-to;
 bh=oGOTbyWqXyyYehFg5aBvBzJuDQ/iU6C3Rzp9MSFcGBg=;
 b=UHBPbgDVFU+IZ44Jt/Y66P2+We03h+Gbo8MwN1A/h7Eoxv2jn27Evr5FLojU88vVH3
 z7HhPzW3mx0vCk5xL0HkV9zlXoWkSdu734DeBMXhpeac/8+Ar+gJpRYcOgxY4n6NLQfH
 8WfQRvMCT3LUzoQ2kmLIwsaa5pzWU5K8spP9A=
X-Google-DKIM-Signature: v=1; a=rsa-sha256; c=relaxed/relaxed;
 d=1e100.net; s=20230601; t=1723244754; x=1723849554;
 h=references:in-reply-to:cc:to:from:subject:message-id:date
 :x-gm-message-state:from:to:cc:subject:date:message-id:reply-to;
 bh=oGOTbyWqXyyYehFg5aBvBzJuDQ/iU6C3Rzp9MSFcGBg=;
 b=CCiBwzKScfH29iPf0jNuQYXIpMFlb83vxPWYyjZnSBse6N5DiWar6xm3Tqca5Xic40
 USVgW4hqCQCN8iK4ZKJkFt2R/NAnA/a4kdiBsXxeKmF/h6cdzlRNosQrceJHnXiFIcIx
 3UnwX9km4JP6O63KbwGI4gSxLz1+QGWd0/dIaqqXt9etJ59zIvcMrBqSZm4TvYKRjxoP
 WXiC5wvDwLLlkZIKSt2MSYPRgZpxUWR1vTwhzmHiUXwuPalhiYui/sfAUhlDCCd2TkY0
 Jx6j/9IJa6qlDSSkoRE2KI8BlBouM5XA0Ua+x1PHeo5ZhJSsLrTo9KtQEaaeRKVwCq1t
 8imQ==
X-Gm-Message-State: AOJu0YxGFN9/pQyvnJM6im5TgZdx+ycUfuPG6NDCIM7rCXdzgpMmJOPL
 QrUwqBkcMs9CF3d3RD5XCQ8FS4jL9BDZSkzCcM/pw0BrHPNrnYRVjsyWnDjs6kBLe5Hw4PrRXFI
 uI1I2P2B2g6NoXBN48V4lsK9MRybjWF4wpeYsE6F4
X-Google-Smtp-Source: AGHT+IFVtr+oBGBsxXYioRkHftyG7YKMUyYTlHXeG57zd6SKbuApW6Gpf1XE5hiKcIQKkdWUQR+SQrjV7+i1
X-Received: by 2002:a05:6870:82a2:b0:261:1339:1cb8 with SMTP id
 586e51a60fabf-26c62f2269amr3431737fac.35.1723244753932; 
 Fri, 09 Aug 2024 16:05:53 -0700 (PDT)
Received: from postal.iol.unh.edu (postal.iol.unh.edu. [132.177.123.84])
 by smtp-relay.gmail.com with ESMTPS id
 586e51a60fabf-26c7210ba4asm25161fac.25.2024.08.09.16.05.53
 (version=TLS1_2 cipher=ECDHE-ECDSA-AES128-GCM-SHA256 bits=128/128);
 Fri, 09 Aug 2024 16:05:53 -0700 (PDT)
X-Relaying-Domain: iol.unh.edu
Date: Fri, 09 Aug 2024 16:05:53 -0700 (PDT)
Message-ID: <66b6a0d1.050a0220.275419.1c8cSMTPIN_ADDED_MISSING@mx.google.com>
Received: from [172.21.0.9] (unknown [172.18.0.240])
 by postal.iol.unh.edu (Postfix) with ESMTP id 5578E605C351;
 Fri,  9 Aug 2024 19:05:53 -0400 (EDT)
Subject: |PENDING| pw143051-143053 [PATCH] [v2,3/3] test/alarm: rewrite the a
From: dpdklab@iol.unh.edu
To: Test Report <test-report@dpdk.org>
Cc: dpdk-test-reports@iol.unh.edu
In-Reply-To: <20240809152540.9568-4-stephen@networkplumber.org>
References: <20240809152540.9568-4-stephen@networkplumber.org>
Content-Type: text/plain
X-BeenThere: test-report@dpdk.org
X-Mailman-Version: 2.1.29
Precedence: list
List-Id: automatic DPDK test reports <test-report.dpdk.org>
List-Unsubscribe: <https://mails.dpdk.org/options/test-report>,
 <mailto:test-report-request@dpdk.org?subject=unsubscribe>
List-Archive: <http://mails.dpdk.org/archives/test-report/>
List-Post: <mailto:test-report@dpdk.org>
List-Help: <mailto:test-report-request@dpdk.org?subject=help>
List-Subscribe: <https://mails.dpdk.org/listinfo/test-report>,
 <mailto:test-report-request@dpdk.org?subject=subscribe>
Errors-To: test-report-bounces@dpdk.org

Test-Label: iol-unit-amd64-testing
Test-Status: PENDING
http://dpdk.org/patch/143053

_Testing pending_

Submitter: Stephen Hemminger <stephen@networkplumber.org>
Date: Friday, August 09 2024 15:24:29 
DPDK git baseline: Repo:dpdk
  Branch: master
  CommitID:cb9187bc5c2b4bab0ad80194ac3b60491de14e8c

143051-143053 --> testing pending

Upstream job id: Generic-Unit-Test-DPDK#250587

Test environment and result as below:

+---------------------+----------------+
|     Environment     | dpdk_unit_test |
+=====================+================+
| Windows Server 2019 | PASS           |
+---------------------+----------------+
| CentOS Stream 9     | PASS           |
+---------------------+----------------+
| Debian Bullseye     | PEND           |
+---------------------+----------------+
| Debian 12           | PASS           |
+---------------------+----------------+
| Fedora 37           | PEND           |
+---------------------+----------------+
| Fedora 38           | PEND           |
+---------------------+----------------+
| Fedora 38 (Clang)   | PEND           |
+---------------------+----------------+
| Fedora 39           | PEND           |
+---------------------+----------------+
| Fedora 39 (Clang)   | PEND           |
+---------------------+----------------+
| Fedora 40           | PEND           |
+---------------------+----------------+
| Fedora 40 (Clang)   | PEND           |
+---------------------+----------------+
| openSUSE Leap 15    | PEND           |
+---------------------+----------------+
| RHEL8               | PEND           |
+---------------------+----------------+
| RHEL9               | PEND           |
+---------------------+----------------+
| Ubuntu 22.04        | PEND           |
+---------------------+----------------+
| Ubuntu 20.04        | PEND           |
+---------------------+----------------+
| Ubuntu 24.04        | PEND           |
+---------------------+----------------+


Windows Server 2019
	Kernel: 10.0.17763
	Compiler: clang 14.0 and gcc 8.1.0 (MinGW)

CentOS Stream 9
	Kernel: 5.4.0-167-generic
	Compiler: gcc 11.4.1 20230605

Debian Bullseye
	Kernel: 5.4.0-167-generic
	Compiler: gcc 10.2.1-6

Debian 12
	Kernel: Container Host Kernel
	Compiler: gcc 12.2.0

Fedora 37
	Kernel: Depends on container host system
	Compiler: gcc 12.3.1

Fedora 38
	Kernel: Depends on container host
	Compiler: gcc 13.2.1

Fedora 38 (Clang)
	Kernel: Depends on container host
	Compiler: clang 16.0.6

Fedora 39
	Kernel: Depends on container host
	Compiler: gcc 13.2.1

Fedora 39 (Clang)
	Kernel: Depends on container host
	Compiler: clang 17.0.6

Fedora 40
	Kernel: Depends on container host
	Compiler: gcc 14.1.1

Fedora 40 (Clang)
	Kernel: Depends on container host
	Compiler: clang 18.1.6

openSUSE Leap 15
	Kernel: 5.4.0-167-generic
	Compiler: gcc 7.5.0

RHEL8
	Kernel: 5.4.0-167-generic
	Compiler: gcc 8.5.0 20210514 (Red Hat 8.5.0-20)

RHEL9
	Kernel: Depends on container host
	Compiler: gcc 11.4.1

Ubuntu 22.04
	Kernel: 5.4.0-167-generic
	Compiler: gcc 11.4.0

Ubuntu 20.04
	Kernel: 5.4.0-167-generic
	Compiler: gcc 9.4.0-1ubuntu1~20.04.1

Ubuntu 24.04
	Kernel: 5.4.0-167-generic
	Compiler: gcc 13.2.0

To view detailed results, visit:
https://lab.dpdk.org/results/dashboard/patchsets/30758/

UNH-IOL DPDK Community Lab

To manage your email subscriptions, visit: 
https://lab.dpdk.org/results/dashboard/preferences/subscriptions/