From mboxrd@z Thu Jan  1 00:00:00 1970
Return-Path: <test-report-bounces@dpdk.org>
Received: from mails.dpdk.org (mails.dpdk.org [217.70.189.124])
	by inbox.dpdk.org (Postfix) with ESMTP id 541844577D
	for <public@inbox.dpdk.org>; Sat, 10 Aug 2024 01:43:44 +0200 (CEST)
Received: from mails.dpdk.org (localhost [127.0.0.1])
	by mails.dpdk.org (Postfix) with ESMTP id 365654025C;
	Sat, 10 Aug 2024 01:43:44 +0200 (CEST)
Received: from mail-pl1-f226.google.com (mail-pl1-f226.google.com
 [209.85.214.226])
 by mails.dpdk.org (Postfix) with ESMTP id 9FA74400D7
 for <test-report@dpdk.org>; Sat, 10 Aug 2024 01:43:42 +0200 (CEST)
Received: by mail-pl1-f226.google.com with SMTP id
 d9443c01a7336-1fc66fc35f2so26198305ad.0
 for <test-report@dpdk.org>; Fri, 09 Aug 2024 16:43:42 -0700 (PDT)
DKIM-Signature: v=1; a=rsa-sha256; c=relaxed/relaxed;
 d=iol.unh.edu; s=unh-iol; t=1723247022; x=1723851822; darn=dpdk.org;
 h=references:in-reply-to:cc:to:from:subject:message-id:date:from:to
 :cc:subject:date:message-id:reply-to;
 bh=CxtQ3ywFKX0yOiQZA57jJUCR2WwDFxP3btQBYNMuyHY=;
 b=NN2qcL+EV5hh1El5lDT9o95kbhxLzVzXAL7C8zvabubtNfMrT+kOVpVGZ2Y85ed87v
 pzbRgRnPJ6xDsqjWu+s3WfGph9AyIsceBqnNo/zv5ymPv5KNetvxZfXgo395sGcbRsZI
 R1jg50wYLXxMMDBj30XXWAGPYBJRItOUi84b0=
X-Google-DKIM-Signature: v=1; a=rsa-sha256; c=relaxed/relaxed;
 d=1e100.net; s=20230601; t=1723247022; x=1723851822;
 h=references:in-reply-to:cc:to:from:subject:message-id:date
 :x-gm-message-state:from:to:cc:subject:date:message-id:reply-to;
 bh=CxtQ3ywFKX0yOiQZA57jJUCR2WwDFxP3btQBYNMuyHY=;
 b=sxvTfoKrYWcGkBD0V9fc+27/bWaaloAGtz1IB16TsXzaXoYTQCfZtPlrCFXaVZ67RU
 /wa5eeZdYP+y0dhrJNs0RHFgAoC85HV10yiDIk5DgEa+LIMwxllFXAJoerEppc5JOsic
 rHAqPioqXfkRAWzsUmX94UV2OqE5y6IkPpE73jPJdvOu0XLN3N46GUYgkAq+5x6ig7f9
 Anq0jeBhK7AbUIjgFhobQT+C+AXC3iPZhhODc+TNHh4veGBq1uVbKlogKHKmFyhoibN9
 UMJRizeZYmymeSQPf/xDeD3V/xbTT/HCp2kEcYFvVxrbBaB3lmuqKxQZ5g6uNHtLji8V
 0fKw==
X-Gm-Message-State: AOJu0YxSU/TjsUAQ9A06Rn/1L8UbyUI+CsVpI9csahRJOm7UIeTCpZi1
 zOlL7MgAlAjm6iLmwkpcewyVMBCE/HXknH55awdZfr6CTgfIIAVVIG7Ony9RcLyvqHOsKIpZSqZ
 a2N2LPfXUSQK1StHB4avADaL7OhZ8MhFe+IfLO2Kr
X-Google-Smtp-Source: AGHT+IEU1ls3F3RpRGkrFCL+ZDTLjlzUHhZvm+x5UWHqPSO/b9m5r+CFN0HVuMrVTZ2oLH7Sr7gkUKYvUFMd
X-Received: by 2002:a17:902:c941:b0:1fe:d72d:13e1 with SMTP id
 d9443c01a7336-200ae60b6e8mr39632925ad.30.1723247021632; 
 Fri, 09 Aug 2024 16:43:41 -0700 (PDT)
Received: from postal.iol.unh.edu (postal.iol.unh.edu. [132.177.123.84])
 by smtp-relay.gmail.com with ESMTPS id
 d9443c01a7336-200bb7e918fsm200295ad.18.2024.08.09.16.43.41
 (version=TLS1_2 cipher=ECDHE-ECDSA-AES128-GCM-SHA256 bits=128/128);
 Fri, 09 Aug 2024 16:43:41 -0700 (PDT)
X-Relaying-Domain: iol.unh.edu
Date: Fri, 09 Aug 2024 16:43:41 -0700 (PDT)
Message-ID: <66b6a9ad.170a0220.2efc15.169eSMTPIN_ADDED_MISSING@mx.google.com>
Received: from [172.21.0.8] (unknown [172.18.0.240])
 by postal.iol.unh.edu (Postfix) with ESMTP id BE5B8605C351;
 Fri,  9 Aug 2024 19:43:40 -0400 (EDT)
Subject: |PENDING| pw143054 [PATCH] [v3] net/gve: add support for TSO in DQO 
From: dpdklab@iol.unh.edu
To: Test Report <test-report@dpdk.org>
Cc: dpdk-test-reports@iol.unh.edu
In-Reply-To: <1723229462-2439640-1-git-send-email-tathagat.dpdk@gmail.com>
References: <1723229462-2439640-1-git-send-email-tathagat.dpdk@gmail.com>
Content-Type: text/plain
X-BeenThere: test-report@dpdk.org
X-Mailman-Version: 2.1.29
Precedence: list
List-Id: automatic DPDK test reports <test-report.dpdk.org>
List-Unsubscribe: <https://mails.dpdk.org/options/test-report>,
 <mailto:test-report-request@dpdk.org?subject=unsubscribe>
List-Archive: <http://mails.dpdk.org/archives/test-report/>
List-Post: <mailto:test-report@dpdk.org>
List-Help: <mailto:test-report-request@dpdk.org?subject=help>
List-Subscribe: <https://mails.dpdk.org/listinfo/test-report>,
 <mailto:test-report-request@dpdk.org?subject=subscribe>
Errors-To: test-report-bounces@dpdk.org

Test-Label: iol-unit-amd64-testing
Test-Status: PENDING
http://dpdk.org/patch/143054

_Testing pending_

Submitter: Tathagat Priyadarshi <tathagat.dpdk@gmail.com>
Date: Friday, August 09 2024 18:51:02 
DPDK git baseline: Repo:dpdk
  Branch: master
  CommitID:e0f7ebe88ab4588dd352e9ec14270ce4e3b1470b

143054 --> testing pending

Upstream job id: Generic-Unit-Test-DPDK#250616

Test environment and result as below:

+---------------------+----------------+
|     Environment     | dpdk_unit_test |
+=====================+================+
| Windows Server 2019 | PASS           |
+---------------------+----------------+
| CentOS Stream 9     | PASS           |
+---------------------+----------------+
| Debian 12           | PASS           |
+---------------------+----------------+
| Debian Bullseye     | PASS           |
+---------------------+----------------+
| Fedora 37           | PEND           |
+---------------------+----------------+
| Fedora 38           | PEND           |
+---------------------+----------------+
| Fedora 38 (Clang)   | PEND           |
+---------------------+----------------+
| Fedora 39 (Clang)   | PEND           |
+---------------------+----------------+
| RHEL8               | PEND           |
+---------------------+----------------+
| Ubuntu 20.04        | PEND           |
+---------------------+----------------+
| RHEL9               | PEND           |
+---------------------+----------------+
| openSUSE Leap 15    | PEND           |
+---------------------+----------------+
| Fedora 40 (Clang)   | PEND           |
+---------------------+----------------+
| Ubuntu 22.04        | PEND           |
+---------------------+----------------+


Windows Server 2019
	Kernel: 10.0.17763
	Compiler: clang 14.0 and gcc 8.1.0 (MinGW)

CentOS Stream 9
	Kernel: 5.4.0-167-generic
	Compiler: gcc 11.4.1 20230605

Debian 12
	Kernel: Container Host Kernel
	Compiler: gcc 12.2.0

Debian Bullseye
	Kernel: 5.4.0-167-generic
	Compiler: gcc 10.2.1-6

Fedora 37
	Kernel: Depends on container host system
	Compiler: gcc 12.3.1

Fedora 38
	Kernel: Depends on container host
	Compiler: gcc 13.2.1

Fedora 38 (Clang)
	Kernel: Depends on container host
	Compiler: clang 16.0.6

Fedora 39 (Clang)
	Kernel: Depends on container host
	Compiler: clang 17.0.6

RHEL8
	Kernel: 5.4.0-167-generic
	Compiler: gcc 8.5.0 20210514 (Red Hat 8.5.0-20)

Ubuntu 20.04
	Kernel: 5.4.0-167-generic
	Compiler: gcc 9.4.0-1ubuntu1~20.04.1

RHEL9
	Kernel: Depends on container host
	Compiler: gcc 11.4.1

openSUSE Leap 15
	Kernel: 5.4.0-167-generic
	Compiler: gcc 7.5.0

Fedora 40 (Clang)
	Kernel: Depends on container host
	Compiler: clang 18.1.6

Ubuntu 22.04
	Kernel: 5.4.0-167-generic
	Compiler: gcc 11.4.0

To view detailed results, visit:
https://lab.dpdk.org/results/dashboard/patchsets/30759/

UNH-IOL DPDK Community Lab

To manage your email subscriptions, visit: 
https://lab.dpdk.org/results/dashboard/preferences/subscriptions/