From mboxrd@z Thu Jan  1 00:00:00 1970
Return-Path: <test-report-bounces@dpdk.org>
Received: from mails.dpdk.org (mails.dpdk.org [217.70.189.124])
	by inbox.dpdk.org (Postfix) with ESMTP id AE4E94577D
	for <public@inbox.dpdk.org>; Sat, 10 Aug 2024 01:53:58 +0200 (CEST)
Received: from mails.dpdk.org (localhost [127.0.0.1])
	by mails.dpdk.org (Postfix) with ESMTP id A41B54025C;
	Sat, 10 Aug 2024 01:53:58 +0200 (CEST)
Received: from mail-io1-f97.google.com (mail-io1-f97.google.com
 [209.85.166.97]) by mails.dpdk.org (Postfix) with ESMTP id A866B400D7
 for <test-report@dpdk.org>; Sat, 10 Aug 2024 01:53:57 +0200 (CEST)
Received: by mail-io1-f97.google.com with SMTP id
 ca18e2360f4ac-81f86fd93acso98567839f.1
 for <test-report@dpdk.org>; Fri, 09 Aug 2024 16:53:57 -0700 (PDT)
DKIM-Signature: v=1; a=rsa-sha256; c=relaxed/relaxed;
 d=iol.unh.edu; s=unh-iol; t=1723247637; x=1723852437; darn=dpdk.org;
 h=references:in-reply-to:cc:to:from:subject:message-id:date:from:to
 :cc:subject:date:message-id:reply-to;
 bh=kC16qioz7Nvp2VtNeV7NPyCNb0YpNzsYH01ftnn8ycs=;
 b=WJ9z6R58M/JZs1R0lxauHRFvxOneUDyHyK03IOM5u48037UYQarAwEIdTXynBP1ME4
 hpT/Ytnlm1zmHh8oaCv0CNHeeamTty4tdRzAgoFZUkPpG949yQ8xN98qjmdbvh9t9pHs
 yeevUQR2WZRsf9Ra1JfKO9TEXEyiqNTOPmo8w=
X-Google-DKIM-Signature: v=1; a=rsa-sha256; c=relaxed/relaxed;
 d=1e100.net; s=20230601; t=1723247637; x=1723852437;
 h=references:in-reply-to:cc:to:from:subject:message-id:date
 :x-gm-message-state:from:to:cc:subject:date:message-id:reply-to;
 bh=kC16qioz7Nvp2VtNeV7NPyCNb0YpNzsYH01ftnn8ycs=;
 b=pBrd4CaG/MRzS228rrPYN856R279AEL+DAAB51WdEX1b7ewebFHLm+YxRL/mwAboxr
 Z18asn5wfWrvJuYpmQNx05KLmtZtPpbAIVPXd21U4Y59sDTS2WZQjNrU3Hju9Iz2YeiU
 izciMNAgY1KKDhRJFMz780dLn3pEGt8rENTTVX51UUo6xh4v8Wh4OgapQ0TCXfnNB1gC
 LfTfNkFVvYEb4ZPJs6w8j21FikqJ55f2A3MZ8CNoqMWd1vjsi+WI+92R/tuQC3JwOJ6T
 bKkILgQrV6vx1gnquhegtjkSCNCMdc5Rr6jtEvERvnuXbyUa+/n1xfhFicIG+wd8eFZ0
 lSIA==
X-Gm-Message-State: AOJu0Yyg6z92gPWVoLw1frQQw62xMpZXXfOhat/meC8NjtRBd3692FVF
 LL1vbn9LyLmoEWh6emEqKFWbZsAc9+dcA3Hgc0KtvQr/LHIgraGHBCeDLPhh4KDAmT+Xm6lOU2l
 FIxzsVDeqglXN5i4jbIOLnRpepKh1sqDcSOc2LG3b
X-Google-Smtp-Source: AGHT+IHt0KxixoGCN/DeG+lBxXGxBqOf0nqlHnR3xOtFW5IQsZZOl2UC+MocFGE5JhL4a5X22dqIyiPArrcx
X-Received: by 2002:a5e:dd49:0:b0:7fb:c0c8:2fc7 with SMTP id
 ca18e2360f4ac-822546b0cccmr833325239f.3.1723247636890; 
 Fri, 09 Aug 2024 16:53:56 -0700 (PDT)
Received: from postal.iol.unh.edu (postal.iol.unh.edu. [132.177.123.84])
 by smtp-relay.gmail.com with ESMTPS id
 ca18e2360f4ac-8226726e17asm2091039f.28.2024.08.09.16.53.56
 (version=TLS1_2 cipher=ECDHE-ECDSA-AES128-GCM-SHA256 bits=128/128);
 Fri, 09 Aug 2024 16:53:56 -0700 (PDT)
X-Relaying-Domain: iol.unh.edu
Date: Fri, 09 Aug 2024 16:53:56 -0700 (PDT)
Message-ID: <66b6ac14.6b0a0220.1a722d.1818SMTPIN_ADDED_MISSING@mx.google.com>
Received: from [172.21.0.8] (unknown [172.18.0.240])
 by postal.iol.unh.edu (Postfix) with ESMTP id 569A4605C351;
 Fri,  9 Aug 2024 19:53:56 -0400 (EDT)
Subject: |PENDING| pw143051-143053 [PATCH] [v2,3/3] test/alarm: rewrite the a
From: dpdklab@iol.unh.edu
To: Test Report <test-report@dpdk.org>
Cc: dpdk-test-reports@iol.unh.edu
In-Reply-To: <20240809152540.9568-4-stephen@networkplumber.org>
References: <20240809152540.9568-4-stephen@networkplumber.org>
Content-Type: text/plain
X-BeenThere: test-report@dpdk.org
X-Mailman-Version: 2.1.29
Precedence: list
List-Id: automatic DPDK test reports <test-report.dpdk.org>
List-Unsubscribe: <https://mails.dpdk.org/options/test-report>,
 <mailto:test-report-request@dpdk.org?subject=unsubscribe>
List-Archive: <http://mails.dpdk.org/archives/test-report/>
List-Post: <mailto:test-report@dpdk.org>
List-Help: <mailto:test-report-request@dpdk.org?subject=help>
List-Subscribe: <https://mails.dpdk.org/listinfo/test-report>,
 <mailto:test-report-request@dpdk.org?subject=subscribe>
Errors-To: test-report-bounces@dpdk.org

Test-Label: iol-compile-amd64-testing
Test-Status: PENDING
http://dpdk.org/patch/143053

_Testing pending_

Submitter: Stephen Hemminger <stephen@networkplumber.org>
Date: Friday, August 09 2024 15:24:29 
DPDK git baseline: Repo:dpdk
  Branch: master
  CommitID:cb9187bc5c2b4bab0ad80194ac3b60491de14e8c

143051-143053 --> testing pending

Upstream job id: Generic-DPDK-Compile-Meson#286578

Test environment and result as below:

+---------------------+--------------------+----------------------+------------------+-------------------+
|     Environment     | dpdk_meson_compile | dpdk_mingw64_compile | dpdk_compile_ovs | dpdk_compile_spdk |
+=====================+====================+======================+==================+===================+
| Windows Server 2019 | PASS               | PASS                 | SKIPPED          | SKIPPED           |
+---------------------+--------------------+----------------------+------------------+-------------------+
| FreeBSD 13.3        | PASS               | SKIPPED              | SKIPPED          | SKIPPED           |
+---------------------+--------------------+----------------------+------------------+-------------------+
| FreeBSD 14.1        | PASS               | SKIPPED              | SKIPPED          | SKIPPED           |
+---------------------+--------------------+----------------------+------------------+-------------------+
| CentOS Stream 9     | PASS               | SKIPPED              | PASS             | PASS              |
+---------------------+--------------------+----------------------+------------------+-------------------+
| Debian 12           | PASS               | SKIPPED              | PASS             | PASS              |
+---------------------+--------------------+----------------------+------------------+-------------------+
| Fedora 37           | PASS               | SKIPPED              | PASS             | PASS              |
+---------------------+--------------------+----------------------+------------------+-------------------+
| Debian Bullseye     | PEND               | SKIPPED              | SKIPPED          | SKIPPED           |
+---------------------+--------------------+----------------------+------------------+-------------------+
| Fedora 38 (Clang)   | PEND               | SKIPPED              | PEND             | PEND              |
+---------------------+--------------------+----------------------+------------------+-------------------+
| Fedora 38           | PASS               | SKIPPED              | PASS             | PASS              |
+---------------------+--------------------+----------------------+------------------+-------------------+
| Fedora 39 (Clang)   | PASS               | SKIPPED              | PASS             | PASS              |
+---------------------+--------------------+----------------------+------------------+-------------------+
| Fedora 39           | PASS               | SKIPPED              | PASS             | PASS              |
+---------------------+--------------------+----------------------+------------------+-------------------+
| Fedora 40 (Clang)   | PASS               | SKIPPED              | PASS             | PASS              |
+---------------------+--------------------+----------------------+------------------+-------------------+
| Fedora 40           | PEND               | SKIPPED              | SKIPPED          | SKIPPED           |
+---------------------+--------------------+----------------------+------------------+-------------------+
| openSUSE Leap 15    | PEND               | SKIPPED              | SKIPPED          | SKIPPED           |
+---------------------+--------------------+----------------------+------------------+-------------------+
| RHEL9               | PEND               | SKIPPED              | SKIPPED          | SKIPPED           |
+---------------------+--------------------+----------------------+------------------+-------------------+
| Ubuntu 24.04        | PASS               | SKIPPED              | PASS             | PASS              |
+---------------------+--------------------+----------------------+------------------+-------------------+
| Ubuntu 20.04        | PASS               | SKIPPED              | PEND             | SKIPPED           |
+---------------------+--------------------+----------------------+------------------+-------------------+
| Alpine              | PEND               | SKIPPED              | SKIPPED          | SKIPPED           |
+---------------------+--------------------+----------------------+------------------+-------------------+


Windows Server 2019
	Kernel: 10.0.17763
	Compiler: clang 14.0 and gcc 8.1.0 (MinGW)

FreeBSD 13.3
	Kernel: 13.3-RELEASE-p1
	Compiler: clang 17.0.6

FreeBSD 14.1
	Kernel: 14.1
	Compiler: clang 18.1.5

CentOS Stream 9
	Kernel: 5.4.0-167-generic
	Compiler: gcc 11.4.1 20230605

Debian 12
	Kernel: Container Host Kernel
	Compiler: gcc 12.2.0

Fedora 37
	Kernel: Depends on container host system
	Compiler: gcc 12.3.1

Debian Bullseye
	Kernel: 5.4.0-167-generic
	Compiler: gcc 10.2.1-6

Fedora 38 (Clang)
	Kernel: Depends on container host
	Compiler: clang 16.0.6

Fedora 38
	Kernel: Depends on container host
	Compiler: gcc 13.2.1

Fedora 39 (Clang)
	Kernel: Depends on container host
	Compiler: clang 17.0.6

Fedora 39
	Kernel: Depends on container host
	Compiler: gcc 13.2.1

Fedora 40 (Clang)
	Kernel: Depends on container host
	Compiler: clang 18.1.6

Fedora 40
	Kernel: Depends on container host
	Compiler: gcc 14.1.1

openSUSE Leap 15
	Kernel: 5.4.0-167-generic
	Compiler: gcc 7.5.0

RHEL9
	Kernel: Depends on container host
	Compiler: gcc 11.4.1

Ubuntu 24.04
	Kernel: 5.4.0-167-generic
	Compiler: gcc 13.2.0

Ubuntu 20.04
	Kernel: 5.4.0-167-generic
	Compiler: gcc 9.4.0-1ubuntu1~20.04.1

Alpine
	Kernel: 5.4.0-167-generic
	Compiler: gcc (Alpine 13.2.1_git20231014) 13.2.1 20231014

To view detailed results, visit:
https://lab.dpdk.org/results/dashboard/patchsets/30758/

UNH-IOL DPDK Community Lab

To manage your email subscriptions, visit: 
https://lab.dpdk.org/results/dashboard/preferences/subscriptions/