From mboxrd@z Thu Jan  1 00:00:00 1970
Return-Path: <test-report-bounces@dpdk.org>
Received: from mails.dpdk.org (mails.dpdk.org [217.70.189.124])
	by inbox.dpdk.org (Postfix) with ESMTP id 5173445780
	for <public@inbox.dpdk.org>; Sat, 10 Aug 2024 06:29:19 +0200 (CEST)
Received: from mails.dpdk.org (localhost [127.0.0.1])
	by mails.dpdk.org (Postfix) with ESMTP id 4D7A840151;
	Sat, 10 Aug 2024 06:29:19 +0200 (CEST)
Received: from mail-yb1-f227.google.com (mail-yb1-f227.google.com
 [209.85.219.227])
 by mails.dpdk.org (Postfix) with ESMTP id 6B683400D7
 for <test-report@dpdk.org>; Sat, 10 Aug 2024 06:29:18 +0200 (CEST)
Received: by mail-yb1-f227.google.com with SMTP id
 3f1490d57ef6-e0885b4f1d5so2616446276.1
 for <test-report@dpdk.org>; Fri, 09 Aug 2024 21:29:18 -0700 (PDT)
DKIM-Signature: v=1; a=rsa-sha256; c=relaxed/relaxed;
 d=iol.unh.edu; s=unh-iol; t=1723264157; x=1723868957; darn=dpdk.org;
 h=references:in-reply-to:cc:to:from:subject:message-id:date:from:to
 :cc:subject:date:message-id:reply-to;
 bh=rFkA+3s25GZiSDljGIheTzYATdUw45qElOCLKRsvObE=;
 b=Dno5X2+norcEALMoldQPma85bONhRpXZc5ZYc4iM9/NHOWbk9+OhZ2+o2F90G8B+L/
 4Hl6XeRblB5LZL/HzVXC06yzk4SzohmMosMq8C6H0qciQtiDldhFI3Ap2nkaPaYyDJna
 KOR13L6ka3W/8/I+mzBLqlvTCVqSZQhWk4srw=
X-Google-DKIM-Signature: v=1; a=rsa-sha256; c=relaxed/relaxed;
 d=1e100.net; s=20230601; t=1723264157; x=1723868957;
 h=references:in-reply-to:cc:to:from:subject:message-id:date
 :x-gm-message-state:from:to:cc:subject:date:message-id:reply-to;
 bh=rFkA+3s25GZiSDljGIheTzYATdUw45qElOCLKRsvObE=;
 b=niIEsj1OTfrHxUp/KNRvtxbLp9ueASBUKCaN3XAKMqj0P3iL6UgMFvhOoN+JeoAZLM
 OA6N+Ly8GcsaMOsFzQfI6FYzpGR4j3RS6kuirKz2BSa87zTeCM6GwStrixGOL11jPH9y
 wzEJm0/Ky1v6QyPpW+4Lb7UvQIQ92NgQYZLDyYkxJn1U0c0BA6Csby6ALSrKbuTxQxiy
 mloIaqx8KxDBi9cTUhZlbYXPR9LYTJNqUvuJF/G/MpxxGjxyXLG6TWkZOCpYi3rq1Oji
 KuGJ6+lfdjqg4lwfbcOdgAeXGXhAJcW1AxPO7TDt41OSQQ1T7x09TmWEQ99MiyfbpSTN
 RNFQ==
X-Gm-Message-State: AOJu0YwFkJbNsJUrnNsnAEv56p3t+Bf4HwJJB/hgwoY//H6nI9AjtxXO
 aatD63w6njv5UuGdjSYhc8+Bn4icDFm4fio2l0fWbFm14hkrIroqbGWpJqDl8qmys9ir4ZCSA+1
 2A1w30g/+R0yNLdqRbADkfaSq/q2gW0ZUkppU2mwd
X-Google-Smtp-Source: AGHT+IHvY6JkKDfha1zDXOwBnATmAl1tiC1pRdxgxUUThQdKfTFXBJuSQhrgl5F79ys/ICxarZZlmm+o/V81
X-Received: by 2002:a05:6902:248a:b0:e0e:8941:c37f with SMTP id
 3f1490d57ef6-e0eb9a16f9amr3981211276.46.1723264157708; 
 Fri, 09 Aug 2024 21:29:17 -0700 (PDT)
Received: from postal.iol.unh.edu (postal.iol.unh.edu. [132.177.123.84])
 by smtp-relay.gmail.com with ESMTPS id
 3f1490d57ef6-e0ec8ba5a59sm39416276.3.2024.08.09.21.29.17
 (version=TLS1_2 cipher=ECDHE-ECDSA-AES128-GCM-SHA256 bits=128/128);
 Fri, 09 Aug 2024 21:29:17 -0700 (PDT)
X-Relaying-Domain: iol.unh.edu
Date: Fri, 09 Aug 2024 21:29:17 -0700 (PDT)
Message-ID: <66b6ec9d.250a0220.c9525.3526SMTPIN_ADDED_MISSING@mx.google.com>
Received: from [172.21.0.7] (unknown [172.18.0.240])
 by postal.iol.unh.edu (Postfix) with ESMTP id 59479605C351;
 Sat, 10 Aug 2024 00:29:17 -0400 (EDT)
Subject: |SUCCESS| pw143051-143053 [PATCH] [v2,3/3] test/alarm: rewrite the a
From: dpdklab@iol.unh.edu
To: Test Report <test-report@dpdk.org>
Cc: dpdk-test-reports@iol.unh.edu
In-Reply-To: <20240809152540.9568-4-stephen@networkplumber.org>
References: <20240809152540.9568-4-stephen@networkplumber.org>
Content-Type: text/plain
X-BeenThere: test-report@dpdk.org
X-Mailman-Version: 2.1.29
Precedence: list
List-Id: automatic DPDK test reports <test-report.dpdk.org>
List-Unsubscribe: <https://mails.dpdk.org/options/test-report>,
 <mailto:test-report-request@dpdk.org?subject=unsubscribe>
List-Archive: <http://mails.dpdk.org/archives/test-report/>
List-Post: <mailto:test-report@dpdk.org>
List-Help: <mailto:test-report-request@dpdk.org?subject=help>
List-Subscribe: <https://mails.dpdk.org/listinfo/test-report>,
 <mailto:test-report-request@dpdk.org?subject=subscribe>
Errors-To: test-report-bounces@dpdk.org

Test-Label: iol-sample-apps-testing
Test-Status: SUCCESS
http://dpdk.org/patch/143053

_Testing PASS_

Submitter: Stephen Hemminger <stephen@networkplumber.org>
Date: Friday, August 09 2024 15:24:29 
DPDK git baseline: Repo:dpdk
  Branch: master
  CommitID:cb9187bc5c2b4bab0ad80194ac3b60491de14e8c

143051-143053 --> testing pass

Upstream job id: ACVP-FIPS-testing#6587

Test environment and result as below:

+--------------------+----------------------+----------------------+
|    Environment     | compressdev_zlib_pmd | dpdk_fips_validation |
+====================+======================+======================+
| Ubuntu 22.04 (ARM) | PASS                 | SKIPPED              |
+--------------------+----------------------+----------------------+
| Ubuntu 22.04       | PASS                 | SKIPPED              |
+--------------------+----------------------+----------------------+
| Ubuntu 20.04       | SKIPPED              | PASS                 |
+--------------------+----------------------+----------------------+


Ubuntu 22.04 (ARM)
	Kernel: 5.15.0-97-generic
	Compiler: gcc gcc (Ubuntu 11.4.0-1ubuntu1~22.04) 11.4.0

Ubuntu 22.04
	Kernel: 5.15.0-100-generic
	Compiler: gcc gcc (Ubuntu 11.4.0-1ubuntu1~22.04) 11.4.0

Ubuntu 20.04
	Kernel: 5.4.0-167-generic
	Compiler: gcc 9.4.0-1ubuntu1~20.04.1

To view detailed results, visit:
https://lab.dpdk.org/results/dashboard/patchsets/30758/

UNH-IOL DPDK Community Lab

To manage your email subscriptions, visit: 
https://lab.dpdk.org/results/dashboard/preferences/subscriptions/