From mboxrd@z Thu Jan  1 00:00:00 1970
Return-Path: <test-report-bounces@dpdk.org>
Received: from mails.dpdk.org (mails.dpdk.org [217.70.189.124])
	by inbox.dpdk.org (Postfix) with ESMTP id 93AAE45793
	for <public@inbox.dpdk.org>; Sun, 11 Aug 2024 11:37:23 +0200 (CEST)
Received: from mails.dpdk.org (localhost [127.0.0.1])
	by mails.dpdk.org (Postfix) with ESMTP id 8F0ED400D7;
	Sun, 11 Aug 2024 11:37:23 +0200 (CEST)
Received: from mail-oa1-f99.google.com (mail-oa1-f99.google.com
 [209.85.160.99]) by mails.dpdk.org (Postfix) with ESMTP id 43617400D5
 for <test-report@dpdk.org>; Sun, 11 Aug 2024 11:37:23 +0200 (CEST)
Received: by mail-oa1-f99.google.com with SMTP id
 586e51a60fabf-260f81f7fb5so2209803fac.0
 for <test-report@dpdk.org>; Sun, 11 Aug 2024 02:37:23 -0700 (PDT)
DKIM-Signature: v=1; a=rsa-sha256; c=relaxed/relaxed;
 d=iol.unh.edu; s=unh-iol; t=1723369042; x=1723973842; darn=dpdk.org;
 h=references:in-reply-to:cc:to:from:subject:message-id:date:from:to
 :cc:subject:date:message-id:reply-to;
 bh=M5QcJxar4kAus9YuusoMTjIuSdYw+RgNloMub+gPuhg=;
 b=asOyh/aRsk96az93ku6QwRns9jkgHxtDLynueAltbCybrTIBTcegbBN5uhmDhY9i2Q
 C/FFcZfsM1EMNNtQ332wEDzyuaKui+VupN/bSdgYU8KMb9k9+PaagOzEVIKjg3F7pT6t
 tRbxgfhtZZC+f4s84pQyRxANMkx/H6EueCjEc=
X-Google-DKIM-Signature: v=1; a=rsa-sha256; c=relaxed/relaxed;
 d=1e100.net; s=20230601; t=1723369042; x=1723973842;
 h=references:in-reply-to:cc:to:from:subject:message-id:date
 :x-gm-message-state:from:to:cc:subject:date:message-id:reply-to;
 bh=M5QcJxar4kAus9YuusoMTjIuSdYw+RgNloMub+gPuhg=;
 b=IMoqU6XEHZkJvFFBbxrVnfWODhnw8c67cxfq+7QoYTAGHoZTP8GLvt2U4iNjeqXK1D
 ajp10GilaaxDpeSlHkqTqgIUQLT0OF5R/DZ4B9BCPMmNlpNSkKOaAss4QGaDGOYWKAkB
 O8A49DrG/KisXfwfwIGbK8mbRiYXB2Qr7xq/CUuBsytetz9weviGJRBFqxryHQ8JqiWj
 DOgrekBbAC/kRAreIRWyaThzOa5eOcfzFwgvo4q963IRkqUPWhZu0lkyglmb2i90X+gc
 hzNTFmXG74L2azJrkyPb+CsRKN+WCppDje9r/bL4SCrI5y4mIHut+tKCp//RvPEQBEdZ
 GWgA==
X-Gm-Message-State: AOJu0YxoY1GPgGkM6p4R2bMWCDkl+gMin+vqBZkVVGjMfSA9fSOGlQIY
 rS4831EiFp4Aq8ooibN5UPAL4os/k2AowCl1vc6q/GPDE54zPt/J+ZF3qIUiRkVT/BNz9/Q6lw1
 2qI9jv8P6VKAbgvQCHXHD5yVHoFwz5uruu4mS4hrd
X-Google-Smtp-Source: AGHT+IG/gqq40NWhclpUKmcVJDwkGswKxBfzps8zzav9rPK5aZagR9pfV9WnSQGbkYWv+296/BDTcJULYacD
X-Received: by 2002:a05:6870:d146:b0:25e:14e9:10c9 with SMTP id
 586e51a60fabf-26c62c42fbemr8228500fac.6.1723369042492; 
 Sun, 11 Aug 2024 02:37:22 -0700 (PDT)
Received: from postal.iol.unh.edu (postal.iol.unh.edu. [132.177.123.84])
 by smtp-relay.gmail.com with ESMTPS id
 d2e1a72fcca58-710e58a17c7sm163995b3a.9.2024.08.11.02.37.22
 (version=TLS1_2 cipher=ECDHE-ECDSA-AES128-GCM-SHA256 bits=128/128);
 Sun, 11 Aug 2024 02:37:22 -0700 (PDT)
X-Relaying-Domain: iol.unh.edu
Date: Sun, 11 Aug 2024 02:37:22 -0700 (PDT)
Message-ID: <66b88652.050a0220.7b8c.e6e8SMTPIN_ADDED_MISSING@mx.google.com>
Received: from [172.17.0.5] (unknown [172.18.0.217])
 by postal.iol.unh.edu (Postfix) with ESMTP id 970BC6052500;
 Sun, 11 Aug 2024 05:37:21 -0400 (EDT)
Subject: |PENDING| pw143062 [PATCH] [v4,1/1] examples/l2fwd-jobstats: fix loc
From: dpdklab@iol.unh.edu
To: Test Report <test-report@dpdk.org>
Cc: dpdk-test-reports@iol.unh.edu
In-Reply-To: <20240811065819.575759-1-rkudurumalla@marvell.com>
References: <20240811065819.575759-1-rkudurumalla@marvell.com>
Content-Type: text/plain
X-BeenThere: test-report@dpdk.org
X-Mailman-Version: 2.1.29
Precedence: list
List-Id: automatic DPDK test reports <test-report.dpdk.org>
List-Unsubscribe: <https://mails.dpdk.org/options/test-report>,
 <mailto:test-report-request@dpdk.org?subject=unsubscribe>
List-Archive: <http://mails.dpdk.org/archives/test-report/>
List-Post: <mailto:test-report@dpdk.org>
List-Help: <mailto:test-report-request@dpdk.org?subject=help>
List-Subscribe: <https://mails.dpdk.org/listinfo/test-report>,
 <mailto:test-report-request@dpdk.org?subject=subscribe>
Errors-To: test-report-bounces@dpdk.org

Test-Label: iol-compile-arm64-testing
Test-Status: PENDING
http://dpdk.org/patch/143062

_Testing pending_

Submitter: Rakesh Kudurumalla <rkudurumalla@marvell.com>
Date: Sunday, August 11 2024 06:58:19 
DPDK git baseline: Repo:dpdk
  Branch: master
  CommitID:cb9187bc5c2b4bab0ad80194ac3b60491de14e8c

143062 --> testing pending

Upstream job id: Generic-DPDK-Compile-Meson#286939

Test environment and result as below:

+------------------------------------+--------------------+
|            Environment             | dpdk_meson_compile |
+====================================+====================+
| RHEL9 (ARM)                        | PASS               |
+------------------------------------+--------------------+
| Ubuntu 20.04 ARM GCC Cross Compile | PEND               |
+------------------------------------+--------------------+
| Ubuntu 20.04 ARM SVE               | PASS               |
+------------------------------------+--------------------+
| Fedora 37 (ARM)                    | PEND               |
+------------------------------------+--------------------+
| Debian 12 with MUSDK               | PASS               |
+------------------------------------+--------------------+
| Fedora 38 (ARM)                    | PEND               |
+------------------------------------+--------------------+
| Fedora 38 (ARM Clang)              | PEND               |
+------------------------------------+--------------------+
| Fedora 39 (ARM Clang)              | PEND               |
+------------------------------------+--------------------+
| Fedora 39 (ARM)                    | PEND               |
+------------------------------------+--------------------+
| Fedora 40 (ARM)                    | PEND               |
+------------------------------------+--------------------+
| Fedora 40 (ARM Clang)              | PEND               |
+------------------------------------+--------------------+
| Ubuntu 20.04 (ARM)                 | PEND               |
+------------------------------------+--------------------+
| Ubuntu 24.04 (ARM)                 | PEND               |
+------------------------------------+--------------------+
| Ubuntu 22.04 (ARM)                 | PEND               |
+------------------------------------+--------------------+
| CentOS Stream 9 (ARM)              | PEND               |
+------------------------------------+--------------------+


RHEL9 (ARM)
	Kernel: Depends on container host
	Compiler: gcc 11.4.1

Ubuntu 20.04 ARM GCC Cross Compile
	Kernel: 5.4.0-167-generic
	Compiler: aarch64-linux-gnu-gcc (Ubuntu 9.4.0-1ubuntu1~20.04.2) 9.4.0

Ubuntu 20.04 ARM SVE
	Kernel: 5.4.0-167-generic
	Compiler: gcc (Ubuntu 10.5.0-1ubuntu1~20.04) 10.5.0

Fedora 37 (ARM)
	Kernel: Depends on container host
	Compiler: gcc 12.3.1

Debian 12 with MUSDK
	Kernel: Container Host Kernel
	Compiler: gcc 12.2.0

Fedora 38 (ARM)
	Kernel: Depends on container host
	Compiler: gcc 13.2.1

Fedora 38 (ARM Clang)
	Kernel: Depends on container host
	Compiler: clang 16.0.6

Fedora 39 (ARM Clang)
	Kernel: Depends on container host
	Compiler: clang 17.0.6

Fedora 39 (ARM)
	Kernel: Depends on container host
	Compiler: gcc 13.2.1

Fedora 40 (ARM)
	Kernel: Depends on container host
	Compiler: gcc 14.1.1

Fedora 40 (ARM Clang)
	Kernel: Depends on container host
	Compiler: clang 18.1.6

Ubuntu 20.04 (ARM)
	Kernel: Container Host Kernel
	Compiler: gcc 9.4.0

Ubuntu 24.04 (ARM)
	Kernel: 5.4.0-167-generic
	Compiler: gcc 13.2.0

Ubuntu 22.04 (ARM)
	Kernel: Container Host Kernel
	Compiler: gcc 11.4.0

CentOS Stream 9 (ARM)
	Kernel: Container Host Kernel
	Compiler: gcc 11.4.1

To view detailed results, visit:
https://lab.dpdk.org/results/dashboard/patchsets/30762/

UNH-IOL DPDK Community Lab

To manage your email subscriptions, visit: 
https://lab.dpdk.org/results/dashboard/preferences/subscriptions/