From mboxrd@z Thu Jan  1 00:00:00 1970
Return-Path: <test-report-bounces@dpdk.org>
Received: from mails.dpdk.org (mails.dpdk.org [217.70.189.124])
	by inbox.dpdk.org (Postfix) with ESMTP id 67FED45793
	for <public@inbox.dpdk.org>; Sun, 11 Aug 2024 11:51:58 +0200 (CEST)
Received: from mails.dpdk.org (localhost [127.0.0.1])
	by mails.dpdk.org (Postfix) with ESMTP id 63116400D7;
	Sun, 11 Aug 2024 11:51:58 +0200 (CEST)
Received: from mail-yb1-f228.google.com (mail-yb1-f228.google.com
 [209.85.219.228])
 by mails.dpdk.org (Postfix) with ESMTP id 7A8E1400D5
 for <test-report@dpdk.org>; Sun, 11 Aug 2024 11:51:56 +0200 (CEST)
Received: by mail-yb1-f228.google.com with SMTP id
 3f1490d57ef6-e0857a11862so3418736276.1
 for <test-report@dpdk.org>; Sun, 11 Aug 2024 02:51:56 -0700 (PDT)
DKIM-Signature: v=1; a=rsa-sha256; c=relaxed/relaxed;
 d=iol.unh.edu; s=unh-iol; t=1723369916; x=1723974716; darn=dpdk.org;
 h=references:in-reply-to:cc:to:from:subject:message-id:date:from:to
 :cc:subject:date:message-id:reply-to;
 bh=Gels3/fLuzH0txOxUOPY6NZehQLnrrcCDNZkpnsMmkY=;
 b=W0kgTlgVNLWuvzaTWUEtqx6PGIqEDZwmndelnR1L7t2YgjR4YWGimhvrdRaDW8qVdP
 weQu3/0EYErkUQBuAy1SXNuRFhJPwmUy7fFjfT/u6g2t48mMqI3bbXjmgIH1b19zco4Z
 6cfT599VDN/ekf23A8/I9DzvqdsPj7OE4n9Z0=
X-Google-DKIM-Signature: v=1; a=rsa-sha256; c=relaxed/relaxed;
 d=1e100.net; s=20230601; t=1723369916; x=1723974716;
 h=references:in-reply-to:cc:to:from:subject:message-id:date
 :x-gm-message-state:from:to:cc:subject:date:message-id:reply-to;
 bh=Gels3/fLuzH0txOxUOPY6NZehQLnrrcCDNZkpnsMmkY=;
 b=cPrQ9JOK1uU2AVQAafQlon11SQ2tgD7FWeOZPMSG0PXAZxLa7PUS8Mlss1VCWdt997
 RESNxZmBvZ3g3xB1/psY7oZAy+6i18Pj3DebAJk8rvY3VI4/InLTZ2mAuxmleC09+BqN
 03IZ9W+3RlM7JOQgztNj9xoMRZEZDAxSKszFUBQYpb1risrBDSedygu574/Fwl0rtBIW
 4t1zRXhiJif5KpEYhzaKPOd1FklToNXdAeC06JbAZscxy9qUauR6q5gZhyqNHPxawlA3
 WGQKDb37WegUvSJoSyibzzBUmjRv0eA5j/1A2jDSnJLijk80P7rk/znXxXDJZl9Fb7xM
 fKcw==
X-Gm-Message-State: AOJu0YxGn15z2j3GQ+nRGw9Y5x1dfDy32IPAk7QP8G99YevLYE7gmmpw
 Wtm3x0NUnYdOFrKcKlF7Cv/UgYyEBZ5m2mTI48IMN4hfhEffCiFzk81rl1Y7SnRiSt2qDE7rOGL
 8zeFvWfrQzOtnNThP2JaBoDPdlow30Rfd3f3z2HeXG0xSE5b3/b0pGz8e
X-Google-Smtp-Source: AGHT+IE71VTctCZOtrXEzzzNAJN6CPDRwzISn9A9jcxziGpmmB7ZFvAGEr0MHSIuY2Y2MTNKKi7mLPQcOjYv
X-Received: by 2002:a05:690c:2d11:b0:627:7e65:979 with SMTP id
 00721157ae682-69ec5e4b8a6mr81221647b3.24.1723369915831; 
 Sun, 11 Aug 2024 02:51:55 -0700 (PDT)
Received: from postal.iol.unh.edu (postal.iol.unh.edu.
 [2606:4100:3880:1234::84]) by smtp-relay.gmail.com with ESMTPS id
 00721157ae682-6a0a4521ff9sm1869157b3.65.2024.08.11.02.51.55
 (version=TLS1_2 cipher=ECDHE-ECDSA-AES128-GCM-SHA256 bits=128/128);
 Sun, 11 Aug 2024 02:51:55 -0700 (PDT)
X-Relaying-Domain: iol.unh.edu
Date: Sun, 11 Aug 2024 02:51:55 -0700 (PDT)
Message-ID: <66b889bb.0d0a0220.a8b4c.fceaSMTPIN_ADDED_MISSING@mx.google.com>
Received: from [172.17.0.5] (unknown [172.18.0.217])
 by postal.iol.unh.edu (Postfix) with ESMTP id 7135B6052500;
 Sun, 11 Aug 2024 05:51:55 -0400 (EDT)
Subject: |PENDING| pw143062 [PATCH] [v4,1/1] examples/l2fwd-jobstats: fix loc
From: dpdklab@iol.unh.edu
To: Test Report <test-report@dpdk.org>
Cc: dpdk-test-reports@iol.unh.edu
In-Reply-To: <20240811065819.575759-1-rkudurumalla@marvell.com>
References: <20240811065819.575759-1-rkudurumalla@marvell.com>
Content-Type: text/plain
X-BeenThere: test-report@dpdk.org
X-Mailman-Version: 2.1.29
Precedence: list
List-Id: automatic DPDK test reports <test-report.dpdk.org>
List-Unsubscribe: <https://mails.dpdk.org/options/test-report>,
 <mailto:test-report-request@dpdk.org?subject=unsubscribe>
List-Archive: <http://mails.dpdk.org/archives/test-report/>
List-Post: <mailto:test-report@dpdk.org>
List-Help: <mailto:test-report-request@dpdk.org?subject=help>
List-Subscribe: <https://mails.dpdk.org/listinfo/test-report>,
 <mailto:test-report-request@dpdk.org?subject=subscribe>
Errors-To: test-report-bounces@dpdk.org

Test-Label: iol-unit-amd64-testing
Test-Status: PENDING
http://dpdk.org/patch/143062

_Testing pending_

Submitter: Rakesh Kudurumalla <rkudurumalla@marvell.com>
Date: Sunday, August 11 2024 06:58:19 
DPDK git baseline: Repo:dpdk
  Branch: master
  CommitID:cb9187bc5c2b4bab0ad80194ac3b60491de14e8c

143062 --> testing pending

Upstream job id: Generic-Unit-Test-DPDK#250880

Test environment and result as below:

+---------------------+----------------+
|     Environment     | dpdk_unit_test |
+=====================+================+
| Windows Server 2022 | PASS           |
+---------------------+----------------+
| Windows Server 2019 | PASS           |
+---------------------+----------------+
| CentOS Stream 9     | PASS           |
+---------------------+----------------+
| Debian Bullseye     | PASS           |
+---------------------+----------------+
| Fedora 37           | PASS           |
+---------------------+----------------+
| Fedora 38           | PASS           |
+---------------------+----------------+
| Fedora 38 (Clang)   | PASS           |
+---------------------+----------------+
| Fedora 39           | PASS           |
+---------------------+----------------+
| Fedora 39 (Clang)   | PASS           |
+---------------------+----------------+
| Fedora 40           | PASS           |
+---------------------+----------------+
| Fedora 40 (Clang)   | PASS           |
+---------------------+----------------+
| openSUSE Leap 15    | PASS           |
+---------------------+----------------+
| RHEL8               | PASS           |
+---------------------+----------------+
| RHEL9               | PASS           |
+---------------------+----------------+
| Ubuntu 24.04        | PEND           |
+---------------------+----------------+
| Ubuntu 20.04        | PASS           |
+---------------------+----------------+
| Ubuntu 22.04        | PEND           |
+---------------------+----------------+
| Debian 12           | PEND           |
+---------------------+----------------+


Windows Server 2022
	Kernel: 10.0.20348.2031
	Compiler: clang 15.0.7, gcc 8.1.0 (MinGW), and MSVC VS 17.9

Windows Server 2019
	Kernel: 10.0.17763
	Compiler: clang 14.0 and gcc 8.1.0 (MinGW)

CentOS Stream 9
	Kernel: 5.4.0-167-generic
	Compiler: gcc 11.4.1 20230605

Debian Bullseye
	Kernel: 5.4.0-167-generic
	Compiler: gcc 10.2.1-6

Fedora 37
	Kernel: Depends on container host system
	Compiler: gcc 12.3.1

Fedora 38
	Kernel: Depends on container host
	Compiler: gcc 13.2.1

Fedora 38 (Clang)
	Kernel: Depends on container host
	Compiler: clang 16.0.6

Fedora 39
	Kernel: Depends on container host
	Compiler: gcc 13.2.1

Fedora 39 (Clang)
	Kernel: Depends on container host
	Compiler: clang 17.0.6

Fedora 40
	Kernel: Depends on container host
	Compiler: gcc 14.1.1

Fedora 40 (Clang)
	Kernel: Depends on container host
	Compiler: clang 18.1.6

openSUSE Leap 15
	Kernel: 5.4.0-167-generic
	Compiler: gcc 7.5.0

RHEL8
	Kernel: 5.4.0-167-generic
	Compiler: gcc 8.5.0 20210514 (Red Hat 8.5.0-20)

RHEL9
	Kernel: Depends on container host
	Compiler: gcc 11.4.1

Ubuntu 24.04
	Kernel: 5.4.0-167-generic
	Compiler: gcc 13.2.0

Ubuntu 20.04
	Kernel: 5.4.0-167-generic
	Compiler: gcc 9.4.0-1ubuntu1~20.04.1

Ubuntu 22.04
	Kernel: 5.4.0-167-generic
	Compiler: gcc 11.4.0

Debian 12
	Kernel: Container Host Kernel
	Compiler: gcc 12.2.0

To view detailed results, visit:
https://lab.dpdk.org/results/dashboard/patchsets/30762/

UNH-IOL DPDK Community Lab

To manage your email subscriptions, visit: 
https://lab.dpdk.org/results/dashboard/preferences/subscriptions/