From mboxrd@z Thu Jan  1 00:00:00 1970
Return-Path: <test-report-bounces@dpdk.org>
Received: from mails.dpdk.org (mails.dpdk.org [217.70.189.124])
	by inbox.dpdk.org (Postfix) with ESMTP id CBD2445794
	for <public@inbox.dpdk.org>; Sun, 11 Aug 2024 13:21:29 +0200 (CEST)
Received: from mails.dpdk.org (localhost [127.0.0.1])
	by mails.dpdk.org (Postfix) with ESMTP id A362A400D7;
	Sun, 11 Aug 2024 13:21:29 +0200 (CEST)
Received: from mail-pg1-f228.google.com (mail-pg1-f228.google.com
 [209.85.215.228])
 by mails.dpdk.org (Postfix) with ESMTP id 0A954400D5
 for <test-report@dpdk.org>; Sun, 11 Aug 2024 13:21:28 +0200 (CEST)
Received: by mail-pg1-f228.google.com with SMTP id
 41be03b00d2f7-7a1843b4cdbso2424964a12.2
 for <test-report@dpdk.org>; Sun, 11 Aug 2024 04:21:27 -0700 (PDT)
DKIM-Signature: v=1; a=rsa-sha256; c=relaxed/relaxed;
 d=iol.unh.edu; s=unh-iol; t=1723375287; x=1723980087; darn=dpdk.org;
 h=references:in-reply-to:cc:to:from:subject:message-id:date:from:to
 :cc:subject:date:message-id:reply-to;
 bh=pwMZDhz2miKbKxRWVO3IOpkpXFaqjLFCZiaMsQWpmFw=;
 b=VUzRgkLzokNtbbEt6k/bt4dyjPF79LgLsx8llJ7Wo52F5qlQTgUYqb8xr3yyc+rA2w
 eEqxoSA+woVzLJhh++pIdPPjEGKr7/BiDRN/IHCPQ+tIm2RNC3cFsONBF57VqH+YcBfO
 EmUgJRjLUJYWxRhI1JYv1y1cbHmXmRHnyIpU4=
X-Google-DKIM-Signature: v=1; a=rsa-sha256; c=relaxed/relaxed;
 d=1e100.net; s=20230601; t=1723375287; x=1723980087;
 h=references:in-reply-to:cc:to:from:subject:message-id:date
 :x-gm-message-state:from:to:cc:subject:date:message-id:reply-to;
 bh=pwMZDhz2miKbKxRWVO3IOpkpXFaqjLFCZiaMsQWpmFw=;
 b=qq2ZbvHDYwPqF+yoW3BwypArWLFChDZ/5sTgIIvqtD3lRpePYYDPlycF7v0SSsPDlu
 +2sIyLvyi/FEpdIeZsLizRjrw2eMq+/dbmEbdbPmWeMniZvOSp2L4sZ24l6GKoK5Ag7O
 P9sCEro31SugrFVZZbZQN797fgvIKrw587b/akBdvtGH205S8ueJB6HbP9eo8Hckpi7W
 AUp3pUE7CY0ujjyOb/Azlp8z65hMhrbLPfjnboqpCbtV4dxmviHzJXDlMqxo7V9IBuQA
 DumVr5EADxhXJ8c64zSY7qWkujaeFW1lP2UWY8WohkZoInMv/ANIijtm5+08+Xw37mGK
 LonQ==
X-Gm-Message-State: AOJu0Yw2oyWqPgGuk1QH8zgAXzd+CD1oSLouiigQl3z1PcRNyUNIg/ND
 1oTR3ah5Xzu1GWG+vviYLBt9LWmqTf/3zQeWGaogS/9tx/tLqmdMdxKGIGKgV9lCOQdZaCLREy3
 GjL7SCTWQQYWi3t9oqdmo1pV/BHAEcpb5RbRPQzQ4
X-Google-Smtp-Source: AGHT+IG3uurrhkE2Xbjb30Lv5XvocCq4YJq/y6uMKG1rXiOJcwFBGJH+JqPu4VFQRzf4pYBceDWM21B02GfG
X-Received: by 2002:a17:90b:3552:b0:2c9:9f06:bb2f with SMTP id
 98e67ed59e1d1-2d1e7f9b0damr7196137a91.6.1723375286816; 
 Sun, 11 Aug 2024 04:21:26 -0700 (PDT)
Received: from postal.iol.unh.edu (postal.iol.unh.edu. [132.177.123.84])
 by smtp-relay.gmail.com with ESMTPS id
 98e67ed59e1d1-2d1c9c99355sm319254a91.8.2024.08.11.04.21.26
 (version=TLS1_2 cipher=ECDHE-ECDSA-AES128-GCM-SHA256 bits=128/128);
 Sun, 11 Aug 2024 04:21:26 -0700 (PDT)
X-Relaying-Domain: iol.unh.edu
Date: Sun, 11 Aug 2024 04:21:26 -0700 (PDT)
Message-ID: <66b89eb6.170a0220.215eb7.81a4SMTPIN_ADDED_MISSING@mx.google.com>
Received: from [172.17.0.2] (unknown [172.18.0.217])
 by postal.iol.unh.edu (Postfix) with ESMTP id CFB576052500;
 Sun, 11 Aug 2024 07:21:25 -0400 (EDT)
Subject: |SUCCESS| pw143062 [PATCH] [v4,1/1] examples/l2fwd-jobstats: fix loc
From: dpdklab@iol.unh.edu
To: Test Report <test-report@dpdk.org>
Cc: dpdk-test-reports@iol.unh.edu
In-Reply-To: <20240811065819.575759-1-rkudurumalla@marvell.com>
References: <20240811065819.575759-1-rkudurumalla@marvell.com>
Content-Type: text/plain
X-BeenThere: test-report@dpdk.org
X-Mailman-Version: 2.1.29
Precedence: list
List-Id: automatic DPDK test reports <test-report.dpdk.org>
List-Unsubscribe: <https://mails.dpdk.org/options/test-report>,
 <mailto:test-report-request@dpdk.org?subject=unsubscribe>
List-Archive: <http://mails.dpdk.org/archives/test-report/>
List-Post: <mailto:test-report@dpdk.org>
List-Help: <mailto:test-report-request@dpdk.org?subject=help>
List-Subscribe: <https://mails.dpdk.org/listinfo/test-report>,
 <mailto:test-report-request@dpdk.org?subject=subscribe>
Errors-To: test-report-bounces@dpdk.org

Test-Label: iol-compile-arm64-testing
Test-Status: SUCCESS
http://dpdk.org/patch/143062

_Testing PASS_

Submitter: Rakesh Kudurumalla <rkudurumalla@marvell.com>
Date: Sunday, August 11 2024 06:58:19 
DPDK git baseline: Repo:dpdk
  Branch: master
  CommitID:cb9187bc5c2b4bab0ad80194ac3b60491de14e8c

143062 --> testing pass

Upstream job id: Generic-DPDK-Compile-Meson#286942

Test environment and result as below:

+----------------------------------------+--------------------+
|              Environment               | dpdk_meson_compile |
+========================================+====================+
| RHEL9 (ARM)                            | PASS               |
+----------------------------------------+--------------------+
| Ubuntu 20.04 ARM GCC Cross Compile     | PASS               |
+----------------------------------------+--------------------+
| Ubuntu 20.04 ARM SVE                   | PASS               |
+----------------------------------------+--------------------+
| Fedora 37 (ARM)                        | PASS               |
+----------------------------------------+--------------------+
| Debian 12 with MUSDK                   | PASS               |
+----------------------------------------+--------------------+
| Fedora 38 (ARM)                        | PASS               |
+----------------------------------------+--------------------+
| Fedora 38 (ARM Clang)                  | PASS               |
+----------------------------------------+--------------------+
| Fedora 39 (ARM Clang)                  | PASS               |
+----------------------------------------+--------------------+
| Fedora 39 (ARM)                        | PASS               |
+----------------------------------------+--------------------+
| Fedora 40 (ARM)                        | PASS               |
+----------------------------------------+--------------------+
| Fedora 40 (ARM Clang)                  | PASS               |
+----------------------------------------+--------------------+
| Ubuntu 20.04 (ARM)                     | PASS               |
+----------------------------------------+--------------------+
| Ubuntu 24.04 (ARM)                     | PASS               |
+----------------------------------------+--------------------+
| Ubuntu 22.04 (ARM)                     | PASS               |
+----------------------------------------+--------------------+
| CentOS Stream 9 (ARM)                  | PASS               |
+----------------------------------------+--------------------+
| Ubuntu 20.04 aarch32 GCC Cross Compile | PASS               |
+----------------------------------------+--------------------+
| Debian 12 (arm)                        | PASS               |
+----------------------------------------+--------------------+
| Debian 11 (Buster) (ARM)               | PASS               |
+----------------------------------------+--------------------+
| Ubuntu 20.04 ARM Clang Cross Compile   | PASS               |
+----------------------------------------+--------------------+


RHEL9 (ARM)
	Kernel: Depends on container host
	Compiler: gcc 11.4.1

Ubuntu 20.04 ARM GCC Cross Compile
	Kernel: 5.4.0-167-generic
	Compiler: aarch64-linux-gnu-gcc (Ubuntu 9.4.0-1ubuntu1~20.04.2) 9.4.0

Ubuntu 20.04 ARM SVE
	Kernel: 5.4.0-167-generic
	Compiler: gcc (Ubuntu 10.5.0-1ubuntu1~20.04) 10.5.0

Fedora 37 (ARM)
	Kernel: Depends on container host
	Compiler: gcc 12.3.1

Debian 12 with MUSDK
	Kernel: Container Host Kernel
	Compiler: gcc 12.2.0

Fedora 38 (ARM)
	Kernel: Depends on container host
	Compiler: gcc 13.2.1

Fedora 38 (ARM Clang)
	Kernel: Depends on container host
	Compiler: clang 16.0.6

Fedora 39 (ARM Clang)
	Kernel: Depends on container host
	Compiler: clang 17.0.6

Fedora 39 (ARM)
	Kernel: Depends on container host
	Compiler: gcc 13.2.1

Fedora 40 (ARM)
	Kernel: Depends on container host
	Compiler: gcc 14.1.1

Fedora 40 (ARM Clang)
	Kernel: Depends on container host
	Compiler: clang 18.1.6

Ubuntu 20.04 (ARM)
	Kernel: Container Host Kernel
	Compiler: gcc 9.4.0

Ubuntu 24.04 (ARM)
	Kernel: 5.4.0-167-generic
	Compiler: gcc 13.2.0

Ubuntu 22.04 (ARM)
	Kernel: Container Host Kernel
	Compiler: gcc 11.4.0

CentOS Stream 9 (ARM)
	Kernel: Container Host Kernel
	Compiler: gcc 11.4.1

Ubuntu 20.04 aarch32 GCC Cross Compile
	Kernel: 5.4.0-167-generic
	Compiler: gcc 9.4.0

Debian 12 (arm)
	Kernel: Container Host Kernel
	Compiler: gcc 12.2.0

Debian 11 (Buster) (ARM)
	Kernel: Container Host Kernel
	Compiler: gcc 10.2.1

Ubuntu 20.04 ARM Clang Cross Compile
	Kernel: 5.4.0-72-generic
	Compiler: clang 10.0.0-4ubuntu1

To view detailed results, visit:
https://lab.dpdk.org/results/dashboard/patchsets/30762/

UNH-IOL DPDK Community Lab

To manage your email subscriptions, visit: 
https://lab.dpdk.org/results/dashboard/preferences/subscriptions/