From mboxrd@z Thu Jan  1 00:00:00 1970
Return-Path: <test-report-bounces@dpdk.org>
Received: from mails.dpdk.org (mails.dpdk.org [217.70.189.124])
	by inbox.dpdk.org (Postfix) with ESMTP id 9A281457A0
	for <public@inbox.dpdk.org>; Mon, 12 Aug 2024 12:11:55 +0200 (CEST)
Received: from mails.dpdk.org (localhost [127.0.0.1])
	by mails.dpdk.org (Postfix) with ESMTP id 9470A402DE;
	Mon, 12 Aug 2024 12:11:55 +0200 (CEST)
Received: from mail-yb1-f227.google.com (mail-yb1-f227.google.com
 [209.85.219.227])
 by mails.dpdk.org (Postfix) with ESMTP id 623D8402C3
 for <test-report@dpdk.org>; Mon, 12 Aug 2024 12:11:54 +0200 (CEST)
Received: by mail-yb1-f227.google.com with SMTP id
 3f1490d57ef6-e0e76380433so3686093276.2
 for <test-report@dpdk.org>; Mon, 12 Aug 2024 03:11:54 -0700 (PDT)
DKIM-Signature: v=1; a=rsa-sha256; c=relaxed/relaxed;
 d=iol.unh.edu; s=unh-iol; t=1723457514; x=1724062314; darn=dpdk.org;
 h=references:in-reply-to:cc:to:from:subject:message-id:date:from:to
 :cc:subject:date:message-id:reply-to;
 bh=irtNdKv2NnCJCXFP9xn/TyJ4JPC9JM2haS/1g89Ynx4=;
 b=fLDdPdPgrVM2hNCwbLpS1ftfDOLRpuDfp8iB786w7uuuIzwyuBWmK579ACYAyYUaHP
 +ZUSwS174Ep/3ynqnMHboy2c1/s8yn/oCC3cTwZMKnWC//PdeBP6fY5epxBVQOb2rvF4
 tAg0ySLUyrAouciUknz5OKdcK9/WMlL4V8b08=
X-Google-DKIM-Signature: v=1; a=rsa-sha256; c=relaxed/relaxed;
 d=1e100.net; s=20230601; t=1723457514; x=1724062314;
 h=references:in-reply-to:cc:to:from:subject:message-id:date
 :x-gm-message-state:from:to:cc:subject:date:message-id:reply-to;
 bh=irtNdKv2NnCJCXFP9xn/TyJ4JPC9JM2haS/1g89Ynx4=;
 b=AwuARMnem1kO3x3VaVeiVaHyj1Uxqx20JQg8ag0XBFWRDe0Ll5Lcp8q9rOtRZwe/zm
 xwO4hdJvPC7sEi6oXTsEL1b5HxuvUGNO+tscbuRu4+iiJ1qAAJIGvRI2/s6iuojOG761
 rLpzfqHE6nEUHpmloqgZztNHtWMQIRaonDRlmvta7BWlmMKY2cBBB7PzZk3gHqsI13WL
 SLIgNqY6yzxk7K90rlx+Oa2BuoBgnjTOyp1nh+YQVh92Lx5B5k2DzNwdm+ACF2UQG06u
 6cIT/BLySMPNrpRBhOpkgXCJoD3OpOH3sGEbvtBFcUanF+7Ua+C2AKQkn2E3H5p10Uw2
 W1XA==
X-Gm-Message-State: AOJu0YzXgbJjhHTrp+ePewZp8eWZw8xLO9Jr68V/dMQNMDL9D6Qw4pIh
 9/vAbVUfoPQSKLleeMvZ79Dr6LV2EngdGM+U6dUV0jVlSpnhinIYF0l6zUGlPw4HdvNJ4rOAkKf
 b0Pf520zF925KZmQ2+JsVowzAccRMHIE8SD0mrpMa
X-Google-Smtp-Source: AGHT+IG/OdjAACIIruwwV5jJNRgTX/MlO9kH4B2aOCRgKb7JzrkZWpLS83et3OcioKWW8QNEVhYvQKEV8e7k
X-Received: by 2002:a05:6902:702:b0:e0e:88fc:edc7 with SMTP id
 3f1490d57ef6-e0eb995be2cmr12794782276.16.1723457513866; 
 Mon, 12 Aug 2024 03:11:53 -0700 (PDT)
Received: from postal.iol.unh.edu (postal.iol.unh.edu. [132.177.123.84])
 by smtp-relay.gmail.com with ESMTPS id
 3f1490d57ef6-e0ec8bc6c8esm281970276.8.2024.08.12.03.11.53
 (version=TLS1_2 cipher=ECDHE-ECDSA-AES128-GCM-SHA256 bits=128/128);
 Mon, 12 Aug 2024 03:11:53 -0700 (PDT)
X-Relaying-Domain: iol.unh.edu
Date: Mon, 12 Aug 2024 03:11:53 -0700 (PDT)
Message-ID: <66b9dfe9.250a0220.2e2c14.2da5SMTPIN_ADDED_MISSING@mx.google.com>
Received: from [172.21.0.7] (unknown [172.18.0.240])
 by postal.iol.unh.edu (Postfix) with ESMTP id 8213D60526E2;
 Mon, 12 Aug 2024 06:11:53 -0400 (EDT)
Subject: |PENDING| pw143065-143069 [PATCH] [v2,5/5] raw/zxdh: add support for
From: dpdklab@iol.unh.edu
To: Test Report <test-report@dpdk.org>
Cc: dpdk-test-reports@iol.unh.edu
In-Reply-To: <20240812073209.1924286-9-zhang.yong25@zte.com.cn>
References: <20240812073209.1924286-9-zhang.yong25@zte.com.cn>
Content-Type: text/plain
X-BeenThere: test-report@dpdk.org
X-Mailman-Version: 2.1.29
Precedence: list
List-Id: automatic DPDK test reports <test-report.dpdk.org>
List-Unsubscribe: <https://mails.dpdk.org/options/test-report>,
 <mailto:test-report-request@dpdk.org?subject=unsubscribe>
List-Archive: <http://mails.dpdk.org/archives/test-report/>
List-Post: <mailto:test-report@dpdk.org>
List-Help: <mailto:test-report-request@dpdk.org?subject=help>
List-Subscribe: <https://mails.dpdk.org/listinfo/test-report>,
 <mailto:test-report-request@dpdk.org?subject=subscribe>
Errors-To: test-report-bounces@dpdk.org

Test-Label: iol-compile-amd64-testing
Test-Status: PENDING
http://dpdk.org/patch/143069

_Testing pending_

Submitter: Yong Zhang <zhang.yong25@zte.com.cn>
Date: Monday, August 12 2024 07:31:32 
DPDK git baseline: Repo:dpdk
  Branch: master
  CommitID:cb9187bc5c2b4bab0ad80194ac3b60491de14e8c

143065-143069 --> testing pending

Upstream job id: Windows-Compile-DPDK-Mingw64#21442

Test environment and result as below:

+---------------------+--------------------+----------------------+-------------------+
|     Environment     | dpdk_meson_compile | dpdk_mingw64_compile | dpdk_msvc_compile |
+=====================+====================+======================+===================+
| Windows Server 2019 | PASS               | PASS                 | SKIPPED           |
+---------------------+--------------------+----------------------+-------------------+
| Windows Server 2022 | PEND               | PEND                 | PEND              |
+---------------------+--------------------+----------------------+-------------------+
| FreeBSD 13.3        | PASS               | SKIPPED              | SKIPPED           |
+---------------------+--------------------+----------------------+-------------------+
| FreeBSD 14.1        | PEND               | SKIPPED              | SKIPPED           |
+---------------------+--------------------+----------------------+-------------------+


Windows Server 2019
	Kernel: 10.0.17763
	Compiler: clang 14.0 and gcc 8.1.0 (MinGW)

Windows Server 2022
	Kernel: 10.0.20348.2031
	Compiler: clang 15.0.7, gcc 8.1.0 (MinGW), and MSVC VS 17.9

FreeBSD 13.3
	Kernel: 13.3-RELEASE-p1
	Compiler: clang 17.0.6

FreeBSD 14.1
	Kernel: 14.1
	Compiler: clang 18.1.5

To view detailed results, visit:
https://lab.dpdk.org/results/dashboard/patchsets/30765/

UNH-IOL DPDK Community Lab

To manage your email subscriptions, visit: 
https://lab.dpdk.org/results/dashboard/preferences/subscriptions/