From mboxrd@z Thu Jan  1 00:00:00 1970
Return-Path: <test-report-bounces@dpdk.org>
Received: from mails.dpdk.org (mails.dpdk.org [217.70.189.124])
	by inbox.dpdk.org (Postfix) with ESMTP id E35FD457A0
	for <public@inbox.dpdk.org>; Mon, 12 Aug 2024 12:13:52 +0200 (CEST)
Received: from mails.dpdk.org (localhost [127.0.0.1])
	by mails.dpdk.org (Postfix) with ESMTP id DB67B402C3;
	Mon, 12 Aug 2024 12:13:52 +0200 (CEST)
Received: from mail-pj1-f99.google.com (mail-pj1-f99.google.com
 [209.85.216.99]) by mails.dpdk.org (Postfix) with ESMTP id C3F714029C
 for <test-report@dpdk.org>; Mon, 12 Aug 2024 12:13:51 +0200 (CEST)
Received: by mail-pj1-f99.google.com with SMTP id
 98e67ed59e1d1-2cb4b7fef4aso3277323a91.0
 for <test-report@dpdk.org>; Mon, 12 Aug 2024 03:13:51 -0700 (PDT)
DKIM-Signature: v=1; a=rsa-sha256; c=relaxed/relaxed;
 d=iol.unh.edu; s=unh-iol; t=1723457631; x=1724062431; darn=dpdk.org;
 h=references:in-reply-to:cc:to:from:subject:message-id:date:from:to
 :cc:subject:date:message-id:reply-to;
 bh=r8bTShwSx8jrLteuLd9bf7cPk9POlMbJsE2N4rN/gIg=;
 b=Pl0bYfjPuC/JM9lN0aY+5qnbD5VTpdN9/kMU7ft38hIfCSBOsAR1JMfoZXCiNHSZ3T
 lW3C5G6j6V9ftf+EZI2KgQO/HS2QqZMJNMNrWuSom8kj84dAukAS8ZWDE3mXqIg1hmnl
 5XQR4tA5SFxNDHCHOgm+4iA0t/Z9ITn7zHr4U=
X-Google-DKIM-Signature: v=1; a=rsa-sha256; c=relaxed/relaxed;
 d=1e100.net; s=20230601; t=1723457631; x=1724062431;
 h=references:in-reply-to:cc:to:from:subject:message-id:date
 :x-gm-message-state:from:to:cc:subject:date:message-id:reply-to;
 bh=r8bTShwSx8jrLteuLd9bf7cPk9POlMbJsE2N4rN/gIg=;
 b=o4b2P+uCDIXbmSukRqOj/d4m7AUUuPfIA7cO0xMDSEC1ZC1FOLxw6MdaIMlOaQ/Ffz
 QcrtonlA4OsRILaYc3xA5MhYCElRSiuZOOYqOvIp5bmMtq2ETYGVGi1fk9D04rgNJUvk
 ze4/cgTz1dE0unIq6CzrbLCAwdK8DY9O7SS6elreLkqqbFde6ApQ9UA31hVPAhftbiHG
 ubGVFWHs/2n+eVdjMvYUGGbNFzbhu07rJt6xS4T83S2d9rKsHemdEywNcHv6jO7/hqJE
 FGXMQXtgF6IqRNcrITq9LO3bOwYDMfkLCcyZkrvKV/fcGUrhQCobYEwK7+8tB+Jwj1e4
 B9Uw==
X-Gm-Message-State: AOJu0Yx6fhndNBjsw3QQC4lvhelpyw0L/W9ZjXTbCMhLd9iDvmTxwKGM
 XeDfMbElEHtXrsaaCuB4UbclEXHdftD/1OURbF6aj/ofcgoL9WLabDnTTSYCbQk2FlxJPw9hr57
 Rqdac1Aqdyfko6vmYnAQCgPMsIugUeIAF53jRjwYN
X-Google-Smtp-Source: AGHT+IEAJUbt+5ejVRprAQTBP1n4depNxqQ/LG8PUnQEXXaoz+HjnZ+DR7zxxzYxGQPZVZhOoq/jnXV9ONec
X-Received: by 2002:a17:90a:bb0b:b0:2c9:9c25:7581 with SMTP id
 98e67ed59e1d1-2d1e7fc602bmr9900264a91.16.1723457630826; 
 Mon, 12 Aug 2024 03:13:50 -0700 (PDT)
Received: from postal.iol.unh.edu (postal.iol.unh.edu. [132.177.123.84])
 by smtp-relay.gmail.com with ESMTPS id
 98e67ed59e1d1-2d1c9c7bcf7sm482342a91.7.2024.08.12.03.13.50
 (version=TLS1_2 cipher=ECDHE-ECDSA-AES128-GCM-SHA256 bits=128/128);
 Mon, 12 Aug 2024 03:13:50 -0700 (PDT)
X-Relaying-Domain: iol.unh.edu
Date: Mon, 12 Aug 2024 03:13:50 -0700 (PDT)
Message-ID: <66b9e05e.170a0220.3a754a.9c06SMTPIN_ADDED_MISSING@mx.google.com>
Received: from [172.21.0.6] (unknown [172.18.0.240])
 by postal.iol.unh.edu (Postfix) with ESMTP id 36C5C60526E2;
 Mon, 12 Aug 2024 06:13:50 -0400 (EDT)
Subject: |PENDING| pw143065-143069 [PATCH] [v2,5/5] raw/zxdh: add support for
From: dpdklab@iol.unh.edu
To: Test Report <test-report@dpdk.org>
Cc: dpdk-test-reports@iol.unh.edu
In-Reply-To: <20240812073209.1924286-9-zhang.yong25@zte.com.cn>
References: <20240812073209.1924286-9-zhang.yong25@zte.com.cn>
Content-Type: text/plain
X-BeenThere: test-report@dpdk.org
X-Mailman-Version: 2.1.29
Precedence: list
List-Id: automatic DPDK test reports <test-report.dpdk.org>
List-Unsubscribe: <https://mails.dpdk.org/options/test-report>,
 <mailto:test-report-request@dpdk.org?subject=unsubscribe>
List-Archive: <http://mails.dpdk.org/archives/test-report/>
List-Post: <mailto:test-report@dpdk.org>
List-Help: <mailto:test-report-request@dpdk.org?subject=help>
List-Subscribe: <https://mails.dpdk.org/listinfo/test-report>,
 <mailto:test-report-request@dpdk.org?subject=subscribe>
Errors-To: test-report-bounces@dpdk.org

Test-Label: iol-compile-amd64-testing
Test-Status: PENDING
http://dpdk.org/patch/143069

_Testing pending_

Submitter: Yong Zhang <zhang.yong25@zte.com.cn>
Date: Monday, August 12 2024 07:31:32 
DPDK git baseline: Repo:dpdk
  Branch: master
  CommitID:cb9187bc5c2b4bab0ad80194ac3b60491de14e8c

143065-143069 --> testing pending

Upstream job id: Generic-VM-DPDK-Compile-Meson#28670

Test environment and result as below:

+---------------------+--------------------+----------------------+-------------------+
|     Environment     | dpdk_meson_compile | dpdk_mingw64_compile | dpdk_msvc_compile |
+=====================+====================+======================+===================+
| Windows Server 2019 | PASS               | PASS                 | SKIPPED           |
+---------------------+--------------------+----------------------+-------------------+
| Windows Server 2022 | PASS               | PEND                 | PEND              |
+---------------------+--------------------+----------------------+-------------------+
| FreeBSD 13.3        | PASS               | SKIPPED              | SKIPPED           |
+---------------------+--------------------+----------------------+-------------------+
| FreeBSD 14.1        | PEND               | SKIPPED              | SKIPPED           |
+---------------------+--------------------+----------------------+-------------------+


Windows Server 2019
	Kernel: 10.0.17763
	Compiler: clang 14.0 and gcc 8.1.0 (MinGW)

Windows Server 2022
	Kernel: 10.0.20348.2031
	Compiler: clang 15.0.7, gcc 8.1.0 (MinGW), and MSVC VS 17.9

FreeBSD 13.3
	Kernel: 13.3-RELEASE-p1
	Compiler: clang 17.0.6

FreeBSD 14.1
	Kernel: 14.1
	Compiler: clang 18.1.5

To view detailed results, visit:
https://lab.dpdk.org/results/dashboard/patchsets/30765/

UNH-IOL DPDK Community Lab

To manage your email subscriptions, visit: 
https://lab.dpdk.org/results/dashboard/preferences/subscriptions/