From mboxrd@z Thu Jan  1 00:00:00 1970
Return-Path: <test-report-bounces@dpdk.org>
Received: from mails.dpdk.org (mails.dpdk.org [217.70.189.124])
	by inbox.dpdk.org (Postfix) with ESMTP id 0FEB0457A0
	for <public@inbox.dpdk.org>; Mon, 12 Aug 2024 12:33:13 +0200 (CEST)
Received: from mails.dpdk.org (localhost [127.0.0.1])
	by mails.dpdk.org (Postfix) with ESMTP id 0A4A34060C;
	Mon, 12 Aug 2024 12:33:13 +0200 (CEST)
Received: from mail-pf1-f226.google.com (mail-pf1-f226.google.com
 [209.85.210.226])
 by mails.dpdk.org (Postfix) with ESMTP id CC4AB4029C
 for <test-report@dpdk.org>; Mon, 12 Aug 2024 12:33:09 +0200 (CEST)
Received: by mail-pf1-f226.google.com with SMTP id
 d2e1a72fcca58-710d1de6ee5so3197322b3a.0
 for <test-report@dpdk.org>; Mon, 12 Aug 2024 03:33:09 -0700 (PDT)
DKIM-Signature: v=1; a=rsa-sha256; c=relaxed/relaxed;
 d=iol.unh.edu; s=unh-iol; t=1723458789; x=1724063589; darn=dpdk.org;
 h=references:in-reply-to:cc:to:from:subject:message-id:date:from:to
 :cc:subject:date:message-id:reply-to;
 bh=kp8zC1kr1kTLInTm7l0l5JdN3yrjti47VgLjzVIHnSI=;
 b=TfTkEW+/hbSD6SgIvQ0Vtnul3Cn/sv7QF8ZBGMmYUddSSkfA5MsynwdGFVQrIFS4WU
 HQsoEWGkcZehwcvX3wW3nt/Un5pXgMGeJ0aMafrKhTUrJInD/KKZ13efvszxE9aa8ujO
 qcX0Q22Lj6AaRt2vnUtcJ5M1h2Xc3N/VZ5Jps=
X-Google-DKIM-Signature: v=1; a=rsa-sha256; c=relaxed/relaxed;
 d=1e100.net; s=20230601; t=1723458789; x=1724063589;
 h=references:in-reply-to:cc:to:from:subject:message-id:date
 :x-gm-message-state:from:to:cc:subject:date:message-id:reply-to;
 bh=kp8zC1kr1kTLInTm7l0l5JdN3yrjti47VgLjzVIHnSI=;
 b=kWyENd2i2fG4b9GQeTT/6rszQPsNFcj6hR27jK4ri74gOrflY6K9j+pidny98gtorC
 AgxFaI1qE4CuVf39dyBOCnj3cjv7fv+5mJdzkZvE7ZHUmC0whdGbyP5kmciQceSSE9Zb
 vP7r6WhEl6fiPNxXCS2eoJWuRpVfJZyXyt3Vw1UlOjWRJzxLL0cvP3Sna80UizkxJur6
 Zzf9m/3nPAXGlu+K7Zd7Vog2IvN3flo5EFDGJBmAVxc5gt3wFMoOht/gdY8PUsOwdJFl
 MFlfRo4HArHdjtEjsKxywXxl6qBJnUG54XW0j5nfRWoDQD5ni4pSWOXuOzh4yyZpozdJ
 RTuA==
X-Gm-Message-State: AOJu0YzvmPucDpPQOHWTxzi9OZwfnpjDPleYtWGLzvgBaKVzOJn5jpuD
 8UYrQszXfwKNQ10Zsez8vQyVNw7iGaWZM4cqyUmjEljrXIiGRDJabCBZKm/rqH88owCpMidpfgF
 Z1Kmsnuntjii1I+vaik+BYA724R6Wrfetf5+BLmV+
X-Google-Smtp-Source: AGHT+IFdEvbQvsvr/UPz55kAQCFVJBPP2/pOdHjVyGk2caDratwtme9y5XiQ+7A38bHMcLxuSc2yKAFWOBQP
X-Received: by 2002:a05:6a21:1193:b0:1c3:a63a:cee3 with SMTP id
 adf61e73a8af0-1c89ff2128dmr12160328637.13.1723458789099; 
 Mon, 12 Aug 2024 03:33:09 -0700 (PDT)
Received: from postal.iol.unh.edu (postal.iol.unh.edu. [132.177.123.84])
 by smtp-relay.gmail.com with ESMTPS id
 d9443c01a7336-200bb7fa984sm2369995ad.37.2024.08.12.03.33.08
 (version=TLS1_2 cipher=ECDHE-ECDSA-AES128-GCM-SHA256 bits=128/128);
 Mon, 12 Aug 2024 03:33:09 -0700 (PDT)
X-Relaying-Domain: iol.unh.edu
Date: Mon, 12 Aug 2024 03:33:09 -0700 (PDT)
Message-ID: <66b9e4e5.170a0220.1e9cab.e950SMTPIN_ADDED_MISSING@mx.google.com>
Received: from [172.17.0.4] (unknown [172.18.0.217])
 by postal.iol.unh.edu (Postfix) with ESMTP id 27F5460526E2;
 Mon, 12 Aug 2024 06:33:08 -0400 (EDT)
Subject: |PENDING| pw143065-143069 [PATCH] [v2,5/5] raw/zxdh: add support for
From: dpdklab@iol.unh.edu
To: Test Report <test-report@dpdk.org>
Cc: dpdk-test-reports@iol.unh.edu
In-Reply-To: <20240812073209.1924286-9-zhang.yong25@zte.com.cn>
References: <20240812073209.1924286-9-zhang.yong25@zte.com.cn>
Content-Type: text/plain
X-BeenThere: test-report@dpdk.org
X-Mailman-Version: 2.1.29
Precedence: list
List-Id: automatic DPDK test reports <test-report.dpdk.org>
List-Unsubscribe: <https://mails.dpdk.org/options/test-report>,
 <mailto:test-report-request@dpdk.org?subject=unsubscribe>
List-Archive: <http://mails.dpdk.org/archives/test-report/>
List-Post: <mailto:test-report@dpdk.org>
List-Help: <mailto:test-report-request@dpdk.org?subject=help>
List-Subscribe: <https://mails.dpdk.org/listinfo/test-report>,
 <mailto:test-report-request@dpdk.org?subject=subscribe>
Errors-To: test-report-bounces@dpdk.org

Test-Label: iol-unit-amd64-testing
Test-Status: PENDING
http://dpdk.org/patch/143069

_Testing pending_

Submitter: Yong Zhang <zhang.yong25@zte.com.cn>
Date: Monday, August 12 2024 07:31:32 
DPDK git baseline: Repo:dpdk
  Branch: master
  CommitID:cb9187bc5c2b4bab0ad80194ac3b60491de14e8c

143065-143069 --> testing pending

Upstream job id: Generic-Unit-Test-DPDK#251158

Test environment and result as below:

+---------------------+----------------+
|     Environment     | dpdk_unit_test |
+=====================+================+
| Windows Server 2019 | PASS           |
+---------------------+----------------+
| Windows Server 2022 | PASS           |
+---------------------+----------------+
| CentOS Stream 9     | PASS           |
+---------------------+----------------+
| Debian Bullseye     | PASS           |
+---------------------+----------------+
| Debian 12           | PEND           |
+---------------------+----------------+
| Fedora 37           | PEND           |
+---------------------+----------------+
| Fedora 38           | PEND           |
+---------------------+----------------+
| Fedora 38 (Clang)   | PEND           |
+---------------------+----------------+
| Fedora 39           | PEND           |
+---------------------+----------------+
| Fedora 39 (Clang)   | PEND           |
+---------------------+----------------+
| Fedora 40           | PEND           |
+---------------------+----------------+
| openSUSE Leap 15    | PEND           |
+---------------------+----------------+
| RHEL8               | PEND           |
+---------------------+----------------+
| RHEL9               | PEND           |
+---------------------+----------------+
| Ubuntu 20.04        | PEND           |
+---------------------+----------------+
| Ubuntu 22.04        | PEND           |
+---------------------+----------------+
| Ubuntu 24.04        | PEND           |
+---------------------+----------------+


Windows Server 2019
	Kernel: 10.0.17763
	Compiler: clang 14.0 and gcc 8.1.0 (MinGW)

Windows Server 2022
	Kernel: 10.0.20348.2031
	Compiler: clang 15.0.7, gcc 8.1.0 (MinGW), and MSVC VS 17.9

CentOS Stream 9
	Kernel: 5.4.0-167-generic
	Compiler: gcc 11.4.1 20230605

Debian Bullseye
	Kernel: 5.4.0-167-generic
	Compiler: gcc 10.2.1-6

Debian 12
	Kernel: Container Host Kernel
	Compiler: gcc 12.2.0

Fedora 37
	Kernel: Depends on container host system
	Compiler: gcc 12.3.1

Fedora 38
	Kernel: Depends on container host
	Compiler: gcc 13.2.1

Fedora 38 (Clang)
	Kernel: Depends on container host
	Compiler: clang 16.0.6

Fedora 39
	Kernel: Depends on container host
	Compiler: gcc 13.2.1

Fedora 39 (Clang)
	Kernel: Depends on container host
	Compiler: clang 17.0.6

Fedora 40
	Kernel: Depends on container host
	Compiler: gcc 14.1.1

openSUSE Leap 15
	Kernel: 5.4.0-167-generic
	Compiler: gcc 7.5.0

RHEL8
	Kernel: 5.4.0-167-generic
	Compiler: gcc 8.5.0 20210514 (Red Hat 8.5.0-20)

RHEL9
	Kernel: Depends on container host
	Compiler: gcc 11.4.1

Ubuntu 20.04
	Kernel: 5.4.0-167-generic
	Compiler: gcc 9.4.0-1ubuntu1~20.04.1

Ubuntu 22.04
	Kernel: 5.4.0-167-generic
	Compiler: gcc 11.4.0

Ubuntu 24.04
	Kernel: 5.4.0-167-generic
	Compiler: gcc 13.2.0

To view detailed results, visit:
https://lab.dpdk.org/results/dashboard/patchsets/30765/

UNH-IOL DPDK Community Lab

To manage your email subscriptions, visit: 
https://lab.dpdk.org/results/dashboard/preferences/subscriptions/